{"text_format":"1","workbook":"xlsx","n_sheets":8,"sheets":["Ark3","Ark1","Ark2","Dræning","Fordeling af arbejdsopgaver","Ark5","Ark7","Ark4"],"not_rendered":{"charts":8,"images":12,"macros":1,"external_links":2,"defined_names":370,"comments":4,"pivot_tables":0},"unopened":[],"bounds":{"document_bytes":16777216,"sheet_cells":100000,"rows_first":2000,"rows_last":500,"rows_between":2000,"halvings":0,"cell_chars":16384,"cell_head_chars":4096},"cells_cut":0,"cells_raw":0,"read":"whole","date_system":"1900"}

{"sheet":"Ark3","index":0,"n_rows":45,"n_cols":3,"rows_kept":45,"cut":false,"hidden":false,"merged":[[26,2,26,4],[38,2,38,4],[41,2,41,4],[43,2,43,4],[44,2,44,4],[27,2,27,4],[29,2,29,4],[31,2,31,4],[32,2,32,4],[34,2,34,4],[42,2,42,4],[40,2,40,4],[33,2,33,4],[36,2,36,4],[28,2,28,4],[39,2,39,4],[13,2,13,4],[14,2,14,4],[15,2,15,4],[16,2,16,4],[17,2,17,4],[21,2,21,4],[22,2,22,4],[23,2,23,4],[24,2,24,4],[25,2,25,4]]}
[]
[]
[null,"Udgiver:","SEGES Innovation P/S"]
[]
[null,"Udgivelsesdato:","2023-04-27"]
[null,"Forfatter:","Michael Højholdt / Jacob Krog (\"Økonomi i afgrøder og sædskifter\" 1.0 af Søren Kolind Hvid)"]
[null,"Version:","2.45 (tilpasset til specifik modellering af tab ved oversvømmelser)"]
[null,"Datagrundlag og opdateringsfrekvens:","Opdateres efterår, senest grundlag er kalkuler for 2023. Giv agt på prisudvikling i forhold til normtal mv."]
[null,"Dokument:","Se artikel"]
[null,"Ansvar:","Se vilkår"]
[]
[]
[null,"Introduktion til regnearket"]
[null,"Angiv formål og målgruppe","Formålet med regnearket er at understøtte planlægning og modellering i markbruget af f.eks. nye afgrøder, afgrødesammensætninger og dyrkningsmetoder. Målgruppen er primært landmænd og landbrugsrådgivere."]
[null,"Anbefalet anvendelse af værktøjet","Økonomi i afgrøder og sædskifter: Værktøjet kan anvendes til at give et bud på økonomien ved dyrkning af forskellige afgrøder og sædskifter under forskellige vilkår. Udbytter og omkostninger er estimeret med basis i afgrødekalkuler og kan tilpasses forhold og dyrkningsmetoder på bedriften. Forfrugtsværdi, husdyrgødning, om man er kornkøber eller -sælger, halmnedmuldning, tørring og lagring kan indregnes i de økonomiske konkurrenceforhold. Der findes uddybede forslag til anvendelse i den faglige vejledning nedenfor.\n\nSædskifteplan: Dette regneark kan anvendes til at opstille en sædskifteplan med op til 3 delsædskifter på en bedrift. Placering af efterafgrøder i sædskiftet kan angives. Endvidere beregnes produktionen af korn til svinefoder. Svinebesætningens foderbehov (korn) kan beregnes. Sædskifteplan er ikke sammenkædet med Økonomi i afgrøder og sædskifter.\n"]
[null,"Begrænsninger i værktøjet","Værktøjet er baseret på normtal, og derfor vil resultaterne for hvert scenarie ikke nødvendigvis matche bedriftens egne tal. Forskellen mellem scenarier forventes dog give et godt bud på den konsekvens, man vil opleve i driften. I vejledning til anvendelse af værktøjet ses forslag til, hvordan normværdier kan tilpasses individuelle forhold.  \n\nVær opmærksom på, at der ingen kontrol er af, at det indtastede afgrødevalg og efterafgrødevalg kan lade sig gøre, om der er risiko for opformering af sygdomme eller ukrudt, om gældende efterafgrødekrav og lovgivning overholdes etc. "]
[null,"Vejledning","Udfyld \"bedriftsspecifikke oplysninger\" (JB, håndtering af halm, husdyrgødning mv.) og justér evt. \"standardforudsætninger\" (forhold omkring næringsstoffer mv.). \nOpret evt. egen afgrøde, og definer afgrødevalg/sædskifter til sammenligning. \nAnvend de givne forslag til udbytter og priser eller justér efter behov.\nVed modellering af ændring ved f.eks. nyt dyrkningssystem, er der mulighed for at støtte sig til faglige vejledninger,se nedenfor."]
[null,"Funktion og makroer","Husk at aktivere makroer i Excel"]
[]
[]
[null,"Faglig vejledning til økonomi i afgrøder og sædskifter"]
[null,"Hvis du vil…","...kan du gøre følgende"]
[null,"  … estimere økonomi ved en ændring i afgrødesammensætning, f.eks. supplere korndyrkning med dyrkning af specialafgrøde ","Definere eksisterende afgrødesammensætning i sædskifte 1.\n\nDefinere alternativ afgrødesammensætning i sædskifte 2.\n\nJustere diverse forudsætninger til bedriftens forhold og forventninger.\n\nHuske at dyrkning af mange specialafgrøder kræver kontrakt, muligheden for at få en sådan skal undersøges. \n\nVurdere dyrkningssikkerheden på de to afgrødesammensætninger i forhold til hinanden. \n\nVurdere sandsynligheden for prisudsving i de to afgrødesammensætninger; lav en følsomhedanalyse med høje/lave priser - du kan gemme regneark med forskellige valg af forudsætninger under passende forskellige navne og dermed hurtigt sammenligne ændringer i dine forudsætninger efter behov.\n\nInddragelse af efterafgrøder beregnes kun som omkostninger til etablering og gevinst ved sparet N. Regnearket kan ikke anvendes til optimering af efterafgrødevalg mv. \nHvis der mangler plads til flere afgrøder, kan efterafgrøder evt. kan puljes i én samlet efterafgrøde og dermed spare plads i den økonomiske beregning. Anvend sædskifteplanerne i funktionen \"sædskifteplan\" for at vise den samlede afgrødefølge; her er plads til flere afgrøder i sædskifterne og dermed god plads til at vise efterafgrøder efter hovedafgrøder."]
[null,"  … estimere økonomi for en afgrøde, der ikke findes norm eller afgrødekalkule for ","Oprette egen afgrøde i værktøjet umiddelbart efter indtastning af bedriftsspecifikke oplysninger og standardforudsætninger.\n\nAngive afgrødens navn, forventet udbytte, afgrødepris, og evt. sekundært udbytte (halm), forfrugtsværdi, stykomkostninger, N,P og K mængde, omkostninger til planteværn, diverse, maskiner og arbejde samt tørring. \n\nFinde hjælp til at anslå disse niveauer ved eventuelt sammenlignelige afgrøder via afgrødekalkulerne på farmtal.dk. \n\nUndersøge om der findes udenlandske erfaringer som med fordel kan inddrages i overvejelserne.\n\nHuske det kan være vigtigt at foretage vurdering af risici ved dyrkning af \"nye\" afgrøder, herunder dyrkningssikkerhed og sikkerhed for afsætning.\n"]
[null,"  ... regne på at ændre din maskinpark og sælge maskinstationsydelser til andre","Analysere nuværende maskinomkostninger med en maskinanalyse, kan foretages i planlægningsværktøjet FMS.\n\nOpstille forventet \"ny maskinpark\" og beregne tidsforbrug og økonomi i denne - igen i FMS. Husk egen anvendelse og opstille salgsmål på basis af maskinanalysen og lave en vurdering af totaløkonomi i forhold til indtjening og risiko. Inddrag en vurdering af behov for arbejdskraft. Brug evt. \"Maskintid\" (se link nedenfor) til at vurdere arbejdskraftbehov og spidsbelastninger.\n"]
[null,"   …regne på at ændre dyrkning fra pløjning til reduceret jordbearbejdning eller til no till / conservation agriculture","Definere eksisterende afgrødesammensætning i sædskifte 1.\n\nDefinere alternativ afgrødesammensætning i sædskifte 2, herunder ændret forhold mellem vintersæd og vårsæd, og behov for efterafgrøder. Se kommentar om efterafgrøder ved beregning af sædskifteøkonomi ovenfor.\n\nJustere diverse forudsætninger til bedriftens forhold og forventninger, herunder udbytteniveau og indkøringstab. Bemærk ved anvendelse af beregning af tidsforbrug at tilpasse de udførte maskinopgaver til forventede forhold, herunder med fokus på jordbearbejdning og planteværn.\n\nMaskin- og arbejdsomkostninger bør være i fokus. Hvis ikke der er udarbejdet maskinanalyse og maskinstrategi for omlægning med FMS, bør det gøres. Brug evt. tal fra din driftsgrensanalyse eller lav en grovanalyse med Din Bundlinje Mark som udgangspunkt.\n\nI mange tilfælde vil en sådan omlægning medføre investeringer i nye maskiner, der de første år kan påvirke de samlede maskin- og arbejdsomkostninger i opadgående retning. På lidt længere sigt bør det være muligt at realisere et lavere niveau for maskin- og arbejdsomkostninger end før omlægning hvis jordbearbejdning reduceres eller helt fjernes. \n\nVær opmærksom på, om frigjorte arbejdstimer fra marken kan aflønnes af andet værdiskabende arbejde eller bliver ufordelt omkostning som alligevel skal aflønnes."]
[null,"… vurdere økonomien ved økologisk produktion ","Der findes særskilte værktøjer og metoder til omlægningstjek indenfor økologi. Kontakt din lokale økologirådgiver eller ICOEL (Innovationscenter for Økologisk Landbrug) for at høre mere. \n\nHvis du ønsker at anvende nærværende værktøj til groft at estimere konsekvenser i en sådan situation, kan du anvende de økologiske afgrøder der er udarbejdet kalkuler for i værktøjet, under hensyntagen til management og f.eks. fokus på bekæmpelse af rodukrudt. \n\nØnsker du at anvende beregning af forfrugtsværdi, så husk at tilrette værdien heraf til økologisk. Et alternativ er selv at estimere udbytterne inkl. forfrugtsværdi for den enkelte afgrøde. \n\nVed modellering af økologiske sædskifter er der behov for at være ekstra opmærksom på næringsstoftilførslen, da økologiske bedrifter ikke har samme muligheder for at øge tildelingen af N som konventionelle bedrifter.\n\nKendskabet til nuværende næringsstofforsyning og dennes effekt på udbytteniveauer er afgørende for om udbytteniveau og gødningsomkostning i værktøjet stemmer overens med virkeligheden.\nSåfremt der er behov for at øge tildeling af P og K, giver gødningsværktøjet til økologer (link nedenfor) et overblik over mulige produkter og priser. \n\nHusk at næringsstoffer betyder meget for udbytter, omkostninger og tilskud. Hvis der ikke fuldgødskes med gylle, indregner værktøjet køb af N til den pris, der opgives i standardforudsætninger. Hvis der indkøbes gødning så husk at tilrette pris. Indkøbes der ikke gødning så husk at sætte omkostning = 0.\n\nHusk, at der findes en række tilskudsmuligheder for økologisk produktion. Se den opdaterede liste på www.farmtal.dk > støtteordninger:  \n- økologitilskud 870 kr. pr. ha \n- omlægningstilskud 1.200 pr. år \n- reduceret N tildeling tilskud 500 kr. pr. ha\n- frugt og bær tilllæg kr. 4.000 pr. ha\n\n"]
[null,"   …vurdere økonomien i en forpagtning ","Anvend nedenstående regneark vedrørende økonomi i forpagtninger, hvori der findes oplysninger om niveauer for forpagtningsafgift og mulighed for at beregne økonomi med inddragelse af øndring i dyrket areal også i form af forpagtninger. \n\nTilpas evt. værktøjet med oplysninger om indtjening i marken fra nærværende \"Økonomi i afgrøder og sædskifter\"."]
[null,"…inddrage transportomkostninger i din beregning","Anvende tommelfingerregler eller egne beregninger fra værktøj til beregning af transportomkostninger. De beregnede årlige omkostninger kan indarbejdes i maskin- og arbejdsomkostninger i nærværende program. Se link til beregning af bedrifts- og afgrødespecifikke transportomkostninger nedenfor. \n\nTommelfingerreglerne er: \nDyrkning af korn med handelsgødning og nedmuldning af halm koster ca. 100 kr. pr. km pr. ha pr. år\nDyrkning af korn med gylle og bjærgning af halm eller majs til helsæd koster ca. 200 kr. pr. km pr. ha pr. år\nDyrkning af græs til slæt med gylle koster ca. 300 kr. pr. km pr. ha pr. år "]
[null,"   …sammenholde normtal med din egen præstation","Find inspiration i Business Check hvor der findes gennemsnitstal og fraktilanalyser for indtægter og omkostninger for både salgsafgrøder og grovfoder. \n\nFå lavet egen driftsgrensanalyse hos din rådgivningsvirksomhed, og start eventuelt med at lave egen grovanalyse med værktøjet \"Din Bundlinje Mark\".\n\n"]
[]
[null,"Links til viden og værktøjer"]
[null,"Emne ","Links "]
[null,"Afgrødekalkuler på farmtal.dk","https://farmtalonline.dlbr.dk/Navigation/NavigationTree.aspx"]
[null,"Økonomi ved forpagtning","https://www.landbrugsinfo.dk/basis/f/e/a/produktionsokonomi_regneark_okonomi_ved_forpagtning_opdateret  "]
[null,"Maskintid - sæsonbelastning i marken","https://www.landbrugsinfo.dk/basis/8/7/1/oekonomi_saet_fokus_paa_de_travle_perioder_markdriften  "]
[null,"Transportomkostninger mark-lagre t/r","https://www.landbrugsinfo.dk/public/3/1/6/produktionsokonomi_hvor_meget_koster_transportopgaverne "]
[null,"Markstørrelse, markform, kapacitet","https://www.landbrugsinfo.dk/public/9/0/e/planter_beregn_arbejdsbehovet_ved_markarbejde "]
[null,"FMS - maskinanalyse","https://www.landbrugsinfo.dk/public/e/e/7/produktionsokonomi_planlag_arbejdet_med_vaerktojet_fms "]
[null,"Investeringsberegning maskiner mv.","https://www.landbrugsinfo.dk/public/6/b/5/oekonomi_investeringsberegning_grafisk_foelsomhedsanalyse"]
[null,"Økonomi ved lagring af korn","https://www.landbrugsinfo.dk/public/6/d/3/oekonomi_ved_lagring_af_korn "]
[null,"Conservation agriculture","https://www.landbrugsinfo.dk/basis/1/a/a/jord_bearbejdning_conservation_agriculture "]
[null,"Gødning økologi","https://oko-godning.dk/ "]
[null,"Sammenligningstal - Din Bundlinje Mark","https://www.landbrugsinfo.dk/basis/2/7/3/planter_regnearket_din_bundlinje_mark_klar_til_brug "]
[null,"Sammenligningstal - Business Check","https://www.landbrugsinfo.dk/basis/b/8/8/produktionsokonomi_nyeste_version_business_check"]

{"sheet":"Ark1","index":1,"n_rows":607,"n_cols":153,"rows_kept":607,"cut":false,"hidden":false,"merged":[[184,18,188,20],[5,18,12,23],[85,18,89,21],[27,3,27,4],[17,3,17,4],[19,3,19,4],[21,3,21,4],[23,3,23,4],[25,3,25,4],[29,3,29,4],[31,3,31,4],[33,3,33,4],[39,18,41,23],[64,18,68,21],[39,3,39,13],[45,5,45,7],[285,26,285,30],[219,10,219,11],[220,10,220,11],[221,10,221,11],[223,10,223,11],[224,10,224,11],[226,10,226,11],[227,10,227,11],[229,10,229,11],[231,10,231,11],[232,10,232,11],[225,10,225,11],[237,18,239,20],[505,18,514,21],[235,10,235,11],[433,10,434,11],[233,10,233,11],[468,18,476,21],[395,18,404,21],[348,18,354,21],[437,18,446,21],[384,18,390,21],[239,10,239,11],[415,1,416,1],[433,1,434,2],[299,3,299,4],[220,2,220,3],[239,2,239,3],[229,2,229,3],[231,2,231,3],[238,2,238,3],[232,2,232,3],[235,2,235,3],[313,3,313,4],[397,1,398,1],[390,2,390,3],[309,3,309,4],[303,3,303,4],[286,3,286,4],[223,2,223,3],[224,2,224,3],[225,2,225,3],[226,2,226,3],[224,6,224,7],[223,6,223,7],[225,6,225,7],[305,3,305,4],[64,1,65,1],[307,3,307,4],[231,6,231,7],[232,6,232,7],[233,6,233,7],[226,6,226,7],[219,2,219,3],[219,6,219,7],[233,2,233,3],[229,6,229,7],[220,6,220,7],[227,2,227,3],[227,6,227,7],[221,2,221,3],[221,6,221,7],[0,1,0,10],[315,3,315,4],[291,3,291,4],[293,3,293,4],[295,3,295,4],[311,3,311,4],[4,6,4,7],[6,6,6,7],[8,6,8,7],[297,3,297,4],[301,3,301,4],[211,1,211,2],[85,1,86,1],[235,6,235,7],[238,6,238,7],[239,6,239,7],[50,5,50,7],[51,5,51,7],[42,2,42,5],[45,10,46,13],[46,5,46,8]]}
[null,"Økonomi i afgrøder og sædskifter 2023"]
[]
[null,"Bedriftsoplysninger"]
[null,null,null,null,null,null,null,null,null,null,null,null,null,null,null,null,null,null,null,null,null,null,null,null,null,null,null,null,null,null,null,null,null,null,null,null,null,null,null,null,null,null,null,null,null,null,null,null,null,null,null,null,null,null,null,null,null,null,null,null,null,null,null,null,null,null,null,null,null,null,null,null,null,null,null,null,null,null,null,null,null,null,null,null,null,null,null,null,null,null,null,null,null,null,null,null,null,null,null,"JB_rækkenr.","Udbytte","N-gødning","Lager_rækkenr","Lagernr",null,null,null,null,null,null,null,"Husdyrgødning","100 kg N pr. ha"]
[null,"Jordtype",null,null,null,null,"Lager til korn",null,null,null,null,null,null,null,null,null,null,null,null,null,null,null,null,null,null,null,null,null,null,null,null,null,null,null,null,null,null,null,null,null,null,null,null,null,null,null,null,null,null,null,null,null,null,null,null,null,null,null,null,null,null,null,null,null,null,null,null,null,null,null,null,null,null,null,null,null,null,null,null,null,null,null,null,null,null,null,null,null,null,null,null,null,null,null,null,null,null,null,null,4,{"$f":"IF(CV5=1,5,IF(CV5=2,6,IF(CV5=3,7,IF(CV5=4,8,IF(CV5=5,9,\"\")))))","v":8},{"$f":"IF(CV5=1,25,IF(CV5=2,26,IF(CV5=3,27,IF(CV5=4,28,IF(CV5=5,29,\"\")))))","v":28},2,{"$f":"IF(CY5=1,1,IF(CY5=2,BQ285,IF(CY5=3,BR285,BS285)))","v":52},null,null,null,null,null,null,null,null,"(DE/ha)","N","P","K"]
[null,null,null,null,null,null,null,null,null,null,null,null,null,null,null,null,null,null,null,null,null,null,null,null,null,null,null,null,null,null,null,null,null,null,null,null,null,null,null,null,null,null,null,null,null,null,null,null,null,null,null,null,null,null,null,null,null,null,null,null,null,null,null,null,null,null,null,null,null,null,null,null,null,null,null,null,null,null,null,null,null,null,null,null,null,null,null,null,null,null,null,null,null,null,null,null,null,null,null,"Halm","Halm_rækkenr.","Maskinomkostninger","Tørring_rækkenr.","Tørrenr",null,null,null,null,null,null,1,"Ingen",0,0,0,0,null,"ton gylle pr. DE",22.2]
[null,"Halm bjærges/nedmuldes",null,null,null,null,"Tørring af korn",null,null,null,null,null,null,null,null,null,null,null,null,null,null,null,null,null,null,null,null,null,null,null,null,null,null,null,null,null,null,null,null,null,null,null,null,null,null,null,null,null,null,null,null,null,null,null,null,null,null,null,null,null,null,null,null,null,null,null,null,null,null,null,null,null,null,null,null,null,null,null,null,null,null,null,null,null,null,null,null,null,null,null,null,null,null,null,null,null,null,null,null,1,{"$f":"IF($CV$7=1,IF($CV$5=1,10,IF($CV$5=2,11,IF($CV$5=3,12,IF($CV$5=4,13,IF($CV$5=5,14,\"\"))))))","v":13},{"$f":"IF($CV$7=1,IF($CV$5=1,39,IF($CV$5=2,40,IF($CV$5=3,41,IF($CV$5=4,42,IF($CV$5=5,43,\"\"))))),IF($CV$5=1,44,IF($CV$5=2,45,IF($CV$5=3,46,IF($CV$5=4,47,IF($CV$5=5,48,\"\"))))))","v":42},1,{"$f":"IF(Tørringnr=1,BN285,BO285)","v":49},null,null,null,null,null,null,2,"10 kg N svin",0.1,{"$f":"DI7*$D$298*UdnytNsvin*0.01","v":8},{"$f":"DI7*$D$300","v":2.5},{"$f":"DI7*$D$302","v":5},null,"DE/ha (100 kg N pr. ha)",{"$f":"VLOOKUP(Hdgnr,_Hdg2,3)","v":0.3}]
[null,null,null,null,null,null,null,null,null,null,null,null,null,null,null,null,null,null,null,null,null,null,null,null,null,null,null,null,null,null,null,null,null,null,null,null,null,null,null,null,null,null,null,null,null,null,null,null,null,null,null,null,null,null,null,null,null,null,null,null,null,null,null,null,null,null,null,null,null,null,null,null,null,null,null,null,null,null,null,null,null,null,null,null,null,null,null,null,null,null,null,null,null,null,null,null,null,null,null,"Kornkøber","Kornkøber / - sælger",null,"Foderenheder",null,null,null,null,null,null,null,3,"10 kg N kvæg",0.1,{"$f":"DI8*$D$304*UdnytNkvæg*0.01","v":7.5},{"$f":"DI8*$D$306","v":1.7000000000000002},{"$f":"DI8*$D$308","v":6.7},null,"Tildelt ton gylle pr. ha",{"$f":"ton_DE*DE_ha","v":6.6599999999999993}]
[null,"Kornsælger eller kornkøber",null,null,null,null,"Foderenheder",null,null,null,null,null,null,null,null,null,null,null,null,null,null,null,null,null,null,null,null,null,null,null,null,null,null,null,null,null,null,null,null,null,null,null,null,null,null,null,null,null,null,null,null,null,null,null,null,null,null,null,null,null,null,null,null,null,null,null,null,null,null,null,null,null,null,null,null,null,null,null,null,null,null,null,null,null,null,null,null,null,null,null,null,null,null,null,null,null,null,null,null,1,{"$f":"IF(CV9=2,IF(CV5=1,5,IF(CV5=2,6,IF(CV5=3,7,IF(CV5=4,8,IF(CV5=5,9,\"\"))))),\"\")","v":""},null,2,null,null,null,null,null,null,null,4,"30 kg N svin",0.3,{"$f":"DI9*$D$298*UdnytNsvin*0.01","v":24},{"$f":"DI9*$D$300","v":7.5},{"$f":"DI9*$D$302","v":15}]
[null,null,null,null,null,null,null,null,null,null,null,null,null,null,null,null,null,null,null,null,null,null,null,null,null,null,null,null,null,null,null,null,null,null,null,null,null,null,null,null,null,null,null,null,null,null,null,null,null,null,null,null,null,null,null,null,null,null,null,null,null,null,null,null,null,null,null,null,null,null,null,null,null,null,null,null,null,null,null,null,null,null,null,null,null,null,null,null,null,null,null,null,null,null,null,null,null,null,null,"Hdg_rækkenr","Styk uden eller med husdyrgødning",null,null,null,null,null,null,null,null,null,5,"30 kg N kvæg",0.3,{"$f":"DI10*$D$304*UdnytNkvæg*0.01","v":22.5},{"$f":"DI10*$D$306","v":5.0999999999999996},{"$f":"DI10*$D$308","v":20.099999999999998}]
[null,"Husdyrgødning",null,null,null,null,null,null,null,null,null,null,null,null,null,null,null,null,null,null,null,null,null,null,null,null,null,null,null,null,null,null,null,null,null,null,null,null,null,null,null,null,null,null,null,null,null,null,null,null,null,null,null,null,null,null,null,null,null,null,null,null,null,null,null,null,null,null,null,null,null,null,null,null,null,null,null,null,null,null,null,null,null,null,null,null,null,null,null,null,null,null,null,null,null,null,null,null,null,5,{"$f":"IF(CV11=1,IF($CV$5=1,21,IF($CV$5=2,22,IF($CV$5=3,23,IF($CV$5=4,24,IF($CV$5=5,25,\"\"))))),IF($CV$5=1,26,IF($CV$5=2,27,IF($CV$5=3,28,IF($CV$5=4,29,IF($CV$5=5,30,\"\"))))))","v":29},null,null,null,null,null,null,null,null,null,6,"50 kg N svin",0.5,{"$f":"DI11*$D$298*UdnytNsvin*0.01","v":40},{"$f":"DI11*$D$300","v":12.5},{"$f":"DI11*$D$302","v":25}]
[null,null,null,null,null,null,null,null,null,null,null,null,null,null,null,null,null,null,null,null,null,null,null,null,null,null,null,null,null,null,null,null,null,null,null,null,null,null,null,null,null,null,null,null,null,null,null,null,null,null,null,null,null,null,null,null,null,null,null,null,null,null,null,null,null,null,null,null,null,null,null,null,null,null,null,null,null,null,null,null,null,null,null,null,null,null,null,null,null,null,null,null,null,null,null,null,null,null,null,null,"Forfrugtsværdi",null,null,null,null,null,null,null,null,null,7,"50 kg N kvæg",0.5,{"$f":"DI12*$D$304*UdnytNkvæg*0.01","v":37.5},{"$f":"DI12*$D$306","v":8.5},{"$f":"DI12*$D$308","v":33.5}]
[null,"Forfrugtsværdi til forfrugten",null,null,null,null,null,null,null,null,null,null,null,null,null,null,null,null,null,null,null,null,null,null,null,null,null,null,null,null,null,null,null,null,null,null,null,null,null,null,null,null,null,null,null,null,null,null,null,null,null,null,null,null,null,null,null,null,null,null,null,null,null,null,null,null,null,null,null,null,null,null,null,null,null,null,null,null,null,null,null,null,null,null,null,null,null,null,null,null,null,null,null,null,null,null,null,null,null,2,{"$f":"IF(CV13=1,IF($CV$5=1,15,IF($CV$5=2,16,IF($CV$5=3,17,IF($CV$5=4,18,IF($CV$5=5,19,\"\"))))))","v":false},null,null,null,null,null,null,null,null,null,8,"70 kg N svin",0.7,{"$f":"DI13*$D$298*UdnytNsvin*0.01","v":56},{"$f":"DI13*$D$300","v":17.5},{"$f":"DI13*$D$302","v":35}]
[null,null,null,null,null,null,null,null,null,null,null,null,null,null,null,null,null,null,null,null,null,null,null,null,null,null,null,null,null,null,null,null,null,null,null,null,null,null,null,null,null,null,null,null,null,null,null,null,null,null,null,null,null,null,null,null,null,null,null,null,null,null,null,null,null,null,null,null,null,null,null,null,null,null,null,null,null,null,null,null,null,null,null,null,null,null,null,null,null,null,null,null,null,null,null,null,null,null,null,null,null,null,null,null,null,null,null,null,null,null,9,"70 kg N kvæg",0.7,{"$f":"DI14*$D$304*UdnytNkvæg*0.01","v":52.5},{"$f":"DI14*$D$306","v":11.899999999999999},{"$f":"DI14*$D$308","v":46.9}]
[null,null,null,null,null,null,null,null,null,null,null,null,null,null,null,null,null,null,null,null,null,null,null,null,null,null,null,null,null,null,null,null,null,null,null,null,null,null,null,null,null,null,null,null,null,null,null,null,null,null,null,null,null,null,null,null,null,null,null,null,null,null,null,null,null,null,null,null,null,null,null,null,null,null,null,null,null,null,null,null,null,null,null,null,null,null,null,null,null,null,null,null,null,null,null,null,null,null,null,null,null,null,null,null,null,null,null,null,null,null,10,"80 kg N svin",0.8,{"$f":"DI15*$D$298*UdnytNsvin*0.01","v":64},{"$f":"DI15*$D$300","v":20},{"$f":"DI15*$D$302","v":40}]
[null,"Standardforudsætninger",null,null,null,null,null,null,null,null,null,null,null,null,null,null,null,null,null,null,null,null,null,null,null,null,null,null,null,null,null,null,null,null,null,null,null,null,null,null,null,null,null,null,null,null,null,null,null,null,null,null,null,null,null,null,null,null,null,null,null,null,null,null,null,null,null,null,null,null,null,null,null,null,null,null,null,null,null,null,null,null,null,null,null,null,null,null,null,null,null,null,null,null,null,null,null,null,null,null,null,null,null,null,null,null,null,null,null,null,11,"80 kg N kvæg",0.8,{"$f":"DI16*$D$304*UdnytNkvæg*0.01","v":60},{"$f":"DI16*$D$306","v":13.600000000000001},{"$f":"DI16*$D$308","v":53.6}]
[null,null,null,null,null,null,null,null,null,null,null,null,null,null,null,null,null,null,null,null,null,null,null,null,null,null,null,null,null,null,null,null,null,null,null,null,null,null,null,null,null,null,null,null,null,null,null,null,null,null,null,null,null,null,null,null,null,null,null,null,null,null,null,null,null,null,null,null,null,null,null,null,null,null,null,null,null,null,null,null,null,null,null,null,null,null,null,null,null,null,null,null,null,null,null,null,null,null,null,null,null,null,null,null,null,null,null,null,null,null,12,"90 kg N svin",0.9,{"$f":"DI17*$D$298*UdnytNsvin*0.01","v":72},{"$f":"DI17*$D$300","v":22.5},{"$f":"DI17*$D$302","v":45}]
[null,"Kvælstofpris",null,12,null,"pr. kg",null,null,null,null,null,null,null,null,null,null,null,null,null,null,null,null,null,null,null,null,null,null,null,null,null,null,null,null,null,null,null,null,null,null,null,null,null,null,null,null,null,null,null,null,null,null,null,null,null,null,null,null,null,null,null,null,null,null,null,null,null,null,null,null,null,null,null,null,null,null,null,null,null,null,null,null,null,null,null,null,null,null,null,null,null,null,null,null,null,null,null,null,null,null,null,null,null,null,null,null,null,null,null,null,13,"90 kg N kvæg",0.9,{"$f":"DI18*$D$304*UdnytNkvæg*0.01","v":67.5},{"$f":"DI18*$D$306","v":15.3},{"$f":"DI18*$D$308","v":60.300000000000004}]
[null,null,null,null,null,null,null,null,null,null,null,null,null,null,null,null,null,null,null,null,null,null,null,null,null,null,null,null,null,null,null,null,null,null,null,null,null,null,null,null,null,null,null,null,null,null,null,null,null,null,null,null,null,null,null,null,null,null,null,null,null,null,null,null,null,null,null,null,null,null,null,null,null,null,null,null,null,null,null,null,null,null,null,null,null,null,null,null,null,null,null,null,null,null,null,null,null,null,null,null,null,null,null,null,null,null,null,null,null,null,14,"100 kg N svin",1,{"$f":"DI19*$D$298*UdnytNsvin*0.01","v":80},{"$f":"DI19*$D$300","v":25},{"$f":"DI19*$D$302","v":50}]
[null,"Fosforpris",null,17,null,"pr. kg",null,null,null,null,null,null,null,null,null,null,null,null,null,null,null,null,null,null,null,null,null,null,null,null,null,null,null,null,null,null,null,null,null,null,null,null,null,null,null,null,null,null,null,null,null,null,null,null,null,null,null,null,null,null,null,null,null,null,null,null,null,null,null,null,null,null,null,null,null,null,null,null,null,null,null,null,null,null,null,null,null,null,null,null,null,null,null,null,null,null,null,null,null,null,null,null,null,null,null,null,null,null,null,null,15,"100 kg N kvæg",1,{"$f":"DI20*$D$304*UdnytNkvæg*0.01","v":75},{"$f":"DI20*$D$306","v":17},{"$f":"DI20*$D$308","v":67}]
[null,null,null,null,null,null,null,null,null,null,null,null,null,null,null,null,null,null,null,null,null,null,null,null,null,null,null,null,null,null,null,null,null,null,null,null,null,null,null,null,null,null,null,null,null,null,null,null,null,null,null,null,null,null,null,null,null,null,null,null,null,null,null,null,null,null,null,null,null,null,null,null,null,null,null,null,null,null,null,null,null,null,null,null,null,null,null,null,null,null,null,null,null,null,null,null,null,null,null,null,null,null,null,null,null,null,null,null,null,null,16,"110 kg N svin",1.1000000000000001,{"$f":"DI21*$D$298*UdnytNsvin*0.01","v":88.000000000000014},{"$f":"DI21*$D$300","v":27.500000000000004},{"$f":"DI21*$D$302","v":55.000000000000007}]
[null,"Kaliumpris",null,12,null,"pr. kg",null,null,null,null,null,null,null,null,null,null,null,null,null,null,null,null,null,null,null,null,null,null,null,null,null,null,null,null,null,null,null,null,null,null,null,null,null,null,null,null,null,null,null,null,null,null,null,null,null,null,null,null,null,null,null,null,null,null,null,null,null,null,null,null,null,null,null,null,null,null,null,null,null,null,null,null,null,null,null,null,null,null,null,null,null,null,null,null,null,null,null,null,null,null,null,null,null,null,null,null,null,null,null,null,17,"110 kg N kvæg",1.1000000000000001,{"$f":"DI22*$D$304*UdnytNkvæg*0.01","v":82.500000000000014},{"$f":"DI22*$D$306","v":18.700000000000003},{"$f":"DI22*$D$308","v":73.7}]
[null,null,null,null,null,null,null,null,null,null,null,null,null,null,null,null,null,null,null,null,null,null,null,null,null,null,null,null,null,null,null,null,null,null,null,null,null,null,null,null,null,null,null,null,null,null,null,null,null,null,null,null,null,null,null,null,null,null,null,null,null,null,null,null,null,null,null,null,null,null,null,null,null,null,null,null,null,null,null,null,null,null,null,null,null,null,null,null,null,null,null,null,null,null,null,null,null,null,null,null,null,null,null,null,null,null,null,null,null,null,18,"120 kg N svin",1.2,{"$f":"DI23*$D$298*UdnytNsvin*0.01","v":96},{"$f":"DI23*$D$300","v":30},{"$f":"DI23*$D$302","v":60}]
[null,"Meromkostning til erstatningskorn",null,15,null,"pr. hkg",null,null,null,null,null,null,null,null,null,null,null,null,null,null,null,null,null,null,null,null,null,null,null,null,null,null,null,null,null,null,null,null,null,null,null,null,null,null,null,null,null,null,null,null,null,null,null,null,null,null,null,null,null,null,null,null,null,null,null,null,null,null,null,null,null,null,null,null,null,null,null,null,null,null,null,null,null,null,null,null,null,null,null,null,null,null,null,null,null,null,null,null,null,null,null,null,null,null,null,null,null,null,null,null,19,"120 kg N kvæg",1.2,{"$f":"DI24*$D$304*UdnytNkvæg*0.01","v":90},{"$f":"DI24*$D$306","v":20.399999999999999},{"$f":"DI24*$D$308","v":80.399999999999991}]
[null,null,null,null,null,null,null,null,null,null,null,null,null,null,null,null,null,null,null,null,null,null,null,null,null,null,null,null,null,null,null,null,null,null,null,null,null,null,null,null,null,null,null,null,null,null,null,null,null,null,null,null,null,null,null,null,null,null,null,null,null,null,null,null,null,null,null,null,null,null,null,null,null,null,null,null,null,null,null,null,null,null,null,null,null,null,null,null,null,null,null,null,null,null,null,null,null,null,null,null,null,null,null,null,null,null,null,null,null,null,20,"130 kg N svin",1.3,{"$f":"DI25*$D$298*UdnytNsvin*0.01","v":104},{"$f":"DI25*$D$300","v":32.5},{"$f":"DI25*$D$302","v":65}]
[null,"Kornpris, forfrugtsværdi",null,170,null,"pr. hkg",null,null,null,null,null,null,null,null,null,null,null,null,null,null,null,null,null,null,null,null,null,null,null,null,null,null,null,null,null,null,null,null,null,null,null,null,null,null,null,null,null,null,null,null,null,null,null,null,null,null,null,null,null,null,null,null,null,null,null,null,null,null,null,null,null,null,null,null,null,null,null,null,null,null,null,null,null,null,null,null,null,null,null,null,null,null,null,null,null,null,null,null,null,null,null,null,null,null,null,null,null,null,null,null,21,"130 kg N kvæg",1.3,{"$f":"DI26*$D$304*UdnytNkvæg*0.01","v":97.5},{"$f":"DI26*$D$306","v":22.1},{"$f":"DI26*$D$308","v":87.100000000000009}]
[null,null,null,null,null,null,null,null,null,null,null,null,null,null,null,null,null,null,null,null,null,null,null,null,null,null,null,null,null,null,null,null,null,null,null,null,null,null,null,null,null,null,null,null,null,null,null,null,null,null,null,null,null,null,null,null,null,null,null,null,null,null,null,null,null,null,null,null,null,null,null,null,null,null,null,null,null,null,null,null,null,null,null,null,null,null,null,null,null,null,null,null,null,null,null,null,null,null,null,null,null,null,null,null,null,null,null,null,null,null,22,"140 kg N svin",1.4,{"$f":"DI27*$D$298*UdnytNsvin*0.01","v":112},{"$f":"DI27*$D$300","v":35},{"$f":"DI27*$D$302","v":70}]
[null,"Udnyttelse af N i svinegødning",null,80,null,"%",null,null,null,null,null,null,null,null,null,null,null,null,null,null,null,null,null,null,null,null,null,null,null,null,null,null,null,null,null,null,null,null,null,null,null,null,null,null,null,null,null,null,null,null,null,null,null,null,null,null,null,null,null,null,null,null,null,null,null,null,null,null,null,null,null,null,null,null,null,null,null,null,null,null,null,null,null,null,null,null,null,null,null,null,null,null,null,null,null,null,null,null,null,null,null,null,null,null,null,null,null,null,null,null,23,"140 kg N kvæg",1.4,{"$f":"DI28*$D$304*UdnytNkvæg*0.01","v":105},{"$f":"DI28*$D$306","v":23.799999999999997},{"$f":"DI28*$D$308","v":93.8}]
[null,null,null,null,null,null,null,null,null,null,null,null,null,null,null,null,null,null,null,null,null,null,null,null,null,null,null,null,null,null,null,null,null,null,null,null,null,null,null,null,null,null,null,null,null,null,null,null,null,null,null,null,null,null,null,null,null,null,null,null,null,null,null,null,null,null,null,null,null,null,null,null,null,null,null,null,null,null,null,null,null,null,null,null,null,null,null,null,null,null,null,null,null,null,null,null,null,null,null,null,null,null,null,null,null,null,null,null,null,null,24,"150 kg N svin",1.5,{"$f":"DI29*$D$298*UdnytNsvin*0.01","v":120},{"$f":"DI29*$D$300","v":37.5},{"$f":"DI29*$D$302","v":75}]
[null,"Udnyttelse af N i kvæggødning",null,75,null,"%",null,null,null,null,null,null,null,null,null,null,null,null,null,null,null,null,null,null,null,null,null,null,null,null,null,null,null,null,null,null,null,null,null,null,null,null,null,null,null,null,null,null,null,null,null,null,null,null,null,null,null,null,null,null,null,null,null,null,null,null,null,null,null,null,null,null,null,null,null,null,null,null,null,null,null,null,null,null,null,null,null,null,null,null,null,null,null,null,null,null,null,null,null,null,null,null,null,null,null,null,null,null,null,null,25,"150 kg N kvæg",1.5,{"$f":"DI30*$D$304*UdnytNkvæg*0.01","v":112.5},{"$f":"DI30*$D$306","v":25.5},{"$f":"DI30*$D$308","v":100.5}]
[null,null,null,null,null,null,null,null,null,null,null,null,null,null,null,null,null,null,null,null,null,null,null,null,null,null,null,null,null,null,null,null,null,null,null,null,null,null,null,null,null,null,null,null,null,null,null,null,null,null,null,null,null,null,null,null,null,null,null,null,null,null,null,null,null,null,null,null,null,null,null,null,null,null,null,null,null,null,null,null,null,null,null,null,null,null,null,null,null,null,null,null,null,null,null,null,null,null,null,null,null,null,null,null,null,null,null,null,null,null,26,"160 kg N svin",1.6,{"$f":"DI31*$D$298*UdnytNsvin*0.01","v":128},{"$f":"DI31*$D$300","v":40},{"$f":"DI31*$D$302","v":80}]
[null,"Halmpris",null,0.65,null,"kr. pr. kg",null,null,null,null,null,null,null,null,null,null,null,null,null,null,null,null,null,null,null,null,null,null,null,null,null,null,null,null,null,null,null,null,null,null,null,null,null,null,null,null,null,null,null,null,null,null,null,null,null,null,null,null,null,null,null,null,null,null,null,null,null,null,null,null,null,null,null,null,null,null,null,null,null,null,null,null,null,null,null,null,null,null,null,null,null,null,null,null,null,null,null,null,null,null,null,null,null,null,null,null,null,null,null,null,27,"160 kg N kvæg",1.6,{"$f":"DI32*$D$304*UdnytNkvæg*0.01","v":120},{"$f":"DI32*$D$306","v":27.200000000000003},{"$f":"DI32*$D$308","v":107.2}]
[null,null,null,null,null,null,null,null,null,null,null,null,null,null,null,null,null,null,null,null,null,null,null,null,null,null,null,null,null,null,null,null,null,null,null,null,null,null,null,null,null,null,null,null,null,null,null,null,null,null,null,null,null,null,null,null,null,null,null,null,null,null,null,null,null,null,null,null,null,null,null,null,null,null,null,null,null,null,null,null,null,null,null,null,null,null,null,null,null,null,null,null,null,null,null,null,null,null,null,null,null,null,null,null,null,null,null,null,null,null,28,"170 kg N svin",1.7,{"$f":"DI33*$D$298*UdnytNsvin*0.01","v":136},{"$f":"DI33*$D$300","v":42.5},{"$f":"DI33*$D$302","v":85}]
[null,"Årstal på udskrift",null,2023,null,null,null,null,null,null,null,null,null,null,null,null,null,null,null,null,null,null,null,null,null,null,null,null,null,null,null,null,null,null,null,null,null,null,null,null,null,null,null,null,null,null,null,null,null,null,null,null,null,null,null,null,null,null,null,null,null,null,null,null,null,null,null,null,null,null,null,null,null,null,null,null,null,null,null,null,null,null,null,null,null,null,null,null,null,null,null,null,null,null,null,null,null,null,null,null,null,null,null,null,null,null,null,null,null,null,29,"170 kg N kvæg",1.7,{"$f":"DI34*$D$304*UdnytNkvæg*0.01","v":127.5},{"$f":"DI34*$D$306","v":28.9},{"$f":"DI34*$D$308","v":113.89999999999999}]
[null,null,null,null,null,null,null,null,null,null,null,null,null,null,null,null,null,null,null,null,null,null,null,null,null,null,null,null,null,null,null,null,null,null,null,null,null,null,null,null,null,null,null,null,null,null,null,null,null,null,null,null,null,null,null,null,null,null,null,null,null,null,null,null,null,null,null,null,null,null,null,null,null,null,null,null,null,null,null,null,null,null,null,null,null,null,null,null,null,null,null,null,null,null,null,null,null,null,null,null,null,null,null,null,null,null,null,null,null,null,30,"180 kg N kvæg",1.8,{"$f":"DI35*$D$304*UdnytNkvæg*0.01","v":135},{"$f":"DI35*$D$306","v":30.6},{"$f":"DI35*$D$308","v":120.60000000000001}]
[null,null,null,null,null,null,null,null,null,null,null,null,null,null,null,null,null,null,null,null,null,null,null,null,null,null,null,null,null,null,null,null,null,null,null,null,null,null,null,null,null,null,null,null,null,null,null,null,null,null,null,null,null,null,null,null,null,null,null,null,null,null,null,null,null,null,null,null,null,null,null,null,null,null,null,null,null,null,null,null,null,null,null,null,null,null,null,null,null,null,null,null,null,null,null,null,null,null,null,null,null,null,null,null,null,null,null,null,null,null,31,"190 kg N kvæg",1.9,{"$f":"DI36*$D$304*UdnytNkvæg*0.01","v":142.5},{"$f":"DI36*$D$306","v":32.299999999999997},{"$f":"DI36*$D$308","v":127.3}]
[null,null,null,null,null,null,null,null,null,null,null,null,null,null,null,null,null,null,null,null,null,null,null,null,null,null,null,null,null,null,null,null,null,null,null,null,null,null,null,null,null,null,null,null,null,null,null,null,null,null,null,null,null,null,null,null,null,null,null,null,null,null,null,null,null,null,null,null,null,null,null,null,null,null,null,null,null,null,null,null,null,null,null,null,null,null,null,null,null,null,null,null,null,null,null,null,null,null,null,null,null,null,null,null,null,null,null,null,null,null,32,"200 kg N kvæg",2,{"$f":"DI37*$D$304*UdnytNkvæg*0.01","v":150},{"$f":"DI37*$D$306","v":34},{"$f":"DI37*$D$308","v":134}]
[null,null,null,null,null,null,null,null,null,null,null,null,null,null,null,null,null,null,null,null,null,null,null,null,null,null,null,null,null,null,null,null,null,null,null,null,null,null,null,null,null,null,null,null,null,null,null,null,null,null,null,null,null,null,null,null,null,null,null,null,null,null,null,null,null,null,null,null,null,null,null,null,null,null,null,null,null,null,null,null,null,null,null,null,null,null,null,null,null,null,null,null,null,null,null,null,null,null,null,null,null,null,null,null,null,null,null,null,null,null,33,"210 kg N kvæg",2.1,157.5,35.700000000000003,140.70000000000002]
[null,null,null,null,null,null,null,null,null,null,null,null,null,null,null,null,null,null,null,null,null,null,null,null,null,null,null,null,null,null,null,null,null,null,null,null,null,null,null,null,null,null,null,null,null,null,null,null,null,null,null,null,null,null,null,null,null,null,null,null,null,null,null,null,null,null,null,null,null,null,null,null,null,null,null,null,null,null,null,null,null,null,null,null,null,null,null,null,null,null,null,null,null,null,null,null,null,null,null,null,null,null,null,null,null,null,null,null,null,null,34,"220 kg N kvæg",2.2000000000000002,165.00000000000003,37.400000000000006,147.4]
[null,"Opret eventuelt egen afgrøde",null,null,null,null,null,null,null,null,null,null,null,null,null,null,null,null,"Her har du mulighed for at oprette egen afgrøde. Efter indtastningen af oplysningerne kan du vælge \"Anden afgrøde\" i rulleteksten under Sædskifte 1 og Sædskifte 2.",null,null,null,null,null,null,null,null,null,null,null,null,null,null,null,null,null,null,null,null,null,null,null,null,null,null,null,null,null,null,null,null,null,null,null,null,null,null,null,null,null,null,null,null,null,null,null,null,null,null,null,null,null,null,null,null,null,null,null,null,null,null,null,null,null,null,null,null,null,null,null,null,null,null,null,null,null,null,null,null,null,null,null,null,null,null,null,null,null,null,null,35,"230 kg N kvæg",2.2999999999999998,172.49999999999997,39.099999999999994,154.1]
[null,null,null,null,null,null,null,null,null,null,null,null,null,null,null,null,null,null,null,null,null,null,null,null,null,null,null,null,null,null,null,null,null,null,null,null,null,null,null,null,null,null,null,null,null,null,null,null,null,null,null,null,null,null,null,null,null,null,null,null,null,null,null,null,null,null,null,null,null,null,null,null,null,null,null,null,null,null,null,null,null,null,null,null,null,null,null,null,null,null,null,null,null,null,null,null,null,null,null,null,null,null,null,null,null,null,null,null,null,null,36,null,2.1,157.5,35.700000000000003,140.70000000000002]
[null,null,null,null,null,null,null,null,null,null,null,null,null,null,null,null,null,null,null,null,null,null,null,null,null,null,null,null,null,null,null,null,null,null,null,null,null,null,null,null,null,null,null,null,null,null,null,null,null,null,null,null,null,null,null,null,null,null,null,null,null,null,null,null,null,null,null,null,null,null,null,null,null,null,null,null,null,null,null,null,null,null,null,null,null,null,null,null,null,null,null,null,null,null,null,null,null,null,null,null,null,null,null,null,null,null,null,null,null,null,37,null,2.2000000000000002,165.00000000000003,37.400000000000006,147.4]
[null,"Indtast afgrødenavn",null,null,null,null,null,null,null,null,null,null,null,null,null,null,null,null,null,null,null,null,null,null,null,null,null,null,null,null,null,null,null,null,null,null,null,null,null,null,null,null,null,null,null,null,null,null,null,null,null,null,null,null,null,null,null,null,null,null,null,null,null,null,null,null,null,null,null,null,null,null,null,null,null,null,null,null,null,null,null,null,null,null,null,null,null,null,null,null,null,null,null,null,null,null,null,null,null,null,null,null,null,null,null,null,null,null,null,null,38,null,2.2999999999999998,172.49999999999997,39.099999999999994,154.1]
[]
[null,"Indtast forventet udbytte og pris",null,null,null,"Indtast stykomkostninger"]
[null,"Udbytte, hkg / ae pr. ha",null,null,null,"Udsæd, kr. pr ha",null,null,null,null,"Hvis N behovet dækkes med NPK 21-3-10, så svarer",null,null,null,null,{"$f":"IF(OR($I$46>0),\"Husk minus foran\",\"\")","v":""}]
[null,"Pris pr. hkg / ae",null,null,null,"Gødning beregnes ud fra mængde"]
[null,null,null,null,null,null,"N-behov, kg pr. ha",null,null,null,{"$f":"I48","v":0},"kg N til"]
[null,"Halmudbytte, kg pr. ha",null,null,null,null,"P-behov, kg pr. ha",null,null,null,"Kg P",{"$f":"K48/0.21*0.03","v":0}]
[null,null,null,null,null,null,"K-behov, kg pr. ha",null,null,null,"Kg K",{"$f":"K48/0.21*0.1","v":0}]
[null,null,null,null,null,"Planteværn",null,null,null,null,null,{"$f":"IF(OR($I$51>0),\"Husk minus foran\",\"\")","v":""}]
[null,null,null,null,null,"Diverse",null,null,null,null,null,{"$f":"IF(OR($I$52>0),\"Husk minus foran\",\"\")","v":""}]
[]
[null,"Beregning af forfrugtsværdi",null,null,null,"Indtast maskin- og arbejdsomkostninger"]
[null,"Forfrugtsværdi",null,"hkg pr. ha",null,"Maskiner og arbejde",null,null,null,"kr. pr. ha",null,{"$f":"IF(OR($I$55>0),\"Husk minus foran\",\"\")","v":""}]
[null,"Sparet N til næste afgrøde",null,"kg pr. ha",null,"Tørring",null,null,null,"kr. pr. hkg",null,{"$f":"IF(OR($I$56>0),\"Husk minus foran\",\"\")","v":""}]
[]
[]
[]
[]
[]
[]
[null,"Angiv sædskifte 1 og 2"]
[null,"Her kan du angive, hvilke afgrøder der skal indgå i sædskifte 1 samt arealer, udbytter og priser.\n"]
[null,"Sædskifte 1",null,"Antal",null,"Eget"," Udbytte-",null,"Egen",null,"Standard",null,null,null,null,null,null,null,"Her kan du angive, hvilke afgrøder der skal indgå i sædskifte 1 samt arealer, udbytter og priser.\nFor at få sædskifte 1 vist på udskriften skal det vælges i rullelisterne nedenfor til venstre."]
[null,null,null,"ha",null,"udbytte","norm",null,"pris",null," pris"]
[]
[null,null,null,null,null,null,{"$f":"IF(F68<>\"\",\"\",IF(VLOOKUP($CV159,_Afg07,$CW$5)=0,\"\",VLOOKUP($CV159,_Afg07,$CW$5)))","v":""},{"$f":"IF($CV159>1,IF(VLOOKUP($CV159,_Afg07,3)<>\"\",VLOOKUP($CV159,_Afg07,3),\"\"),\"\")","v":""},null,null,{"$f":"IF(I68<>\"\",\"\",IF(VLOOKUP($CV159,_Afg07,$U$285)=0,\"\",VLOOKUP($CV159,_Afg07,$U$285)))","v":""},{"$f":"IF($CV159>1,\"kr.\",\"\")","v":""},null,null,null,null,null,{"$f":"IF(AND(CV159>1,VLOOKUP(CV159,_Afg07,3)=\"\"),\"Areal med efterafgrøder tælles ikke med i dyrket areal i alt\",\"\")","v":""}]
[]
[null,null,null,null,null,null,{"$f":"IF(F70<>\"\",\"\",IF(VLOOKUP(CV161,_Afg07,$CW$5)=0,\"\",VLOOKUP(CV161,_Afg07,$CW$5)))","v":""},{"$f":"IF($CV161>1,IF(VLOOKUP($CV161,_Afg07,3)<>\"\",VLOOKUP($CV161,_Afg07,3),\"\"),\"\")","v":""},null,null,{"$f":"IF(I70<>\"\",\"\",IF(VLOOKUP($CV161,_Afg07,$U$285)=0,\"\",VLOOKUP($CV161,_Afg07,$U$285)))","v":""},{"$f":"IF($CV161>1,\"kr.\",\"\")","v":""},null,null,null,null,null,{"$f":"IF(AND(CV161>1,VLOOKUP(CV161,_Afg07,3)=\"\"),\"Areal med efterafgrøder tælles ikke med i dyrket areal i alt\",\"\")","v":""}]
[]
[null,null,null,null,null,null,{"$f":"IF(F72<>\"\",\"\",IF(VLOOKUP(CV163,_Afg07,$CW$5)=0,\"\",VLOOKUP(CV163,_Afg07,$CW$5)))","v":""},{"$f":"IF($CV163>1,IF(VLOOKUP($CV163,_Afg07,3)<>\"\",VLOOKUP($CV163,_Afg07,3),\"\"),\"\")","v":""},null,null,{"$f":"IF(I72<>\"\",\"\",IF(VLOOKUP($CV163,_Afg07,$U$285)=0,\"\",VLOOKUP($CV163,_Afg07,$U$285)))","v":""},{"$f":"IF($CV163>1,\"kr.\",\"\")","v":""},null,null,null,null,null,{"$f":"IF(AND(CV163>1,VLOOKUP(CV163,_Afg07,3)=\"\"),\"Areal med efterafgrøder tælles ikke med i dyrket areal i alt\",\"\")","v":""}]
[]
[null,null,null,null,null,null,{"$f":"IF(F74<>\"\",\"\",IF(VLOOKUP(CV165,_Afg07,$CW$5)=0,\"\",VLOOKUP(CV165,_Afg07,$CW$5)))","v":""},{"$f":"IF($CV165>1,IF(VLOOKUP($CV165,_Afg07,3)<>\"\",VLOOKUP($CV165,_Afg07,3),\"\"),\"\")","v":""},null,null,{"$f":"IF(I74<>\"\",\"\",IF(VLOOKUP($CV165,_Afg07,$U$285)=0,\"\",VLOOKUP($CV165,_Afg07,$U$285)))","v":""},{"$f":"IF($CV165>1,\"kr.\",\"\")","v":""},null,null,null,null,null,{"$f":"IF(AND(CV165>1,VLOOKUP(CV165,_Afg07,3)=\"\"),\"Areal med efterafgrøder tælles ikke med i dyrket areal i alt\",\"\")","v":""}]
[]
[null,null,null,null,null,null,{"$f":"IF(F76<>\"\",\"\",IF(VLOOKUP(CV167,_Afg07,$CW$5)=0,\"\",VLOOKUP(CV167,_Afg07,$CW$5)))","v":""},{"$f":"IF($CV167>1,IF(VLOOKUP($CV167,_Afg07,3)<>\"\",VLOOKUP($CV167,_Afg07,3),\"\"),\"\")","v":""},null,null,{"$f":"IF(I76<>\"\",\"\",IF(VLOOKUP($CV167,_Afg07,$U$285)=0,\"\",VLOOKUP($CV167,_Afg07,$U$285)))","v":""},{"$f":"IF($CV167>1,\"kr.\",\"\")","v":""},null,null,null,null,null,{"$f":"IF(AND(CV167>1,VLOOKUP(CV167,_Afg07,3)=\"\"),\"Areal med efterafgrøder tælles ikke med i dyrket areal i alt\",\"\")","v":""}]
[]
[null,null,null,null,null,null,{"$f":"IF(F78<>\"\",\"\",IF(VLOOKUP(CV169,_Afg07,$CW$5)=0,\"\",VLOOKUP(CV169,_Afg07,$CW$5)))","v":""},{"$f":"IF($CV169>1,IF(VLOOKUP($CV169,_Afg07,3)<>\"\",VLOOKUP($CV169,_Afg07,3),\"\"),\"\")","v":""},null,null,{"$f":"IF(I78<>\"\",\"\",IF(VLOOKUP($CV169,_Afg07,$U$285)=0,\"\",VLOOKUP($CV169,_Afg07,$U$285)))","v":""},{"$f":"IF($CV169>1,\"kr.\",\"\")","v":""},null,null,null,null,null,{"$f":"IF(AND(CV169>1,VLOOKUP(CV169,_Afg07,3)=\"\"),\"Areal med efterafgrøder tælles ikke med i dyrket areal i alt\",\"\")","v":""}]
[]
[null,null,null,null,null,null,{"$f":"IF(F80<>\"\",\"\",IF(VLOOKUP(CV171,_Afg07,$CW$5)=0,\"\",VLOOKUP(CV171,_Afg07,$CW$5)))","v":""},{"$f":"IF($CV171>1,IF(VLOOKUP($CV171,_Afg07,3)<>\"\",VLOOKUP($CV171,_Afg07,3),\"\"),\"\")","v":""},null,null,{"$f":"IF(I80<>\"\",\"\",IF(VLOOKUP($CV171,_Afg07,$U$285)=0,\"\",VLOOKUP($CV171,_Afg07,$U$285)))","v":""},{"$f":"IF($CV171>1,\"kr.\",\"\")","v":""},null,null,null,null,null,{"$f":"IF(AND(CV171>1,VLOOKUP(CV171,_Afg07,3)=\"\"),\"Areal med efterafgrøder tælles ikke med i dyrket areal i alt\",\"\")","v":""}]
[]
[null,"Dyrket areal i alt",null,{"$f":"IF(AND(CV159>1,VLOOKUP(CV159,_Afg07,3)<>\"\"),D68,0)+IF(AND(CV161>1,VLOOKUP(CV161,_Afg07,3)<>\"\"),D70,0)+IF(AND(CV163>1,VLOOKUP(CV163,_Afg07,3)<>\"\"),D72,0)+IF(AND(CV165>1,VLOOKUP(CV165,_Afg07,3)<>\"\"),D74,0)+IF(AND(CV167>1,VLOOKUP(CV167,_Afg07,3)<>\"\"),D76,0)+IF(AND(CV169>1,VLOOKUP(CV169,_Afg07,3)<>\"\"),D78,0)+IF(AND(CV171>1,VLOOKUP(CV171,_Afg07,3)<>\"\"),D80,0)","v":0}]
[]
[]
[null,"Her kan du angive, hvilke afgrøder der skal indgå i sædskifte 2 samt arealer, udbytter og priser.\n"]
[null,"Sædskifte 2",null,"Antal",null,"Eget"," Udbytte-",null,"Egen",null,"Standard",null,null,null,null,null,null,null,"Her kan du angive, hvilke afgrøder der skal indgå i sædskifte 2 samt arealer, udbytter og priser.\nFor at få sædskifte 2 vist på udskriften skal det vælges i rullelisterne nedenfor til venstre."]
[null,null,null,"ha",null,"udbytte","norm",null,"pris",null," pris"]
[]
[null,null,null,null,null,null,{"$f":"IF(F89<>\"\",\"\",IF(VLOOKUP(CV160,_Afg07,$CW$5)=0,\"\",VLOOKUP(CV160,_Afg07,$CW$5)))","v":""},{"$f":"IF(CV160>1,IF(VLOOKUP(CV160,_Afg07,3)<>\"\",VLOOKUP(CV160,_Afg07,3),\"\"),\"\")","v":""},null,null,{"$f":"IF(I89<>\"\",\"\",IF(VLOOKUP($CV160,_Afg07,$U$285)=0,\"\",VLOOKUP($CV160,_Afg07,$U$285)))","v":""},{"$f":"IF($CV160>1,\"kr.\",\"\")","v":""},null,null,null,null,null,{"$f":"IF(AND(CV160>1,VLOOKUP(CV160,_Afg07,3)=\"\"),\"Areal med efterafgrøder tælles ikke med i dyrket areal i alt\",\"\")","v":""}]
[]
[null,null,null,null,null,null,{"$f":"IF(F91<>\"\",\"\",IF(VLOOKUP(CV162,_Afg07,$CW$5)=0,\"\",VLOOKUP(CV162,_Afg07,$CW$5)))","v":""},{"$f":"IF(CV162>1,IF(VLOOKUP(CV162,_Afg07,3)<>\"\",VLOOKUP(CV162,_Afg07,3),\"\"),\"\")","v":""},null,null,{"$f":"IF(I91<>\"\",\"\",IF(VLOOKUP($CV162,_Afg07,$U$285)=0,\"\",VLOOKUP($CV162,_Afg07,$U$285)))","v":""},{"$f":"IF($CV162>1,\"kr.\",\"\")","v":""},null,null,null,null,null,{"$f":"IF(AND(CV162>1,VLOOKUP(CV162,_Afg07,3)=\"\"),\"Areal med efterafgrøder tælles ikke med i dyrket areal i alt\",\"\")","v":""}]
[]
[null,null,null,null,null,null,{"$f":"IF(F93<>\"\",\"\",IF(VLOOKUP(CV164,_Afg07,$CW$5)=0,\"\",VLOOKUP(CV164,_Afg07,$CW$5)))","v":""},{"$f":"IF(CV164>1,IF(VLOOKUP(CV164,_Afg07,3)<>\"\",VLOOKUP(CV164,_Afg07,3),\"\"),\"\")","v":""},null,null,{"$f":"IF(I93<>\"\",\"\",IF(VLOOKUP($CV164,_Afg07,$U$285)=0,\"\",VLOOKUP($CV164,_Afg07,$U$285)))","v":""},{"$f":"IF($CV164>1,\"kr.\",\"\")","v":""},null,null,null,null,null,{"$f":"IF(AND(CV164>1,VLOOKUP(CV164,_Afg07,3)=\"\"),\"Areal med efterafgrøder tælles ikke med i dyrket areal i alt\",\"\")","v":""},null,null,null,null,null,null,null,null,null,null,{"$f":"IF(LEFT(F151,11)=\"Vinterhvede\",\"Vinterhvede\",IF(LEFT(F151,6)=\"Vårbyg\",\"Vårbyg\",IF(LEFT(F151,10)=\"Vinterraps\",\"Vinterraps\",IF(LEFT(F151,9)=\"Vinterbyg\",\"Vinterbyg\",IF(LEFT(F151,9)=\"Vinterrug\",\"Vinterhvede\",IF(LEFT(F151,9)=\"Hybridrug\",\"Vinterhvede\"))))))","v":"Vinterraps"},null,{"$f":"AO93&AN93&\" \"&AM93","v":"1Slut februar"},null,null,null,null,null,null,null,{"$f":"VLOOKUP(MONTH(V136),'Ark7'!$C$1:$D$12,2,FALSE)","v":"februar"},{"$f":"IF(DAY(V136)<=15,\"Start\",\"Slut\")","v":"Slut"},{"$f":"YEAR(V136)-2023","v":1},null,null,null,null,null,null,null,null,null,null,null,null,null,null,null,null,null,null,"Rækkenummer i fanen \"Fordeling af arbejdsopgaver\"","Vinterraps","Vinterbyg","Vinterhvede","Vårbyg",1]
[null,null,null,null,null,null,null,null,null,null,null,null,null,null,null,null,null,null,null,null,null,null,null,null,null,null,null,null,null,null,"andel af omkostninger der er afholdt på tidspunktet",null,"Indikator for halmbjergning",null,null,null,null,null,null,null,null,null,null,null,null,null,null,null,null,null,null,null,null,null,null,null,null,null,null,null,null,null,null,null,2]
[null,null,null,null,null,null,{"$f":"IF(F95<>\"\",\"\",IF(VLOOKUP(CV166,_Afg07,$CW$5)=0,\"\",VLOOKUP(CV166,_Afg07,$CW$5)))","v":""},{"$f":"IF(CV166>1,IF(VLOOKUP(CV166,_Afg07,3)<>\"\",VLOOKUP(CV166,_Afg07,3),\"\"),\"\")","v":""},null,null,{"$f":"IF(I95<>\"\",\"\",IF(VLOOKUP($CV166,_Afg07,$U$285)=0,\"\",VLOOKUP($CV166,_Afg07,$U$285)))","v":""},{"$f":"IF($CV166>1,\"kr.\",\"\")","v":""},null,null,null,null,null,{"$f":"IF(AND(CV166>1,VLOOKUP(CV166,_Afg07,3)=\"\"),\"Areal med efterafgrøder tælles ikke med i dyrket areal i alt\",\"\")","v":""},null,null,null,null,null,null,null,null,null,null,null,"Maskinomkostninger (uden presning)",{"$f":"HLOOKUP($AE$93,'Fordeling af arbejdsopgaver'!$A$1:$AN$154,AF95,FALSE)","v":0.46490250696378826},{"$f":"HLOOKUP($AC$93,$BI$93:$BL$101,BM95,FALSE)","v":87},{"$f":"IF(CV7=2,1,0)","v":0},null,null,null,null,null,{"$f":"IF(L173<0,H173,H173-L173)*V138","v":{"$error":"#VALUE!"}},"Tab = Bruttoudbyttevinterafgrøde – (ikke afholdte omkostningervinterafgrøde) - DBIIvårafgrøde ",null,null,null,null,null,null,null,null,null,null,null,null,null,null,null,null,null,null,null,"Maskinomkostninger (uden presning)",87,103,123,143,3]
[null,null,null,null,null,null,null,null,null,null,null,null,null,null,null,null,null,null,null,null,null,null,null,null,null,null,null,null,null,"Maskinomkostninger (med presning)",{"$f":"HLOOKUP($AE$93,'Fordeling af arbejdsopgaver'!$A$1:$AN$154,AF96,FALSE)","v":0.46490250696378826},87,{"$f":"IF(CV7=1,1,0)","v":1},null,null,null,null,null,null,"Tabet er korrigeret for tilfældet, når perioden for oversvømmelse er så kort at afgrøden blot skades, men ikke behøver omsåning.",null,null,null,null,null,null,null,null,null,null,null,null,null,null,null,null,null,null,null,"Maskinomkostninger (med presning)",87,105,125,145,4]
[null,null,null,null,null,null,{"$f":"IF(F97<>\"\",\"\",IF(VLOOKUP(CV168,_Afg07,$CW$5)=0,\"\",VLOOKUP(CV168,_Afg07,$CW$5)))","v":""},{"$f":"IF(CV168>1,IF(VLOOKUP(CV168,_Afg07,3)<>\"\",VLOOKUP(CV168,_Afg07,3),\"\"),\"\")","v":""},null,null,{"$f":"IF(I97<>\"\",\"\",IF(VLOOKUP($CV168,_Afg07,$U$285)=0,\"\",VLOOKUP($CV168,_Afg07,$U$285)))","v":""},{"$f":"IF($CV168>1,\"kr.\",\"\")","v":""},null,null,null,null,null,{"$f":"IF(AND(CV168>1,VLOOKUP(CV168,_Afg07,3)=\"\"),\"Areal med efterafgrøder tælles ikke med i dyrket areal i alt\",\"\")","v":""},null,null,null,null,null,null,null,null,null,null,null,"Gødning anvendt ",{"$f":"HLOOKUP($AE$93,'Fordeling af arbejdsopgaver'!$A$1:$AN$154,AF97,FALSE)","v":0.2},91,null,null,null,null,null,null,null,null,null,null,null,null,null,null,null,null,null,null,null,null,null,null,null,null,null,null,null,"Gødning",91,111,131,151,5]
[null,null,null,null,null,null,null,null,null,null,null,null,null,null,null,null,null,null,null,null,null,null,null,null,null,null,null,null,null,"Planteværn anvendt",{"$f":"HLOOKUP($AE$93,'Fordeling af arbejdsopgaver'!$A$1:$AN$154,AF98,FALSE)","v":0.60000000000000009},92,null,null,null,null,null,null,null,null,null,null,null,null,null,null,null,null,null,null,null,null,null,null,null,null,null,null,null,"Planteværn",92,112,132,152,6]
[null,null,null,null,null,null,{"$f":"IF(F99<>\"\",\"\",IF(VLOOKUP(CV170,_Afg07,$CW$5)=0,\"\",VLOOKUP(CV170,_Afg07,$CW$5)))","v":""},{"$f":"IF(CV170>1,IF(VLOOKUP(CV170,_Afg07,3)<>\"\",VLOOKUP(CV170,_Afg07,3),\"\"),\"\")","v":""},null,null,{"$f":"IF(I99<>\"\",\"\",IF(VLOOKUP($CV170,_Afg07,$U$285)=0,\"\",VLOOKUP($CV170,_Afg07,$U$285)))","v":""},{"$f":"IF($CV170>1,\"kr.\",\"\")","v":""},null,null,null,null,null,{"$f":"IF(AND(CV170>1,VLOOKUP(CV170,_Afg07,3)=\"\"),\"Areal med efterafgrøder tælles ikke med i dyrket areal i alt\",\"\")","v":""},null,null,null,null,null,null,null,null,null,null,null,"Diverse stykomkostninger anvendt",{"$f":"HLOOKUP($AE$93,'Fordeling af arbejdsopgaver'!$A$1:$AN$154,AF99,FALSE)","v":0},93,null,null,null,null,null,null,{"$f":"IF(Alt2nr>1,L576,\"\")","v":2315.0425},"Gødningsomkostning valgt afgrøde i Alternativ 2",null,null,null,null,null,null,null,null,null,null,null,null,null,null,null,null,null,null,null,"Diverse stykomkostninger",93,113,133,153,7]
[null,null,null,null,null,null,null,null,null,null,null,null,null,null,null,null,null,null,null,null,null,null,null,null,null,null,null,null,null,"Bruttoudbytte",{"$f":"HLOOKUP($AE$93,'Fordeling af arbejdsopgaver'!$A$1:$AN$154,AF100,FALSE)","v":0},94,null,null,null,null,null,null,{"$f":"IF(AC93=\"Vinterraps\",D162-H162,0)","v":-651.08639999999968},"Korrektion af gødningsomkostning, hvis der har været dyrket vinterraps.",null,null,null,null,null,null,null,null,null,null,null,null,null,null,null,null,null,null,null,"Bruttoudbytte",94,114,134,154,8]
[null,null,null,null,null,null,{"$f":"IF(F101<>\"\",\"\",IF(VLOOKUP(CV172,_Afg07,$CW$5)=0,\"\",VLOOKUP(CV172,_Afg07,$CW$5)))","v":""},{"$f":"IF(CV172>1,IF(VLOOKUP(CV172,_Afg07,3)<>\"\",VLOOKUP(CV172,_Afg07,3),\"\"),\"\")","v":""},null,null,{"$f":"IF(I101<>\"\",\"\",IF(VLOOKUP($CV172,_Afg07,$U$285)=0,\"\",VLOOKUP($CV172,_Afg07,$U$285)))","v":""},{"$f":"IF($CV172>1,\"kr.\",\"\")","v":""},null,null,null,null,null,{"$f":"IF(AND(CV172>1,VLOOKUP(CV172,_Afg07,3)=\"\"),\"Areal med efterafgrøder tælles ikke med i dyrket areal i alt\",\"\")","v":""},null,null,null,null,null,null,null,null,null,null,null,"Maskinomkostninger ",{"$f":"AE95*AG95+AE96*AG96","v":0.46490250696378826},"(med valgt indstilling for halmbjergning)",null,null,null,null,null,null,{"$f":"SUM(AM99:AM100)","v":1663.9561000000003},"Gødningsomkostning til vårsæd i alternativ 2, når der har været dyrket vinterraps",null,null,null,null,null,null,null,null,null,null,null,null,null,null,null,null,null,null,null,"Indikator for hvor stor en andel der er høstet",85,{"$f":"BJ95-3","v":100},120,{"$f":"BL95-3","v":140},9]
[null,null,null,null,null,null,null,null,null,null,null,null,null,null,null,null,null,null,null,null,null,null,null,null,null,null,null,null,null,"Indikator for hvor stor en andel der er høstet",{"$f":"IF(AE95<1,HLOOKUP($AE$93,'Fordeling af arbejdsopgaver'!$A$1:$AN$154,AF102,FALSE),1)","v":0},{"$f":"HLOOKUP($AC$93,$BI$93:$BL$101,BM101,FALSE)","v":85},null,null,null,null,null,null,{"$f":"IF(AM101<0,0,AM101)","v":1663.9561000000003},"afrundet værdi, der sørger for at omkostningen ikke bliver negativ"]
[null,"Dyrket areal i alt",null,{"$f":"IF(AND(CV160>1,VLOOKUP(CV160,_Afg07,3)<>\"\"),D89,0)+IF(AND(CV162>1,VLOOKUP(CV162,_Afg07,3)<>\"\"),D91,0)+IF(AND(CV164>1,VLOOKUP(CV164,_Afg07,3)<>\"\"),D93,0)+IF(AND(CV166>1,VLOOKUP(CV166,_Afg07,3)<>\"\"),D95,0)+IF(AND(CV168>1,VLOOKUP(CV168,_Afg07,3)<>\"\"),D97,0)+IF(AND(CV170>1,VLOOKUP(CV170,_Afg07,3)<>\"\"),D99,0)+IF(AND(CV172>1,VLOOKUP(CV172,_Afg07,3)<>\"\"),D101,0)","v":0}]
[null,null,null,null,null,null,null,null,null,null,null,null,null,null,null,null,null,null,null,null,null,null,null,null,null,null,null,null,null,null,null,null,null,null,null,null,null,null,null,null,null,null,null,null,"Udbytteniveau, hkg pr. ha",null,null,null,null,"Dækningsbidrag II",null,null,null,null,"Indekseret udbytte og DBII vårbyg JB5-6 (priser marts 2023)",null,null,null,null,"Figur med DBII før og efter omsåning"]
[]
[]
[]
[]
[]
[]
[]
[]
[]
[]
[]
[]
[]
[]
[]
[]
[]
[]
[]
[]
[]
[]
[]
[]
[]
[]
[]
[]
[]
[]
[]
[null,"Angiv afgrøder og sædskifter til sammenligning (Sædskifte 1 og 2 findes nederst i rullemenuer)",null,null,null,null,null,null,null,null,null,null,null,null,null,null,null,null,null,"Dato for oversvømmelse",null,"2024-02-18",null,null,null,null,null,null,null,null,null,null,null,null,null,null,null,null,null,null,null,null,null,"Normudbytte",{"$f":"V330","v":46},{"$f":"W330","v":53},{"$f":"X330","v":58},{"$f":"Y330","v":65},{"$f":"Z330","v":69},null,null,null,4311,null,"Udbytte","DBII"]
[null,null,null,"Afgrøde/sædskifte",null,null,null,"Alternativ 1",null,null,null,"Alternativ 2",null,null,null,null,null,null,null,"Varighed af oversvømmelse",null,10,"dage",null,null,null,null,null,null,null,null,null,null,null,null,null,null,null,null,null,"Såtidspunkt vårbyg",null,null,"sådato","JB 1+3","JB2+4","JB1-4 vandet","JB 5-6","JB 7-9","JB 1+3","JB2+4","JB1-4 vandet","JB 5-6","JB 7-9",100,100,null,null,null,"Etableret vintersæd","Oversvømmet periode","Vårsæd efter omsåning"]
[null,null,null,null,null,null,null,null,null,null,null,null,null,null,null,null,null,null,null,"Andel af beregnet tab fra skadet vintersæd",null,{"$f":"IF(AC93=\"Vinterhvede\",VLOOKUP(V137,'Ark5'!D2:G122,2,FALSE),IF(AC93=\"Vinterraps\",VLOOKUP(V137,'Ark5'!D2:G122,3,FALSE),IF(AC93=\"Vinterbyg\",VLOOKUP(V137,'Ark5'!D2:G122,4,FALSE),IF(AC93=\"Vinterrug\",VLOOKUP(V137,'Ark5'!D2:G122,5,FALSE)))))","v":1},null,null,null,null,null,null,null,null,null,null,null,null,null,null,null,null,null,null,null,"udbyttetab kg pr. dag",null,"2024-03-01",{"$f":"IF($AR138=$AO$140,AS$136,IF($AR138<$AO$140,IF($AR138>=$AO$141,AS$136+(($AO$140-$AR138)*$AP$142/100),AS$136+(($AO$140-$AO$141)*$AP$142/100)+(($AO$141-$AR138)*$AP$141/100)),IF($AR138<$AO$142,AS$136-(($AR138-$AO$140)*$AP$142/100),AS$136-(($AO$142-$AO$140)*$AP$142/100)-(($AR138-$AO$142)*$AP$143/100))))","v":49.875999999999998},56.875999999999998,61.875999999999998,68.876000000000005,72.876000000000005,null,null,null,4311,null,{"$f":"AV138/$AV$138*100","v":100},{"$f":"BA138/$BA$136*100","v":100},null,null,"2024-01-01",{"$f":"IF(BG138<$V$136,$H$173,\"\")","v":9864.3383103329343},{"$f":"IF(AND(BG138>=$V$136,BG138<$V$136+$V$137),$H$173-(BG138-$V$136+1)*($H$173-$L$173)/$V$137,\"\")","v":""},{"$f":"IF(BG138>=$V$136+$V$137,$L$173,\"\")","v":""},null,null,null,null,null,null,null,null,null,null,null,null,null,null,null,null,null,null,null,null,null,null,null,null,null,null,null,null,null,null,null,null,null,null,null,null,null,"Afgrøde","Alternat 1","Alternat 2","Alternat 3"]
[null,"Afgrøde",null,null,null,null,null,null,null,null,null,null,null,null,null,null,null,null,null,"Dato for mulig såning af af vårbyg",null,"2024-04-15",{"$f":"IF(V136+V137+7>V139,\"Fejl, såning af vårbyg kan ikke foretages før tidligst 7 dage efter oversvømmelsen er ophørt\",\"\")","v":""},null,null,null,null,null,null,null,null,null,null,null,null,null,null,null,null,null,null,null,null,"2024-03-02",49.839999999999996,56.839999999999996,61.839999999999996,68.84,72.84,null,null,null,{"$f":"$BA$138-($BA$138-$BA$179)/($AO$141-$AR$138)*($AR139-$AR$138)","v":4306.5121951219517},{"$f":"AO141-AR138","v":41},{"$f":"AV139/$AV$138*100","v":99.94773215633893},99.895898750219246,null,null,"2024-01-02",{"$f":"IF(BG139<$V$136,$H$173,\"\")","v":9864.3383103329343},"","",null,null,null,null,null,null,null,null,null,null,null,null,null,null,null,null,null,null,null,null,null,null,null,null,null,null,null,null,null,null,null,null,null,null,null,null,"Afgrøderækkenummer",39,{"$f":"Afgnr","v":39},43,1]
[null,null,null,{"$f":"IF(CV139=2,C43,\"\")","v":""},null,null,null,{"$f":"IF(CW139=2,C43,\"\")","v":""},null,null,null,{"$f":"IF(CX139=2,C43,\"\")","v":""},null,null,null,null,null,null,null,null,null,null,null,null,null,null,null,null,null,null,null,null,null,null,null,null,null,null,null,"Normudbytte dato","2024-04-15",null,null,"2024-03-03",49.804000000000002,56.804000000000002,61.804000000000002,68.804000000000002,72.804000000000002,null,null,null,{"$f":"$BA$138-($BA$138-$BA$179)/($AO$141-$AR$138)*($AR140-$AR$138)","v":4302.0243902439024},{"$f":"BA139/BB139","v":105.03688280785248},99.895464312677845,99.791797500438477,null,null,"2024-01-03",9864.3383103329343,"",""]
[null,"Udbyttenorm pr. ha",null,{"$f":"VLOOKUP(CV139,_Afg07,CW5)","v":44},{"$f":"IF($CV$139>1,IF(VLOOKUP($CV$139,_Afg07,3)=\"\",\"Hkg\",VLOOKUP($CV$139,_Afg07,3)),\"hkg\")","v":"hkg"},null,null,{"$f":"VLOOKUP(CW139,_Afg07,CW5)","v":44},{"$f":"IF($CW$139>1,IF(VLOOKUP($CW$139,_Afg07,3)=\"\",\"Hkg\",VLOOKUP($CW$139,_Afg07,3)),\"hkg\")","v":"hkg"},null,null,{"$f":"VLOOKUP(CX139,_Afg07,CW5)","v":65},{"$f":"IF($CX$139>1,IF(VLOOKUP($CX$139,_Afg07,3)=\"\",\"hkg\",VLOOKUP($CX$139,_Afg07,3)),\"hkg\")","v":"hkg"},null,null,null,null,null,null,null,null,null,null,null,null,null,null,null,null,null,null,null,null,null,null,null,null,null,null,"2024-03-13","2024-04-11",3.6,null,"2024-03-04",49.768000000000001,56.768000000000001,61.768000000000001,68.768000000000001,72.768000000000001,null,null,null,4297.5365853658541,null,99.843196469016789,99.687696250657723,null,null,"2024-01-04",9864.3383103329343,"",""]
[null,"Udbytte forventet",1,{"$f":"D141*C142","v":44},{"$f":"IF($CV$139>1,IF(VLOOKUP($CV$139,_Afg07,3)=\"\",\"Hkg\",VLOOKUP($CV$139,_Afg07,3)),\"hkg\")","v":"hkg"},null,1,{"$f":"G142*H141","v":44},{"$f":"IF($CW$139>1,IF(VLOOKUP($CW$139,_Afg07,3)=\"\",\"Hkg\",VLOOKUP($CW$139,_Afg07,3)),\"hkg\")","v":"hkg"},null,null,{"$f":"VLOOKUP(V139,AR137:AW219,JBnr+1,FALSE)","v":65},{"$f":"IF($CX$139>1,IF(VLOOKUP($CX$139,_Afg07,3)=\"\",\"hkg\",VLOOKUP($CX$139,_Afg07,3)),\"hkg\")","v":"hkg"},null,null,null,null,null,null,null,null,null,null,null,null,null,null,null,null,null,null,null,null,null,null,null,null,null,null,{"$f":"AO141+1","v":"2024-04-12"},"2024-05-03",60,null,"2024-03-05",49.731999999999999,56.731999999999999,61.731999999999999,68.731999999999999,72.731999999999999,null,null,null,4293.0487804878048,null,99.790928625355704,99.58359500087694,null,null,"2024-01-05",9864.3383103329343,"",""]
[null,null,null,null,null,null,null,null,null,null,null,null,null,null,null,null,null,null,null,null,null,null,null,null,null,null,null,null,null,null,null,null,null,null,null,null,null,null,null,{"$f":"AO142+1","v":"2024-05-04"},"2024-05-21",109,null,"2024-03-06",49.695999999999998,56.695999999999998,61.695999999999998,68.696000000000012,72.696000000000012,null,null,null,4288.5609756097565,null,99.738660781694648,99.479493751096186,null,null,"2024-01-06",9864.3383103329343,"",""]
[null,"Pris, standard pr. hkg",null,{"$f":"VLOOKUP(CV139,_Afg07,4)","v":370},"kr.",null,null,{"$f":"VLOOKUP(CW139,_Afg07,4)","v":370},"kr.",null,null,{"$f":"VLOOKUP(CX139,_Afg07,4)","v":165},"kr.",null,null,null,null,null,null,null,null,null,null,null,null,null,null,null,null,null,null,null,null,null,null,null,null,null,null,null,null,null,null,"2024-03-07",49.66,56.66,61.66,68.660000000000011,72.660000000000011,null,null,null,4284.0731707317073,null,99.686392938033578,99.375392501315403,null,null,"2024-01-07",9864.3383103329343,"",""]
[null,"Pris forventet",null,null,"kr.",null,null,null,"kr.",null,null,null,"kr.",null,null,null,null,null,null,null,null,null,null,null,null,null,null,null,null,null,null,null,null,null,null,null,null,null,null,null,null,null,null,"2024-03-08",49.623999999999995,56.623999999999995,61.623999999999995,68.624000000000009,72.624000000000009,null,null,null,4279.5853658536589,null,99.634125094372507,99.271291251534649,null,null,"2024-01-08",9864.3383103329343,"",""]
[null,null,null,null,null,null,null,null,null,null,null,null,null,null,null,null,null,null,null,null,null,null,null,null,null,null,null,null,null,null,null,null,null,null,null,null,null,null,null,null,null,null,null,"2024-03-09",49.588000000000001,56.588000000000001,61.588000000000001,68.588000000000008,72.588000000000008,null,null,null,4275.0975609756097,null,99.581857250711423,99.16719000175388,null,null,"2024-01-09",9864.3383103329343,"",""]
[null,"Udskrift (side 1):",null,null,null,null,null,null,null,null,null,{"$f":"AM95","v":{"$error":"#VALUE!"}},"<- tab ved oversvømmelse der medfører omsåning, eller blot reduceret udbytte i afgrøde der er skadet, men ikke omsået",null,null,null,null,null,null,null,null,null,null,null,null,null,null,null,null,null,null,null,null,null,null,null,null,null,null,null,null,null,null,"2024-03-10",49.552,56.552,61.552,68.552000000000007,72.552000000000007,null,null,null,4270.6097560975613,null,99.529589407050352,99.063088751973126,null,null,"2024-01-10",9864.3383103329343,"",""]
[null,null,null,null,null,null,null,null,null,null,null,null,null,null,null,null,null,null,null,null,null,null,null,null,null,null,null,null,null,null,null,null,null,null,null,null,null,null,null,null,null,null,null,"2024-03-11",49.515999999999998,56.515999999999998,61.515999999999998,68.516000000000005,72.516000000000005,null,null,null,4266.1219512195121,null,99.477321563389282,98.958987502192358,null,null,"2024-01-11",9864.3383103329343,"",""]
[null,{"$f":"B1","v":"Økonomi i afgrøder og sædskifter 2023"},null,null,null,null,null,null,null,null,null,null,null,null,null,null,null,null,null,null,null,null,null,null,null,null,null,null,null,null,null,null,null,null,null,null,null,null,null,null,null,null,null,"2024-03-12",49.48,56.48,61.48,68.48,72.48,null,null,null,4261.6341463414637,null,99.425053719728211,98.854886252411589,null,null,"2024-01-12",9864.3383103329343,"",""]
[null,null,null,null,null,null,null,null,null,null,null,"DBII vårsæd",null,null,null,null,null,null,null,null,null,null,null,null,null,null,null,null,null,null,null,null,null,null,null,null,null,null,null,null,null,null,null,"2024-03-13",49.443999999999996,56.443999999999996,61.443999999999996,68.444000000000003,72.444000000000003,null,null,null,4257.1463414634145,null,99.372785876067127,98.75078500263082,null,null,"2024-01-13",9864.3383103329343,"",""]
[null,null,null,null,null,{"$f":"IF(CV139>1,VLOOKUP(CV139,_Afg07,2),\"\")","v":"Vinterraps"},null,null,{"$f":"IF(CW139>1,VLOOKUP(CW139,_Afg07,2),\"\")","v":"Vinterraps"},null,null,null,{"$f":"IF(CX139>1,VLOOKUP(CX139,_Afg07,2),\"\")","v":"Vårbyg, foder"},null,null,null,null,null,null,null,null,null,null,null,null,null,null,null,null,null,null,null,null,null,null,null,null,null,null,null,null,null,null,"2024-03-14",{"$f":"IF($AR151=$AO$140,AS$136,IF($AR151<$AO$140,IF($AR151>=$AO$141,AS$136+(($AO$140-$AR151)*$AP$142/100),AS$136+(($AO$140-$AO$141)*$AP$142/100)+(($AO$141-$AR151)*$AP$141/100)),IF($AR151<$AO$142,AS$136-(($AR151-$AO$140)*$AP$142/100),AS$136-(($AO$142-$AO$140)*$AP$142/100)-(($AR151-$AO$142)*$AP$143/100))))","v":49.408000000000001},56.408000000000001,61.408000000000001,68.408000000000001,72.408000000000001,null,null,null,4252.6585365853662,null,99.320518032406056,{"$f":"BA151/$BA$136*100","v":98.646683752850066},null,null,"2024-01-14",9864.3383103329343,"","",null,null,null,null,null,null,null,null,null,null,null,null,null,null,null,null,null,null,null,null,null,null,null,null,null,null,null,null,null,"Efterafgr. Olieræddike"]
[null,"Udbytte pr. ha",null,{"$f":"IF(CV139>1,IF(D142=\"\",D141,D142),\"\")","v":44},{"$f":"IF(AND(D152<>\"\",D152>0),VLOOKUP(CV139,_Afg07,3),\"\")","v":"hkg"},null,null,{"$f":"IF(CW139>1,IF(H142=\"\",H141,H142),\"\")","v":44},{"$f":"IF(AND(H152<>\"\",H152>0),VLOOKUP(CW139,_Afg07,3),\"\")","v":"hkg"},null,null,{"$f":"IF(CX139>1,IF(L142=\"\",L141,L142),\"\")","v":65},{"$f":"IF(AND(L152<>\"\",L152>0),VLOOKUP(CX139,_Afg07,3),\"\")","v":"hkg"},null,null,null,null,null,"I nedenstående felter kan du overskrive gennemsnitsværdier i økonomiberegning, kr. pr. ha",null,null,null,null,null,null,null,null,null,null,null,null,null,null,null,null,null,null,null,null,null,null,null,null,"2024-03-15",49.372,56.372,61.372,68.372,72.372,null,null,null,4248.1707317073169,null,99.268250188744986,{"$f":"BA152/$BA$136*100","v":98.542582503069283},null,null,"2024-01-15",9864.3383103329343,"","",null,null,null,null,null,null,null,null,null,null,null,null,null,null,null,null,null,null,null,null,null,null,null,null,null,null,null,null,null,"Efterafgr. Rajgræs"]
[null,"Pris pr. hkg",null,{"$f":"IF(CV139>1,IF(D145=\"\",D144,D145),\"\")","v":370},{"$f":"IF(D153<>\"\",\"kr.\",\"\")","v":"kr."},null,null,{"$f":"IF(CW139>1,IF(H145=\"\",H144,H145),\"\")","v":370},{"$f":"IF(H153<>\"\",\"kr.\",\"\")","v":"kr."},null,null,{"$f":"IF(CX139>1,IF(L145=\"\",L144,L145),\"\")","v":165},{"$f":"IF(L153<>\"\",\"kr.\",\"\")","v":"kr."},null,null,null,null,null,"Husk minus foran omkostninger.",null,null,null,null,null,null,null,null,null,null,null,null,null,null,null,null,null,null,null,null,null,null,null,null,"2024-03-16",49.335999999999999,56.335999999999999,61.335999999999999,68.336000000000013,72.336000000000013,null,null,null,4243.6829268292686,null,99.21598234508393,98.438481253288529,null,null,"2024-01-16",9864.3383103329343,"","",null,null,null,null,null,null,null,null,null,null,null,null,null,null,null,null,null,null,null,null,null,null,null,null,null,null,null,null,null,"Efterafgr. Gul sennep",null,null,null,null,null,null,null,null,null,null,null,null,null,null,null,null,null,null,null,null,null,null,null,null,null,null,"Plov (Plo)",null,"Stubharve (Stu)",null,"Såbedsharve (Såb)",null,"Marksprøjte ",null,"Såmaskine (Såm)",null,"Mejetærsker (Mej)",null,"Halmpresser (Hal)",null,"Gylleudbringning",null,"Gødningsspreder",null,"Enkornsåmaskine",null,"Kartoffellægger",null,"Kartoffeloptager",null,"Roeoptager"]
[null,null,null,null,null,null,null,null,null,null,null,null,null,null,null,null,null,null,"Husk at slette tallene igen før ny beregning.",null,null,null,null,null,null,null,null,null,null,null,null,null,null,null,null,null,null,null,null,null,null,null,null,"2024-03-17",49.3,56.3,61.3,68.300000000000011,72.300000000000011,null,null,null,4239.1951219512193,null,99.163714501422859,98.334380003507761,null,null,"2024-01-17",9864.3383103329343,"",""]
[null,"Udbytte, kerne/frø",null,{"$f":"IF(CV139>1,D152*D153,\"\")","v":16280},{"$f":"IF(D155<>\"\",\"kr.\",\"\")","v":"kr."},null,null,{"$f":"IF(CW139>1,H152*H153,\"\")","v":16280},{"$f":"IF(H155<>\"\",\"kr.\",\"\")","v":"kr."},null,null,{"$f":"IF(CX139>1,L152*L153,\"\")","v":10725},{"$f":"IF(L155<>\"\",\"kr.\",\"\")","v":"kr."},null,null,null,null,null,null,null,null,null,null,null,null,null,null,null,null,null,null,null,null,null,null,null,null,null,null,null,null,null,null,"2024-03-18",49.263999999999996,56.263999999999996,61.263999999999996,68.26400000000001,72.26400000000001,null,null,null,4234.707317073171,null,99.111446657761775,98.230278753726992,null,null,"2024-01-18",9864.3383103329343,"","",null,null,null,null,null,null,null,null,null,null,null,null,null,null,null,null,null,null,null,null,null,null,null,null,null,null,null,null,null,null,null,null,null,null,null,null,null,null,null,null,null,null,null,null,null,null,null,null,null,null,null,null,null,null,null,null,3,null,2,null,2,null,1,null,2,null,2,null,2,null,2,null,2,null,1,null,2,null,1,null,1]
[null,"Udbytte, halm",null,{"$f":"IF(CV139>1,IF($CV$7=1,VLOOKUP(CV139,_Afg07,$CW$7,0)*Halmpris,\"\"),\"\")","v":0},{"$f":"IF(D156<>\"\",\"kr.\",\"\")","v":"kr."},null,null,{"$f":"IF(CW139>1,IF($CV$7=1,VLOOKUP(CW139,_Afg07,$CW$7,0)*Halmpris,\"\"),\"\")","v":0},{"$f":"IF(H156<>\"\",\"kr.\",\"\")","v":"kr."},null,null,{"$f":"IF(CX139>1,IF($CV$7=1,VLOOKUP(CX139,_Afg07,$CW$7,0)*Halmpris,\"\"),\"\")","v":2275},{"$f":"IF(L156<>\"\",\"kr.\",\"\")","v":"kr."},null,null,null,null,null,null,"Afgrøde/",null,"Alternativ 1",null,"Alternativ 2",null,null,null,null,null,null,null,null,null,null,null,null,null,null,null,null,null,null,null,"2024-03-19",49.228000000000002,56.228000000000002,61.228000000000002,68.228000000000009,72.228000000000009,null,null,null,4230.2195121951218,null,99.059178814100719,98.126177503946224,null,null,"2024-01-19",9864.3383103329343,"","",null,null,null,null,null,null,null,null,null,null,null,null,null,null,null,null,null,null,null,null,null,null,null,null,null,null,null,null,null,null,null,null,null,null,null,null,null,null,null,null,null,null,null,null,null,null,null,null,null,null,null,null,null,null,null,null,null,null,null,null,null,null,null,null,"Timer i alt"]
[null,"Forfrugtsværdi",null,{"$f":"IF(CV139>1,IF($CV$13=1,(VLOOKUP(CV139,_Afg07,$CW$13)*ffvpris+VLOOKUP(CV139,_Afg07,20)*Npris),0),\"\")","v":0},{"$f":"IF(D157<>\"\",\"kr.\",\"\")","v":"kr."},null,null,{"$f":"IF(CW139>1,IF($CV$13=1,(VLOOKUP(CW139,_Afg07,$CW$13)*ffvpris+VLOOKUP(CW139,_Afg07,20)*Npris),0),\"\")","v":0},{"$f":"IF(H157<>\"\",\"kr.\",\"\")","v":"kr."},null,null,{"$f":"IF(CX139>1,IF($CV$13=1,(VLOOKUP(CX139,_Afg07,$CW$13)*ffvpris+VLOOKUP(CX139,_Afg07,20)*Npris),0),\"\")","v":0},{"$f":"IF(L157<>\"\",\"kr.\",\"\")","v":"kr."},null,null,null,null,null,null,"sædskifte",null,null,null,null,null,null,null,null,null,null,null,null,null,null,null,null,null,null,null,null,null,null,null,"2024-03-20",49.192,56.192,61.192,68.192000000000007,72.192000000000007,null,null,null,4225.7317073170734,null,99.006910970439634,98.022076254165469,null,null,"2024-01-20",9864.3383103329343,"","",null,null,null,null,null,null,null,null,null,null,null,null,null,null,null,null,null,null,null,null,null,null,null,null,null,null,null,null,"Kagediagram 1",null,null,null,null,null,"Kagediagram Lopslag",null,null,null,null,"Erstatningskorn,sædskifte","Udbytte, foderkorn","Areal, foderkorn",null,null,"Halm fra foderkorn",null,"Hovedafgrøde_areal",null,null,null,null,null,null,null,null,null,"Pløjning",null,"Harvning efter høst",null,"Såbedsharvning",null,"Glyphosatsprøjtning",null,"Pløjning vinter/forå","Pløjning august","Pløjning sept","Harvning e høst juli","Harvning e høst august","Harvning e høst oktober","Såbedsharvn forår","Såbedsharvn august","Såbedsharvn september","Glyphosat forår","Glyphosat august","Glyphosat september","Såning forår","Såning august","Såning september","Høst juli","Høst august","Høst oktober","Halm juli","Halm august","Enkornsåning forår","Kartof lægning forår","Kartof optag sept","Roeoptag","Planteværn","Gødning","Gylle"]
[null,"Tilskud",null,{"$f":"IF(T158<>\"\",T158,\"\")","v":""},{"$f":"IF(D158<>\"\",\"kr.\",\"\")","v":""},null,null,{"$f":"IF(V158<>\"\",V158,\"\")","v":""},{"$f":"IF(H158<>\"\",\"kr.\",\"\")","v":""},null,null,{"$f":"IF(X158<>\"\",X158,\"\")","v":""},{"$f":"IF(L158<>\"\",\"kr.\",\"\")","v":""},null,null,null,null,null,"Tilskud",null,null,null,null,null,null,null,null,null,null,null,null,null,null,null,null,null,null,null,null,null,null,null,null,"2024-03-21",49.155999999999999,56.155999999999999,61.155999999999999,68.156000000000006,72.156000000000006,null,null,null,4221.2439024390242,null,98.954643126778564,97.917975004384701,null,null,"2024-01-21",9864.3383103329343,"","",null,null,null,null,null,null,null,null,null,null,null,null,null,null,null,null,null,null,null,null,null,null,null,null,null,null,null,null,{"$f":"IF(CN158=0,\"\",_xlfn.CONCAT(CN158,\" \",\"(\",CP158,\"ha\",\")\"))","v":""},{"$f":"IF(CO158=\"Egen afgrøde\",$C$43,CO158)","v":0},{"$f":"IF(CS158=$CN$151,0,IF(CS158=$CN$152,0,IF(CS158=$CN$153,0,CS158)))","v":0},{"$f":"IF(CS158=$CN$151,0,IF(CS158=$CN$152,0,IF(CS158=$CN$153,0,CT158)))","v":0},null,null,{"$f":"VLOOKUP(CV159,$R$288:$S$342,2)","v":0},{"$f":"D68","v":0}]
[null,"Bruttoudbytte i alt",null,{"$f":"IF(CV139>1,SUM(D155:D158),\"\")","v":16280},{"$f":"IF(D159<>\"\",\"kr.\",\"\")","v":"kr."},null,null,{"$f":"IF(CW139>1,SUM(H155:H158),\"\")","v":16280},{"$f":"IF(H159<>\"\",\"kr.\",\"\")","v":"kr."},null,null,{"$f":"IF(CX139>1,SUM(L155:L158),\"\")","v":13000},{"$f":"IF(L159<>\"\",\"kr.\",\"\")","v":"kr."},null,null,null,null,null,null,null,null,null,null,null,null,null,null,null,null,null,null,null,null,null,null,null,null,null,null,null,null,null,null,"2024-03-22",49.12,56.12,61.12,68.12,72.12,null,null,null,4216.7560975609758,null,98.902375283117479,97.813873754603947,null,null,"2024-01-22",9864.3383103329343,"","",null,null,null,null,null,null,null,null,null,null,null,null,null,null,null,null,null,null,null,null,null,null,null,null,null,null,null,null,{"$f":"IF(CN159=0,\"\",_xlfn.CONCAT(CN159,\" \",\"(\",CP159,\"ha\",\")\"))","v":""},0,{"$f":"IF(CS159=$CN$151,0,IF(CS159=$CN$152,0,IF(CS159=$CN$153,0,CS159)))","v":0},{"$f":"IF(CS159=$CN$151,0,IF(CS159=$CN$152,0,IF(CS159=$CN$153,0,CT159)))","v":0},null,null,{"$f":"VLOOKUP(CV161,$R$288:$S$342,2)","v":0},{"$f":"D70","v":0},null,1,null,{"$f":"IF(CV159>1,IF(VLOOKUP(CV159,_Afg07,$BU$285)=2,IF($CV$9=2,-VLOOKUP($R$324,_Afg07,$CW$9)*Erstatpris*D68,0),0),0)","v":0},{"$f":"IF(AND(CV159>1,VLOOKUP(CV159,_Afg07,$BU$285)=1),IF(F68<>\"\",F68,G68)*D68,0)","v":0},{"$f":"IF(AND(CV159>1,VLOOKUP(CV159,_Afg07,$BU$285)=1),D68,0)","v":0},null,null,{"$f":"IF(AND(CV159>1,VLOOKUP(CV159,_Afg07,$BU$285)=1),VLOOKUP(CV159,_Afg07,Halmnr)*D68,0)","v":0},null,null,null,null,null,null,null,null,null,null,null,true,null,false,null,true,null,false,null,{"$f":"IF(VLOOKUP($CV159,_Afg07,$BV$285)=1,IF($DO159,$D68/IF(_Plo2<>\"\",_Plo2,Plo),0),0)","v":0},{"$f":"IF(VLOOKUP($CV159,_Afg07,$BV$285)=2,IF($DO159,$D68/IF(_Plo2<>\"\",_Plo2,Plo),0),0)","v":0},{"$f":"IF(VLOOKUP($CV159,_Afg07,$BV$285)=3,IF($DO159,$D68/IF(_Plo2<>\"\",_Plo2,Plo),0),0)","v":0},{"$f":"IF(VLOOKUP($CV159,_Afg07,$BZ$285)=1,IF($DQ159,$D68/IF(_Stu2<>\"\",_Stu2,Stu),0),0)","v":0},{"$f":"IF(VLOOKUP($CV159,_Afg07,$BZ$285)=2,IF($DQ159,$D68/IF(_Stu2<>\"\",_Stu2,Stu),0),0)","v":0},{"$f":"IF(VLOOKUP($CV159,_Afg07,$BZ$285)=3,IF($DQ159,$D68/IF(_Stu2<>\"\",_Stu2,Stu),0),0)","v":0},{"$f":"IF(VLOOKUP($CV159,_Afg07,$BW$285)=1,IF($DS159,$D68/IF(Såb2<>\"\",Såb2,Såb),0),0)","v":0},{"$f":"IF(VLOOKUP($CV159,_Afg07,$BW$285)=2,IF($DS159,$D68/IF(Såb2<>\"\",Såb2,Såb),0),0)","v":0},{"$f":"IF(VLOOKUP($CV159,_Afg07,$BW$285)=3,IF($DS159,$D68/IF(Såb2<>\"\",Såb2,Såb),0),0)","v":0},{"$f":"IF(VLOOKUP($CV159,_Afg07,$BX$285)=1,IF($DU159,$D68/IF(_Gly2<>\"\",_Gly2,Gly),0),0)","v":0},{"$f":"IF(VLOOKUP($CV159,_Afg07,$BX$285)=2,IF($DU159,$D68/IF(_Gly2<>\"\",_Gly2,Gly),0),0)","v":0},{"$f":"IF(VLOOKUP($CV159,_Afg07,$BX$285)=3,IF($DU159,$D68/IF(_Gly2<>\"\",_Gly2,Gly),0),0)","v":0},{"$f":"IF(VLOOKUP($CV159,_Afg07,$BY$285)=1,$D68/IF(Såm2<>\"\",Såm2,Såm),0)","v":0},{"$f":"IF(VLOOKUP($CV159,_Afg07,$BY$285)=2,$D68/IF(Såm2<>\"\",Såm2,Såm),0)","v":0},{"$f":"IF(VLOOKUP($CV159,_Afg07,$BY$285)=3,$D68/IF(Såm2<>\"\",Såm2,Såm),0)","v":0},{"$f":"IF(VLOOKUP($CV159,_Afg07,$CA$285)=1,$D68/IF(_Mej2<>\"\",_Mej2,Mej)*VLOOKUP($CV159,_Afg07,$CC$285),0)","v":0},{"$f":"IF(VLOOKUP($CV159,_Afg07,$CA$285)=2,$D68/IF(_Mej2<>\"\",_Mej2,Mej)*VLOOKUP($CV159,_Afg07,$CC$285),0)","v":0},{"$f":"IF(VLOOKUP($CV159,_Afg07,$CA$285)=3,$D68/IF(_Mej2<>\"\",_Mej2,Mej)*VLOOKUP($CV159,_Afg07,$CC$285),0)","v":0},{"$f":"IF(HalmJa=1,IF(VLOOKUP($CV159,_Afg07,$CB$285)=1,$D68/IF(_Hal3<>\"\",_Hal3,Hal)+$D68/_Hal2,0),0)","v":0},{"$f":"IF(HalmJa=1,IF(VLOOKUP($CV159,_Afg07,$CB$285)=2,$D68/IF(_Hal3<>\"\",_Hal3,Hal)+$D68/_Hal2,0),0)","v":0},{"$f":"IF(VLOOKUP($CV159,_Afg07,$CD$285)=1,$D68/IF(_Enk2<>\"\",_Enk2,Enk),0)","v":0},{"$f":"IF(VLOOKUP($CV159,_Afg07,$CE$285)=1,$D68/IF(_Kar2<>\"\",_Kar2,Kar),0)","v":0},{"$f":"IF(VLOOKUP($CV159,_Afg07,$CF$285)=1,$D68/IF(Kopt2<>\"\",Kopt2,Kopt),0)","v":0},{"$f":"IF(VLOOKUP($CV159,_Afg07,$CG$285)=1,$D68/IF(Ropt2<>\"\",Ropt2,Ropt),0)","v":0},{"$f":"VLOOKUP($CV159,_Afg07,$CH$285)*$D68/IF(_Gly2<>\"\",_Gly2,Gly)","v":0},{"$f":"VLOOKUP($CV159,_Afg07,$CI$285)*$D68/IF(Gød2<>\"\",Gød2,Gød)","v":0}]
[null,null,null,null,null,null,null,"Ikke afholdte omkostninger",null,null,null,null,null,null,null,null,null,null,null,null,null,null,null,null,null,null,null,null,null,null,null,null,null,null,null,null,null,null,null,null,null,null,null,"2024-03-23",49.083999999999996,56.083999999999996,61.083999999999996,68.084000000000003,72.084000000000003,null,null,null,4212.2682926829266,null,98.850107439456409,97.709772504823164,null,null,"2024-01-23",9864.3383103329343,"","",null,null,null,null,null,null,null,null,null,null,null,null,null,null,null,null,null,null,null,null,null,null,null,null,null,null,null,null,"",0,0,0,null,null,{"$f":"VLOOKUP(CV163,$R$288:$S$342,2)","v":0},{"$f":"D72","v":0},null,1,null,{"$f":"IF(CV160>1,IF(VLOOKUP(CV160,_Afg07,$BU$285)=2,IF($CV$9=2,-VLOOKUP($R$324,_Afg07,$CW$9)*Erstatpris*D89,0),0),0)","v":0},{"$f":"IF(AND(CV160>1,VLOOKUP(CV160,_Afg07,$BU$285)=1),IF(F89<>\"\",F89,G89)*D89,0)","v":0},{"$f":"IF(AND(CV160>1,VLOOKUP(CV160,_Afg07,$BU$285)=1),D89,0)","v":0},null,null,{"$f":"IF(AND(CV160>1,VLOOKUP(CV160,_Afg07,$BU$285)=1),VLOOKUP(CV160,_Afg07,Halmnr)*D89,0)","v":0},null,null,null,null,null,null,null,null,null,null,null,true,null,false,null,true,null,false,null,{"$f":"IF(VLOOKUP($CV160,_Afg07,$BV$285)=1,IF($DO160,$D89/IF(_Plo2<>\"\",_Plo2,Plo),0),0)","v":0},{"$f":"IF(VLOOKUP($CV160,_Afg07,$BV$285)=2,IF($DO160,$D89/IF(_Plo2<>\"\",_Plo2,Plo),0),0)","v":0},{"$f":"IF(VLOOKUP($CV160,_Afg07,$BV$285)=3,IF($DO160,$D89/IF(_Plo2<>\"\",_Plo2,Plo),0),0)","v":0},{"$f":"IF(VLOOKUP($CV160,_Afg07,$BZ$285)=1,IF($DQ160,$D89/IF(_Stu2<>\"\",_Stu2,Stu),0),0)","v":0},{"$f":"IF(VLOOKUP($CV160,_Afg07,$BZ$285)=2,IF($DQ160,$D89/IF(_Stu2<>\"\",_Stu2,Stu),0),0)","v":0},{"$f":"IF(VLOOKUP($CV160,_Afg07,$BZ$285)=3,IF($DQ160,$D89/IF(_Stu2<>\"\",_Stu2,Stu),0),0)","v":0},{"$f":"IF(VLOOKUP($CV160,_Afg07,$BW$285)=1,IF($DS160,$D89/IF(Såb2<>\"\",Såb2,Såb),0),0)","v":0},{"$f":"IF(VLOOKUP($CV160,_Afg07,$BW$285)=2,IF($DS160,$D89/IF(Såb2<>\"\",Såb2,Såb),0),0)","v":0},{"$f":"IF(VLOOKUP($CV160,_Afg07,$BW$285)=3,IF($DS160,$D89/IF(Såb2<>\"\",Såb2,Såb),0),0)","v":0},{"$f":"IF(VLOOKUP($CV160,_Afg07,$BX$285)=1,IF($DU160,$D89/IF(_Gly2<>\"\",_Gly2,Gly),0),0)","v":0},{"$f":"IF(VLOOKUP($CV160,_Afg07,$BX$285)=2,IF($DU160,$D89/IF(_Gly2<>\"\",_Gly2,Gly),0),0)","v":0},{"$f":"IF(VLOOKUP($CV160,_Afg07,$BX$285)=3,IF($DU160,$D89/IF(_Gly2<>\"\",_Gly2,Gly),0),0)","v":0},{"$f":"IF(VLOOKUP($CV160,_Afg07,$BY$285)=1,$D89/IF(Såm2<>\"\",Såm2,Såm),0)","v":0},{"$f":"IF(VLOOKUP($CV160,_Afg07,$BY$285)=2,$D89/IF(Såm2<>\"\",Såm2,Såm),0)","v":0},{"$f":"IF(VLOOKUP($CV160,_Afg07,$BY$285)=3,$D89/IF(Såm2<>\"\",Såm2,Såm),0)","v":0},{"$f":"IF(VLOOKUP($CV160,_Afg07,$CA$285)=1,$D89/IF(_Mej2<>\"\",_Mej2,Mej)*VLOOKUP($CV160,_Afg07,$CC$285),0)","v":0},{"$f":"IF(VLOOKUP($CV160,_Afg07,$CA$285)=2,$D89/IF(_Mej2<>\"\",_Mej2,Mej)*VLOOKUP($CV160,_Afg07,$CC$285),0)","v":0},{"$f":"IF(VLOOKUP($CV160,_Afg07,$CA$285)=3,$D89/IF(_Mej2<>\"\",_Mej2,Mej)*VLOOKUP($CV160,_Afg07,$CC$285),0)","v":0},{"$f":"IF(HalmJa=1,IF(VLOOKUP($CV160,_Afg07,$CB$285)=1,$D89/IF(_Hal3<>\"\",_Hal3,Hal)+$D89/_Hal2,0),0)","v":0},{"$f":"IF(HalmJa=1,IF(VLOOKUP($CV160,_Afg07,$CB$285)=2,$D89/IF(_Hal3<>\"\",_Hal3,Hal)+$D89/_Hal2,0),0)","v":0},{"$f":"IF(VLOOKUP($CV160,_Afg07,$CD$285)=1,$D89/IF(_Enk2<>\"\",_Enk2,Enk),0)","v":0},{"$f":"IF(VLOOKUP($CV160,_Afg07,$CE$285)=1,$D89/IF(_Kar2<>\"\",_Kar2,Kar),0)","v":0},{"$f":"IF(VLOOKUP($CV160,_Afg07,$CF$285)=1,$D89/IF(Kopt2<>\"\",Kopt2,Kopt),0)","v":0},{"$f":"IF(VLOOKUP($CV160,_Afg07,$CG$285)=1,$D89/IF(Ropt2<>\"\",Ropt2,Ropt),0)","v":0},{"$f":"VLOOKUP($CV160,_Afg07,$CH$285)*$D89/IF(_Gly2<>\"\",_Gly2,Gly)","v":0},{"$f":"VLOOKUP($CV160,_Afg07,$CI$285)*$D89/IF(Gød2<>\"\",Gød2,Gød)","v":0}]
[null,"Udsæd",null,{"$f":"IF(CV139>1,IF(T161<>\"\",T161,-VLOOKUP(CV139,_Afg07,AL285)),\"\")","v":-550},{"$f":"IF(D161<>\"\",\"kr.\",\"\")","v":"kr."},null,null,{"$f":"IF(CW139>1,IF(V161<>\"\",V161,-VLOOKUP(CW139,_Afg07,AL285)),\"\")","v":0},{"$f":"IF(H161<>\"\",\"kr.\",\"\")","v":"kr."},null,null,{"$f":"IF(CX139>1,IF(X161<>\"\",X161,-VLOOKUP(CX139,_Afg07,AL285)),\"\")","v":-560},{"$f":"IF(L161<>\"\",\"kr.\",\"\")","v":"kr."},null,null,null,null,null,"Udsæd",null,null,0,null,null,null,null,null,null,null,null,null,null,null,null,null,null,null,null,null,null,null,null,null,"2024-03-24",{"$f":"IF($AR161=$AO$140,AS$136,IF($AR161<$AO$140,IF($AR161>=$AO$141,AS$136+(($AO$140-$AR161)*$AP$142/100),AS$136+(($AO$140-$AO$141)*$AP$142/100)+(($AO$141-$AR161)*$AP$141/100)),IF($AR161<$AO$142,AS$136-(($AR161-$AO$140)*$AP$142/100),AS$136-(($AO$142-$AO$140)*$AP$142/100)-(($AR161-$AO$142)*$AP$143/100))))","v":49.048000000000002},56.048000000000002,61.048000000000002,68.048000000000002,72.048000000000002,null,null,null,4207.7804878048782,null,98.797839595795338,97.605671255042409,null,null,"2024-01-24",9864.3383103329343,"","",null,null,null,null,null,null,null,null,null,null,null,null,null,null,null,null,null,null,null,null,null,null,null,null,null,null,null,null,"",0,0,0,null,null,{"$f":"VLOOKUP(CV165,$R$288:$S$342,2)","v":0},{"$f":"D74","v":0},null,1,null,{"$f":"IF(CV161>1,IF(VLOOKUP(CV161,_Afg07,$BU$285)=2,IF($CV$9=2,-VLOOKUP($R$324,_Afg07,$CW$9)*Erstatpris*D70,0),0),0)","v":0},{"$f":"IF(AND(CV161>1,VLOOKUP(CV161,_Afg07,$BU$285)=1),IF(F70<>\"\",F70,G70)*D70,0)","v":0},{"$f":"IF(AND(CV161>1,VLOOKUP(CV161,_Afg07,$BU$285)=1),D70,0)","v":0},null,null,{"$f":"IF(AND(CV161>1,VLOOKUP(CV161,_Afg07,$BU$285)=1),VLOOKUP(CV161,_Afg07,Halmnr)*D70,0)","v":0},null,null,null,null,null,null,null,null,null,null,null,true,null,false,null,true,null,false,null,{"$f":"IF(VLOOKUP($CV161,_Afg07,$BV$285)=1,IF($DO161,$D70/IF(_Plo2<>\"\",_Plo2,Plo),0),0)","v":0},{"$f":"IF(VLOOKUP($CV161,_Afg07,$BV$285)=2,IF($DO161,$D70/IF(_Plo2<>\"\",_Plo2,Plo),0),0)","v":0},{"$f":"IF(VLOOKUP($CV161,_Afg07,$BV$285)=3,IF($DO161,$D70/IF(_Plo2<>\"\",_Plo2,Plo),0),0)","v":0},{"$f":"IF(VLOOKUP($CV161,_Afg07,$BZ$285)=1,IF($DQ161,$D70/IF(_Stu2<>\"\",_Stu2,Stu),0),0)","v":0},{"$f":"IF(VLOOKUP($CV161,_Afg07,$BZ$285)=2,IF($DQ161,$D70/IF(_Stu2<>\"\",_Stu2,Stu),0),0)","v":0},{"$f":"IF(VLOOKUP($CV161,_Afg07,$BZ$285)=3,IF($DQ161,$D70/IF(_Stu2<>\"\",_Stu2,Stu),0),0)","v":0},{"$f":"IF(VLOOKUP($CV161,_Afg07,$BW$285)=1,IF($DS161,$D70/IF(Såb2<>\"\",Såb2,Såb),0),0)","v":0},{"$f":"IF(VLOOKUP($CV161,_Afg07,$BW$285)=2,IF($DS161,$D70/IF(Såb2<>\"\",Såb2,Såb),0),0)","v":0},{"$f":"IF(VLOOKUP($CV161,_Afg07,$BW$285)=3,IF($DS161,$D70/IF(Såb2<>\"\",Såb2,Såb),0),0)","v":0},{"$f":"IF(VLOOKUP($CV161,_Afg07,$BX$285)=1,IF($DU161,$D70/IF(_Gly2<>\"\",_Gly2,Gly),0),0)","v":0},{"$f":"IF(VLOOKUP($CV161,_Afg07,$BX$285)=2,IF($DU161,$D70/IF(_Gly2<>\"\",_Gly2,Gly),0),0)","v":0},{"$f":"IF(VLOOKUP($CV161,_Afg07,$BX$285)=3,IF($DU161,$D70/IF(_Gly2<>\"\",_Gly2,Gly),0),0)","v":0},{"$f":"IF(VLOOKUP($CV161,_Afg07,$BY$285)=1,$D70/IF(Såm2<>\"\",Såm2,Såm),0)","v":0},{"$f":"IF(VLOOKUP($CV161,_Afg07,$BY$285)=2,$D70/IF(Såm2<>\"\",Såm2,Såm),0)","v":0},{"$f":"IF(VLOOKUP($CV161,_Afg07,$BY$285)=3,$D70/IF(Såm2<>\"\",Såm2,Såm),0)","v":0},{"$f":"IF(VLOOKUP($CV161,_Afg07,$CA$285)=1,$D70/IF(_Mej2<>\"\",_Mej2,Mej)*VLOOKUP($CV161,_Afg07,$CC$285),0)","v":0},{"$f":"IF(VLOOKUP($CV161,_Afg07,$CA$285)=2,$D70/IF(_Mej2<>\"\",_Mej2,Mej)*VLOOKUP($CV161,_Afg07,$CC$285),0)","v":0},{"$f":"IF(VLOOKUP($CV161,_Afg07,$CA$285)=3,$D70/IF(_Mej2<>\"\",_Mej2,Mej)*VLOOKUP($CV161,_Afg07,$CC$285),0)","v":0},{"$f":"IF(HalmJa=1,IF(VLOOKUP($CV161,_Afg07,$CB$285)=1,$D70/IF(_Hal3<>\"\",_Hal3,Hal)+$D70/_Hal2,0),0)","v":0},{"$f":"IF(HalmJa=1,IF(VLOOKUP($CV161,_Afg07,$CB$285)=2,$D70/IF(_Hal3<>\"\",_Hal3,Hal)+$D70/_Hal2,0),0)","v":0},{"$f":"IF(VLOOKUP($CV161,_Afg07,$CD$285)=1,$D70/IF(_Enk2<>\"\",_Enk2,Enk),0)","v":0},{"$f":"IF(VLOOKUP($CV161,_Afg07,$CE$285)=1,$D70/IF(_Kar2<>\"\",_Kar2,Kar),0)","v":0},{"$f":"IF(VLOOKUP($CV161,_Afg07,$CF$285)=1,$D70/IF(Kopt2<>\"\",Kopt2,Kopt),0)","v":0},{"$f":"IF(VLOOKUP($CV161,_Afg07,$CG$285)=1,$D70/IF(Ropt2<>\"\",Ropt2,Ropt),0)","v":0},{"$f":"VLOOKUP($CV161,_Afg07,$CH$285)*$D70/IF(_Gly2<>\"\",_Gly2,Gly)","v":0},{"$f":"VLOOKUP($CV161,_Afg07,$CI$285)*$D70/IF(Gød2<>\"\",Gød2,Gød)","v":0}]
[null,"Gødning",null,{"$f":"IF(Afgnr>1,IF(T162<>\"\",T162,-D576),\"\")","v":-3255.4320000000002},{"$f":"IF(D162<>\"\",\"kr.\",\"\")","v":"kr."},null,null,{"$f":"IF(Alt1nr>1,IF(V162<>\"\",V162,-H576),\"\")","v":-2604.3456000000006},{"$f":"IF(H162<>\"\",\"kr.\",\"\")","v":"kr."},null,null,{"$f":"IF(Alt2nr>1,IF(X162<>\"\",X162,-L576),\"\")","v":-1663.9561000000003},{"$f":"IF(L162<>\"\",\"kr.\",\"\")","v":"kr."},null,null,null,null,null,"Gødning",null,null,{"$f":"+D162*(1-AE97)","v":-2604.3456000000006},null,{"$f":"IF(AC93=\"Vinterraps\",-AM102,-AM99)","v":-1663.9561000000003},null,null,null,null,null,null,null,null,null,null,null,null,null,null,null,null,null,null,null,"2024-03-25",49.012,56.012,61.012,68.012,72.012,null,null,null,4203.292682926829,null,98.745571752134268,97.501570005261627,null,null,"2024-01-25",9864.3383103329343,"","",null,null,null,null,null,null,null,null,null,null,null,null,null,null,null,null,null,null,null,null,null,null,null,null,null,null,null,null,"",0,0,0,null,null,{"$f":"VLOOKUP(CV167,$R$288:$S$342,2)","v":0},{"$f":"D76","v":0},null,1,null,{"$f":"IF(CV162>1,IF(VLOOKUP(CV162,_Afg07,$BU$285)=2,IF($CV$9=2,-VLOOKUP($R$324,_Afg07,$CW$9)*Erstatpris*D91,0),0),0)","v":0},{"$f":"IF(AND(CV162>1,VLOOKUP(CV162,_Afg07,$BU$285)=1),IF(F91<>\"\",F91,G91)*D91,0)","v":0},{"$f":"IF(AND(CV162>1,VLOOKUP(CV162,_Afg07,$BU$285)=1),D91,0)","v":0},null,null,{"$f":"IF(AND(CV162>1,VLOOKUP(CV162,_Afg07,$BU$285)=1),VLOOKUP(CV162,_Afg07,Halmnr)*D91,0)","v":0},null,null,null,null,null,null,null,null,null,null,null,true,null,false,null,true,null,false,null,{"$f":"IF(VLOOKUP($CV162,_Afg07,$BV$285)=1,IF($DO162,$D91/IF(_Plo2<>\"\",_Plo2,Plo),0),0)","v":0},{"$f":"IF(VLOOKUP($CV162,_Afg07,$BV$285)=2,IF($DO162,$D91/IF(_Plo2<>\"\",_Plo2,Plo),0),0)","v":0},{"$f":"IF(VLOOKUP($CV162,_Afg07,$BV$285)=3,IF($DO162,$D91/IF(_Plo2<>\"\",_Plo2,Plo),0),0)","v":0},{"$f":"IF(VLOOKUP($CV162,_Afg07,$BZ$285)=1,IF($DQ162,$D91/IF(_Stu2<>\"\",_Stu2,Stu),0),0)","v":0},{"$f":"IF(VLOOKUP($CV162,_Afg07,$BZ$285)=2,IF($DQ162,$D91/IF(_Stu2<>\"\",_Stu2,Stu),0),0)","v":0},{"$f":"IF(VLOOKUP($CV162,_Afg07,$BZ$285)=3,IF($DQ162,$D91/IF(_Stu2<>\"\",_Stu2,Stu),0),0)","v":0},{"$f":"IF(VLOOKUP($CV162,_Afg07,$BW$285)=1,IF($DS162,$D91/IF(Såb2<>\"\",Såb2,Såb),0),0)","v":0},{"$f":"IF(VLOOKUP($CV162,_Afg07,$BW$285)=2,IF($DS162,$D91/IF(Såb2<>\"\",Såb2,Såb),0),0)","v":0},{"$f":"IF(VLOOKUP($CV162,_Afg07,$BW$285)=3,IF($DS162,$D91/IF(Såb2<>\"\",Såb2,Såb),0),0)","v":0},{"$f":"IF(VLOOKUP($CV162,_Afg07,$BX$285)=1,IF($DU162,$D91/IF(_Gly2<>\"\",_Gly2,Gly),0),0)","v":0},{"$f":"IF(VLOOKUP($CV162,_Afg07,$BX$285)=2,IF($DU162,$D91/IF(_Gly2<>\"\",_Gly2,Gly),0),0)","v":0},{"$f":"IF(VLOOKUP($CV162,_Afg07,$BX$285)=3,IF($DU162,$D91/IF(_Gly2<>\"\",_Gly2,Gly),0),0)","v":0},{"$f":"IF(VLOOKUP($CV162,_Afg07,$BY$285)=1,$D91/IF(Såm2<>\"\",Såm2,Såm),0)","v":0},{"$f":"IF(VLOOKUP($CV162,_Afg07,$BY$285)=2,$D91/IF(Såm2<>\"\",Såm2,Såm),0)","v":0},{"$f":"IF(VLOOKUP($CV162,_Afg07,$BY$285)=3,$D91/IF(Såm2<>\"\",Såm2,Såm),0)","v":0},{"$f":"IF(VLOOKUP($CV162,_Afg07,$CA$285)=1,$D91/IF(_Mej2<>\"\",_Mej2,Mej)*VLOOKUP($CV162,_Afg07,$CC$285),0)","v":0},{"$f":"IF(VLOOKUP($CV162,_Afg07,$CA$285)=2,$D91/IF(_Mej2<>\"\",_Mej2,Mej)*VLOOKUP($CV162,_Afg07,$CC$285),0)","v":0},{"$f":"IF(VLOOKUP($CV162,_Afg07,$CA$285)=3,$D91/IF(_Mej2<>\"\",_Mej2,Mej)*VLOOKUP($CV162,_Afg07,$CC$285),0)","v":0},{"$f":"IF(HalmJa=1,IF(VLOOKUP($CV162,_Afg07,$CB$285)=1,$D91/IF(_Hal3<>\"\",_Hal3,Hal)+$D91/_Hal2,0),0)","v":0},{"$f":"IF(HalmJa=1,IF(VLOOKUP($CV162,_Afg07,$CB$285)=2,$D91/IF(_Hal3<>\"\",_Hal3,Hal)+$D91/_Hal2,0),0)","v":0},{"$f":"IF(VLOOKUP($CV162,_Afg07,$CD$285)=1,$D91/IF(_Enk2<>\"\",_Enk2,Enk),0)","v":0},{"$f":"IF(VLOOKUP($CV162,_Afg07,$CE$285)=1,$D91/IF(_Kar2<>\"\",_Kar2,Kar),0)","v":0},{"$f":"IF(VLOOKUP($CV162,_Afg07,$CF$285)=1,$D91/IF(Kopt2<>\"\",Kopt2,Kopt),0)","v":0},{"$f":"IF(VLOOKUP($CV162,_Afg07,$CG$285)=1,$D91/IF(Ropt2<>\"\",Ropt2,Ropt),0)","v":0},{"$f":"VLOOKUP($CV162,_Afg07,$CH$285)*$D91/IF(_Gly2<>\"\",_Gly2,Gly)","v":0},{"$f":"VLOOKUP($CV162,_Afg07,$CI$285)*$D91/IF(Gød2<>\"\",Gød2,Gød)","v":0}]
[null,"Planteværn",null,{"$f":"IF(CV139>1,IF(T163<>\"\",T163,-VLOOKUP(CV139,_Afg07,AM285)),\"\")","v":-1185},{"$f":"IF(D163<>\"\",\"kr.\",\"\")","v":"kr."},null,null,{"$f":"IF(CW139>1,IF(V163<>\"\",V163,-VLOOKUP(CW139,_Afg07,AM285)),\"\")","v":-473.99999999999989},{"$f":"IF(H163<>\"\",\"kr.\",\"\")","v":"kr."},null,null,{"$f":"IF(CX139>1,IF(X163<>\"\",X163,-VLOOKUP(CX139,_Afg07,AM285)),\"\")","v":-340},{"$f":"IF(L163<>\"\",\"kr.\",\"\")","v":"kr."},null,null,null,null,null,"Planteværn",null,null,{"$f":"+D163*(1-AE98)","v":-473.99999999999989},null,null,null,null,null,null,null,null,null,null,null,null,null,null,null,null,null,null,null,null,null,"2024-03-26",48.975999999999999,55.975999999999999,60.975999999999999,67.975999999999999,71.975999999999999,null,null,null,4198.8048780487807,null,98.693303908473197,97.397468755480872,null,null,"2024-01-26",9864.3383103329343,"","",null,null,null,null,null,null,null,null,null,null,null,null,null,null,null,null,null,null,null,null,null,null,null,null,null,null,null,null,"",0,0,0,null,null,{"$f":"VLOOKUP(CV169,$R$288:$S$342,2)","v":0},{"$f":"D78","v":0},null,1,null,{"$f":"IF(CV163>1,IF(VLOOKUP(CV163,_Afg07,$BU$285)=2,IF($CV$9=2,-VLOOKUP($R$324,_Afg07,$CW$9)*Erstatpris*D72,0),0),0)","v":0},{"$f":"IF(AND(CV163>1,VLOOKUP(CV163,_Afg07,$BU$285)=1),IF(F72<>\"\",F72,G72)*D72,0)","v":0},{"$f":"IF(AND(CV163>1,VLOOKUP(CV163,_Afg07,$BU$285)=1),D72,0)","v":0},null,null,{"$f":"IF(AND(CV163>1,VLOOKUP(CV163,_Afg07,$BU$285)=1),VLOOKUP(CV163,_Afg07,Halmnr)*D72,0)","v":0},null,null,null,null,null,null,null,null,null,null,null,true,null,false,null,true,null,false,null,{"$f":"IF(VLOOKUP($CV163,_Afg07,$BV$285)=1,IF($DO163,$D72/IF(_Plo2<>\"\",_Plo2,Plo),0),0)","v":0},{"$f":"IF(VLOOKUP($CV163,_Afg07,$BV$285)=2,IF($DO163,$D72/IF(_Plo2<>\"\",_Plo2,Plo),0),0)","v":0},{"$f":"IF(VLOOKUP($CV163,_Afg07,$BV$285)=3,IF($DO163,$D72/IF(_Plo2<>\"\",_Plo2,Plo),0),0)","v":0},{"$f":"IF(VLOOKUP($CV163,_Afg07,$BZ$285)=1,IF($DQ163,$D72/IF(_Stu2<>\"\",_Stu2,Stu),0),0)","v":0},{"$f":"IF(VLOOKUP($CV163,_Afg07,$BZ$285)=2,IF($DQ163,$D72/IF(_Stu2<>\"\",_Stu2,Stu),0),0)","v":0},{"$f":"IF(VLOOKUP($CV163,_Afg07,$BZ$285)=3,IF($DQ163,$D72/IF(_Stu2<>\"\",_Stu2,Stu),0),0)","v":0},{"$f":"IF(VLOOKUP($CV163,_Afg07,$BW$285)=1,IF($DS163,$D72/IF(Såb2<>\"\",Såb2,Såb),0),0)","v":0},{"$f":"IF(VLOOKUP($CV163,_Afg07,$BW$285)=2,IF($DS163,$D72/IF(Såb2<>\"\",Såb2,Såb),0),0)","v":0},{"$f":"IF(VLOOKUP($CV163,_Afg07,$BW$285)=3,IF($DS163,$D72/IF(Såb2<>\"\",Såb2,Såb),0),0)","v":0},{"$f":"IF(VLOOKUP($CV163,_Afg07,$BX$285)=1,IF($DU163,$D72/IF(_Gly2<>\"\",_Gly2,Gly),0),0)","v":0},{"$f":"IF(VLOOKUP($CV163,_Afg07,$BX$285)=2,IF($DU163,$D72/IF(_Gly2<>\"\",_Gly2,Gly),0),0)","v":0},{"$f":"IF(VLOOKUP($CV163,_Afg07,$BX$285)=3,IF($DU163,$D72/IF(_Gly2<>\"\",_Gly2,Gly),0),0)","v":0},{"$f":"IF(VLOOKUP($CV163,_Afg07,$BY$285)=1,$D72/IF(Såm2<>\"\",Såm2,Såm),0)","v":0},{"$f":"IF(VLOOKUP($CV163,_Afg07,$BY$285)=2,$D72/IF(Såm2<>\"\",Såm2,Såm),0)","v":0},{"$f":"IF(VLOOKUP($CV163,_Afg07,$BY$285)=3,$D72/IF(Såm2<>\"\",Såm2,Såm),0)","v":0},{"$f":"IF(VLOOKUP($CV163,_Afg07,$CA$285)=1,$D72/IF(_Mej2<>\"\",_Mej2,Mej)*VLOOKUP($CV163,_Afg07,$CC$285),0)","v":0},{"$f":"IF(VLOOKUP($CV163,_Afg07,$CA$285)=2,$D72/IF(_Mej2<>\"\",_Mej2,Mej)*VLOOKUP($CV163,_Afg07,$CC$285),0)","v":0},{"$f":"IF(VLOOKUP($CV163,_Afg07,$CA$285)=3,$D72/IF(_Mej2<>\"\",_Mej2,Mej)*VLOOKUP($CV163,_Afg07,$CC$285),0)","v":0},{"$f":"IF(HalmJa=1,IF(VLOOKUP($CV163,_Afg07,$CB$285)=1,$D72/IF(_Hal3<>\"\",_Hal3,Hal)+$D72/_Hal2,0),0)","v":0},{"$f":"IF(HalmJa=1,IF(VLOOKUP($CV163,_Afg07,$CB$285)=2,$D72/IF(_Hal3<>\"\",_Hal3,Hal)+$D72/_Hal2,0),0)","v":0},{"$f":"IF(VLOOKUP($CV163,_Afg07,$CD$285)=1,$D72/IF(_Enk2<>\"\",_Enk2,Enk),0)","v":0},{"$f":"IF(VLOOKUP($CV163,_Afg07,$CE$285)=1,$D72/IF(_Kar2<>\"\",_Kar2,Kar),0)","v":0},{"$f":"IF(VLOOKUP($CV163,_Afg07,$CF$285)=1,$D72/IF(Kopt2<>\"\",Kopt2,Kopt),0)","v":0},{"$f":"IF(VLOOKUP($CV163,_Afg07,$CG$285)=1,$D72/IF(Ropt2<>\"\",Ropt2,Ropt),0)","v":0},{"$f":"VLOOKUP($CV163,_Afg07,$CH$285)*$D72/IF(_Gly2<>\"\",_Gly2,Gly)","v":0},{"$f":"VLOOKUP($CV163,_Afg07,$CI$285)*$D72/IF(Gød2<>\"\",Gød2,Gød)","v":0}]
[null,"Diverse",null,{"$f":"IF(Afgnr>1,IF(T164<>\"\",T164,-VLOOKUP(Afgnr,_Afg07,$AN$285)-D$152*VLOOKUP(Afgnr,_Afg07,$BB$285)),\"\")","v":-240.23809523809524},{"$f":"IF(D164<>\"\",\"kr.\",\"\")","v":"kr."},null,null,{"$f":"IF(CW139>1,IF(V164<>\"\",V164,-VLOOKUP(CW139,_Afg07,AN285)-H152*VLOOKUP(CW139,_Afg07,BB285)),\"\")","v":-240.23809523809524},{"$f":"IF(H164<>\"\",\"kr.\",\"\")","v":"kr."},null,null,{"$f":"IF(CX139>1,IF(X164<>\"\",X164,-VLOOKUP(CX139,_Afg07,AN285)-L152*VLOOKUP(CX139,_Afg07,BB285)),\"\")","v":0},{"$f":"IF(L164<>\"\",\"kr.\",\"\")","v":"kr."},null,null,null,null,null,"Diverse",null,null,{"$f":"+D164*(1-AE99)","v":-240.23809523809524},null,null,null,null,null,null,null,null,null,null,null,null,null,null,null,null,null,null,null,null,null,"2024-03-27",48.94,55.94,60.94,67.940000000000012,71.940000000000012,null,null,null,4194.3170731707314,null,98.641036064812141,97.293367505700104,null,null,"2024-01-27",9864.3383103329343,"","",null,null,null,null,null,null,null,null,null,null,null,null,null,null,null,null,null,null,null,null,null,null,null,null,null,null,null,null,"",0,0,0,null,null,{"$f":"VLOOKUP(CV171,$R$288:$S$342,2)","v":0},{"$f":"D80","v":0},null,1,null,{"$f":"IF(CV164>1,IF(VLOOKUP(CV164,_Afg07,$BU$285)=2,IF($CV$9=2,-VLOOKUP($R$324,_Afg07,$CW$9)*Erstatpris*D93,0),0),0)","v":0},{"$f":"IF(AND(CV164>1,VLOOKUP(CV164,_Afg07,$BU$285)=1),IF(F93<>\"\",F93,G93)*D93,0)","v":0},{"$f":"IF(AND(CV164>1,VLOOKUP(CV164,_Afg07,$BU$285)=1),D93,0)","v":0},null,null,{"$f":"IF(AND(CV164>1,VLOOKUP(CV164,_Afg07,$BU$285)=1),VLOOKUP(CV164,_Afg07,Halmnr)*D93,0)","v":0},null,null,null,null,null,null,null,null,null,null,null,true,null,false,null,true,null,false,null,{"$f":"IF(VLOOKUP($CV164,_Afg07,$BV$285)=1,IF($DO164,$D93/IF(_Plo2<>\"\",_Plo2,Plo),0),0)","v":0},{"$f":"IF(VLOOKUP($CV164,_Afg07,$BV$285)=2,IF($DO164,$D93/IF(_Plo2<>\"\",_Plo2,Plo),0),0)","v":0},{"$f":"IF(VLOOKUP($CV164,_Afg07,$BV$285)=3,IF($DO164,$D93/IF(_Plo2<>\"\",_Plo2,Plo),0),0)","v":0},{"$f":"IF(VLOOKUP($CV164,_Afg07,$BZ$285)=1,IF($DQ164,$D93/IF(_Stu2<>\"\",_Stu2,Stu),0),0)","v":0},{"$f":"IF(VLOOKUP($CV164,_Afg07,$BZ$285)=2,IF($DQ164,$D93/IF(_Stu2<>\"\",_Stu2,Stu),0),0)","v":0},{"$f":"IF(VLOOKUP($CV164,_Afg07,$BZ$285)=3,IF($DQ164,$D93/IF(_Stu2<>\"\",_Stu2,Stu),0),0)","v":0},{"$f":"IF(VLOOKUP($CV164,_Afg07,$BW$285)=1,IF($DS164,$D93/IF(Såb2<>\"\",Såb2,Såb),0),0)","v":0},{"$f":"IF(VLOOKUP($CV164,_Afg07,$BW$285)=2,IF($DS164,$D93/IF(Såb2<>\"\",Såb2,Såb),0),0)","v":0},{"$f":"IF(VLOOKUP($CV164,_Afg07,$BW$285)=3,IF($DS164,$D93/IF(Såb2<>\"\",Såb2,Såb),0),0)","v":0},{"$f":"IF(VLOOKUP($CV164,_Afg07,$BX$285)=1,IF($DU164,$D93/IF(_Gly2<>\"\",_Gly2,Gly),0),0)","v":0},{"$f":"IF(VLOOKUP($CV164,_Afg07,$BX$285)=2,IF($DU164,$D93/IF(_Gly2<>\"\",_Gly2,Gly),0),0)","v":0},{"$f":"IF(VLOOKUP($CV164,_Afg07,$BX$285)=3,IF($DU164,$D93/IF(_Gly2<>\"\",_Gly2,Gly),0),0)","v":0},{"$f":"IF(VLOOKUP($CV164,_Afg07,$BY$285)=1,$D93/IF(Såm2<>\"\",Såm2,Såm),0)","v":0},{"$f":"IF(VLOOKUP($CV164,_Afg07,$BY$285)=2,$D93/IF(Såm2<>\"\",Såm2,Såm),0)","v":0},{"$f":"IF(VLOOKUP($CV164,_Afg07,$BY$285)=3,$D93/IF(Såm2<>\"\",Såm2,Såm),0)","v":0},{"$f":"IF(VLOOKUP($CV164,_Afg07,$CA$285)=1,$D93/IF(_Mej2<>\"\",_Mej2,Mej)*VLOOKUP($CV164,_Afg07,$CC$285),0)","v":0},{"$f":"IF(VLOOKUP($CV164,_Afg07,$CA$285)=2,$D93/IF(_Mej2<>\"\",_Mej2,Mej)*VLOOKUP($CV164,_Afg07,$CC$285),0)","v":0},{"$f":"IF(VLOOKUP($CV164,_Afg07,$CA$285)=3,$D93/IF(_Mej2<>\"\",_Mej2,Mej)*VLOOKUP($CV164,_Afg07,$CC$285),0)","v":0},{"$f":"IF(HalmJa=1,IF(VLOOKUP($CV164,_Afg07,$CB$285)=1,$D93/IF(_Hal3<>\"\",_Hal3,Hal)+$D93/_Hal2,0),0)","v":0},{"$f":"IF(HalmJa=1,IF(VLOOKUP($CV164,_Afg07,$CB$285)=2,$D93/IF(_Hal3<>\"\",_Hal3,Hal)+$D93/_Hal2,0),0)","v":0},{"$f":"IF(VLOOKUP($CV164,_Afg07,$CD$285)=1,$D93/IF(_Enk2<>\"\",_Enk2,Enk),0)","v":0},{"$f":"IF(VLOOKUP($CV164,_Afg07,$CE$285)=1,$D93/IF(_Kar2<>\"\",_Kar2,Kar),0)","v":0},{"$f":"IF(VLOOKUP($CV164,_Afg07,$CF$285)=1,$D93/IF(Kopt2<>\"\",Kopt2,Kopt),0)","v":0},{"$f":"IF(VLOOKUP($CV164,_Afg07,$CG$285)=1,$D93/IF(Ropt2<>\"\",Ropt2,Ropt),0)","v":0},{"$f":"VLOOKUP($CV164,_Afg07,$CH$285)*$D93/IF(_Gly2<>\"\",_Gly2,Gly)","v":0},{"$f":"VLOOKUP($CV164,_Afg07,$CI$285)*$D93/IF(Gød2<>\"\",Gød2,Gød)","v":0}]
[null,"Stykomkostninger i alt",null,{"$f":"IF(Afgnr>1,D161+D162+D163+D164,\"\")","v":-5230.6700952380961},{"$f":"IF(D165<>\"\",\"kr.\",\"\")","v":"kr."},null,null,{"$f":"IF(Alt1nr>1,H161+H162+H163+H164,\"\")","v":-3318.583695238096},{"$f":"IF(H165<>\"\",\"kr.\",\"\")","v":"kr."},null,null,{"$f":"IF(Alt2nr>1,L161+L162+L163+L164,\"\")","v":-2563.9561000000003},{"$f":"IF(L165<>\"\",\"kr.\",\"\")","v":"kr."},null,null,null,null,null,null,{"$f":"IF(OR(T161>0,T162>0,T163>0,T164>0),\"Husk minus foran\",\"\")","v":""},null,{"$f":"IF(OR(V161>0,V162>0,V163>0,V164>0),\"Husk minus foran\",\"\")","v":""},null,{"$f":"IF(OR(X161>0,X162>0,X163>0,X164>0),\"Husk minus foran\",\"\")","v":""},null,null,null,null,null,null,null,null,null,null,null,null,null,null,null,null,null,null,null,"2024-03-28",48.903999999999996,55.903999999999996,60.903999999999996,67.904000000000011,71.904000000000011,null,null,null,4189.8292682926831,null,98.588768221151057,97.18926625591935,null,null,"2024-01-28",9864.3383103329343,"","",null,null,null,null,null,null,null,null,null,null,null,null,null,null,null,null,null,null,null,null,null,null,null,null,null,null,null,null,null,null,null,null,null,null,null,null,null,1,null,{"$f":"IF(CV165>1,IF(VLOOKUP(CV165,_Afg07,$BU$285)=2,IF($CV$9=2,-VLOOKUP($R$324,_Afg07,$CW$9)*Erstatpris*D74,0),0),0)","v":0},{"$f":"IF(AND(CV165>1,VLOOKUP(CV165,_Afg07,$BU$285)=1),IF(F74<>\"\",F74,G74)*D74,0)","v":0},{"$f":"IF(AND(CV165>1,VLOOKUP(CV165,_Afg07,$BU$285)=1),D74,0)","v":0},null,null,{"$f":"IF(AND(CV165>1,VLOOKUP(CV165,_Afg07,$BU$285)=1),VLOOKUP(CV165,_Afg07,Halmnr)*D74,0)","v":0},null,null,null,null,null,null,null,null,null,null,null,true,null,false,null,true,null,false,null,{"$f":"IF(VLOOKUP($CV165,_Afg07,$BV$285)=1,IF($DO165,$D74/IF(_Plo2<>\"\",_Plo2,Plo),0),0)","v":0},{"$f":"IF(VLOOKUP($CV165,_Afg07,$BV$285)=2,IF($DO165,$D74/IF(_Plo2<>\"\",_Plo2,Plo),0),0)","v":0},{"$f":"IF(VLOOKUP($CV165,_Afg07,$BV$285)=3,IF($DO165,$D74/IF(_Plo2<>\"\",_Plo2,Plo),0),0)","v":0},{"$f":"IF(VLOOKUP($CV165,_Afg07,$BZ$285)=1,IF($DQ165,$D74/IF(_Stu2<>\"\",_Stu2,Stu),0),0)","v":0},{"$f":"IF(VLOOKUP($CV165,_Afg07,$BZ$285)=2,IF($DQ165,$D74/IF(_Stu2<>\"\",_Stu2,Stu),0),0)","v":0},{"$f":"IF(VLOOKUP($CV165,_Afg07,$BZ$285)=3,IF($DQ165,$D74/IF(_Stu2<>\"\",_Stu2,Stu),0),0)","v":0},{"$f":"IF(VLOOKUP($CV165,_Afg07,$BW$285)=1,IF($DS165,$D74/IF(Såb2<>\"\",Såb2,Såb),0),0)","v":0},{"$f":"IF(VLOOKUP($CV165,_Afg07,$BW$285)=2,IF($DS165,$D74/IF(Såb2<>\"\",Såb2,Såb),0),0)","v":0},{"$f":"IF(VLOOKUP($CV165,_Afg07,$BW$285)=3,IF($DS165,$D74/IF(Såb2<>\"\",Såb2,Såb),0),0)","v":0},{"$f":"IF(VLOOKUP($CV165,_Afg07,$BX$285)=1,IF($DU165,$D74/IF(_Gly2<>\"\",_Gly2,Gly),0),0)","v":0},{"$f":"IF(VLOOKUP($CV165,_Afg07,$BX$285)=2,IF($DU165,$D74/IF(_Gly2<>\"\",_Gly2,Gly),0),0)","v":0},{"$f":"IF(VLOOKUP($CV165,_Afg07,$BX$285)=3,IF($DU165,$D74/IF(_Gly2<>\"\",_Gly2,Gly),0),0)","v":0},{"$f":"IF(VLOOKUP($CV165,_Afg07,$BY$285)=1,$D74/IF(Såm2<>\"\",Såm2,Såm),0)","v":0},{"$f":"IF(VLOOKUP($CV165,_Afg07,$BY$285)=2,$D74/IF(Såm2<>\"\",Såm2,Såm),0)","v":0},{"$f":"IF(VLOOKUP($CV165,_Afg07,$BY$285)=3,$D74/IF(Såm2<>\"\",Såm2,Såm),0)","v":0},{"$f":"IF(VLOOKUP($CV165,_Afg07,$CA$285)=1,$D74/IF(_Mej2<>\"\",_Mej2,Mej)*VLOOKUP($CV165,_Afg07,$CC$285),0)","v":0},{"$f":"IF(VLOOKUP($CV165,_Afg07,$CA$285)=2,$D74/IF(_Mej2<>\"\",_Mej2,Mej)*VLOOKUP($CV165,_Afg07,$CC$285),0)","v":0},{"$f":"IF(VLOOKUP($CV165,_Afg07,$CA$285)=3,$D74/IF(_Mej2<>\"\",_Mej2,Mej)*VLOOKUP($CV165,_Afg07,$CC$285),0)","v":0},{"$f":"IF(HalmJa=1,IF(VLOOKUP($CV165,_Afg07,$CB$285)=1,$D74/IF(_Hal3<>\"\",_Hal3,Hal)+$D74/_Hal2,0),0)","v":0},{"$f":"IF(HalmJa=1,IF(VLOOKUP($CV165,_Afg07,$CB$285)=2,$D74/IF(_Hal3<>\"\",_Hal3,Hal)+$D74/_Hal2,0),0)","v":0},{"$f":"IF(VLOOKUP($CV165,_Afg07,$CD$285)=1,$D74/IF(_Enk2<>\"\",_Enk2,Enk),0)","v":0},{"$f":"IF(VLOOKUP($CV165,_Afg07,$CE$285)=1,$D74/IF(_Kar2<>\"\",_Kar2,Kar),0)","v":0},{"$f":"IF(VLOOKUP($CV165,_Afg07,$CF$285)=1,$D74/IF(Kopt2<>\"\",Kopt2,Kopt),0)","v":0},{"$f":"IF(VLOOKUP($CV165,_Afg07,$CG$285)=1,$D74/IF(Ropt2<>\"\",Ropt2,Ropt),0)","v":0},{"$f":"VLOOKUP($CV165,_Afg07,$CH$285)*$D74/IF(_Gly2<>\"\",_Gly2,Gly)","v":0},{"$f":"VLOOKUP($CV165,_Afg07,$CI$285)*$D74/IF(Gød2<>\"\",Gød2,Gød)","v":0}]
[null,null,null,null,null,null,null,null,null,null,null,null,null,null,null,null,null,null,null,null,null,null,null,null,null,null,null,null,null,null,null,null,null,null,null,null,null,null,null,null,null,null,null,"2024-03-29",48.868000000000002,55.868000000000002,60.868000000000002,67.868000000000009,71.868000000000009,null,null,null,4185.3414634146338,null,98.536500377489986,97.085165006138567,null,null,"2024-01-29",9864.3383103329343,"","",null,null,null,null,null,null,null,null,null,null,null,null,null,null,null,null,null,null,null,null,null,null,null,null,null,null,null,null,null,null,null,null,null,null,null,null,null,1,null,{"$f":"IF(CV166>1,IF(VLOOKUP(CV166,_Afg07,$BU$285)=2,IF($CV$9=2,-VLOOKUP($R$324,_Afg07,$CW$9)*Erstatpris*D95,0),0),0)","v":0},{"$f":"IF(AND(CV166>1,VLOOKUP(CV166,_Afg07,$BU$285)=1),IF(F95<>\"\",F95,G95)*D95,0)","v":0},{"$f":"IF(AND(CV166>1,VLOOKUP(CV166,_Afg07,$BU$285)=1),D95,0)","v":0},null,null,{"$f":"IF(AND(CV166>1,VLOOKUP(CV166,_Afg07,$BU$285)=1),VLOOKUP(CV166,_Afg07,Halmnr)*D95,0)","v":0},null,null,null,null,null,null,null,null,null,null,null,true,null,false,null,true,null,false,null,{"$f":"IF(VLOOKUP($CV166,_Afg07,$BV$285)=1,IF($DO166,$D95/IF(_Plo2<>\"\",_Plo2,Plo),0),0)","v":0},{"$f":"IF(VLOOKUP($CV166,_Afg07,$BV$285)=2,IF($DO166,$D95/IF(_Plo2<>\"\",_Plo2,Plo),0),0)","v":0},{"$f":"IF(VLOOKUP($CV166,_Afg07,$BV$285)=3,IF($DO166,$D95/IF(_Plo2<>\"\",_Plo2,Plo),0),0)","v":0},{"$f":"IF(VLOOKUP($CV166,_Afg07,$BZ$285)=1,IF($DQ166,$D95/IF(_Stu2<>\"\",_Stu2,Stu),0),0)","v":0},{"$f":"IF(VLOOKUP($CV166,_Afg07,$BZ$285)=2,IF($DQ166,$D95/IF(_Stu2<>\"\",_Stu2,Stu),0),0)","v":0},{"$f":"IF(VLOOKUP($CV166,_Afg07,$BZ$285)=3,IF($DQ166,$D95/IF(_Stu2<>\"\",_Stu2,Stu),0),0)","v":0},{"$f":"IF(VLOOKUP($CV166,_Afg07,$BW$285)=1,IF($DS166,$D95/IF(Såb2<>\"\",Såb2,Såb),0),0)","v":0},{"$f":"IF(VLOOKUP($CV166,_Afg07,$BW$285)=2,IF($DS166,$D95/IF(Såb2<>\"\",Såb2,Såb),0),0)","v":0},{"$f":"IF(VLOOKUP($CV166,_Afg07,$BW$285)=3,IF($DS166,$D95/IF(Såb2<>\"\",Såb2,Såb),0),0)","v":0},{"$f":"IF(VLOOKUP($CV166,_Afg07,$BX$285)=1,IF($DU166,$D95/IF(_Gly2<>\"\",_Gly2,Gly),0),0)","v":0},{"$f":"IF(VLOOKUP($CV166,_Afg07,$BX$285)=2,IF($DU166,$D95/IF(_Gly2<>\"\",_Gly2,Gly),0),0)","v":0},{"$f":"IF(VLOOKUP($CV166,_Afg07,$BX$285)=3,IF($DU166,$D95/IF(_Gly2<>\"\",_Gly2,Gly),0),0)","v":0},{"$f":"IF(VLOOKUP($CV166,_Afg07,$BY$285)=1,$D95/IF(Såm2<>\"\",Såm2,Såm),0)","v":0},{"$f":"IF(VLOOKUP($CV166,_Afg07,$BY$285)=2,$D95/IF(Såm2<>\"\",Såm2,Såm),0)","v":0},{"$f":"IF(VLOOKUP($CV166,_Afg07,$BY$285)=3,$D95/IF(Såm2<>\"\",Såm2,Såm),0)","v":0},{"$f":"IF(VLOOKUP($CV166,_Afg07,$CA$285)=1,$D95/IF(_Mej2<>\"\",_Mej2,Mej)*VLOOKUP($CV166,_Afg07,$CC$285),0)","v":0},{"$f":"IF(VLOOKUP($CV166,_Afg07,$CA$285)=2,$D95/IF(_Mej2<>\"\",_Mej2,Mej)*VLOOKUP($CV166,_Afg07,$CC$285),0)","v":0},{"$f":"IF(VLOOKUP($CV166,_Afg07,$CA$285)=3,$D95/IF(_Mej2<>\"\",_Mej2,Mej)*VLOOKUP($CV166,_Afg07,$CC$285),0)","v":0},{"$f":"IF(HalmJa=1,IF(VLOOKUP($CV166,_Afg07,$CB$285)=1,$D95/IF(_Hal3<>\"\",_Hal3,Hal)+$D95/_Hal2,0),0)","v":0},{"$f":"IF(HalmJa=1,IF(VLOOKUP($CV166,_Afg07,$CB$285)=2,$D95/IF(_Hal3<>\"\",_Hal3,Hal)+$D95/_Hal2,0),0)","v":0},{"$f":"IF(VLOOKUP($CV166,_Afg07,$CD$285)=1,$D95/IF(_Enk2<>\"\",_Enk2,Enk),0)","v":0},{"$f":"IF(VLOOKUP($CV166,_Afg07,$CE$285)=1,$D95/IF(_Kar2<>\"\",_Kar2,Kar),0)","v":0},{"$f":"IF(VLOOKUP($CV166,_Afg07,$CF$285)=1,$D95/IF(Kopt2<>\"\",Kopt2,Kopt),0)","v":0},{"$f":"IF(VLOOKUP($CV166,_Afg07,$CG$285)=1,$D95/IF(Ropt2<>\"\",Ropt2,Ropt),0)","v":0},{"$f":"VLOOKUP($CV166,_Afg07,$CH$285)*$D95/IF(_Gly2<>\"\",_Gly2,Gly)","v":0},{"$f":"VLOOKUP($CV166,_Afg07,$CI$285)*$D95/IF(Gød2<>\"\",Gød2,Gød)","v":0}]
[null,"Dækningsbidrag",null,{"$f":"IF(Afgnr>1,(D159+D165),\"\")","v":11049.329904761904},{"$f":"IF(D167<>\"\",\"kr.\",\"\")","v":"kr."},null,null,{"$f":"IF(Alt1nr>1,(H159+H165),\"\")","v":12961.416304761904},{"$f":"IF(H167<>\"\",\"kr.\",\"\")","v":"kr."},null,null,{"$f":"IF(Alt2nr>1,(L159+L165),\"\")","v":10436.043900000001},{"$f":"IF(L167<>\"\",\"kr.\",\"\")","v":"kr."},null,null,null,null,null,null,null,null,null,null,null,null,null,null,null,null,null,null,null,null,null,null,null,null,null,null,null,null,null,null,"2024-03-30",48.832000000000001,55.832000000000001,60.832000000000001,67.832000000000008,71.832000000000008,null,null,null,4180.8536585365855,null,98.484232533828916,96.981063756357827,null,null,"2024-01-30",9864.3383103329343,"","",null,null,null,null,null,null,null,null,null,null,null,null,null,null,null,null,null,null,null,null,null,null,null,null,null,null,null,null,null,null,null,null,null,null,null,null,null,1,null,{"$f":"IF(CV167>1,IF(VLOOKUP(CV167,_Afg07,$BU$285)=2,IF($CV$9=2,-VLOOKUP($R$324,_Afg07,$CW$9)*Erstatpris*D76,0),0),0)","v":0},{"$f":"IF(AND(CV167>1,VLOOKUP(CV167,_Afg07,$BU$285)=1),IF(F76<>\"\",F76,G76)*D76,0)","v":0},{"$f":"IF(AND(CV167>1,VLOOKUP(CV167,_Afg07,$BU$285)=1),D76,0)","v":0},null,null,{"$f":"IF(AND(CV167>1,VLOOKUP(CV167,_Afg07,$BU$285)=1),VLOOKUP(CV167,_Afg07,Halmnr)*D76,0)","v":0},null,null,null,null,null,null,null,null,null,null,null,true,null,false,null,true,null,false,null,{"$f":"IF(VLOOKUP($CV167,_Afg07,$BV$285)=1,IF($DO167,$D76/IF(_Plo2<>\"\",_Plo2,Plo),0),0)","v":0},{"$f":"IF(VLOOKUP($CV167,_Afg07,$BV$285)=2,IF($DO167,$D76/IF(_Plo2<>\"\",_Plo2,Plo),0),0)","v":0},{"$f":"IF(VLOOKUP($CV167,_Afg07,$BV$285)=3,IF($DO167,$D76/IF(_Plo2<>\"\",_Plo2,Plo),0),0)","v":0},{"$f":"IF(VLOOKUP($CV167,_Afg07,$BZ$285)=1,IF($DQ167,$D76/IF(_Stu2<>\"\",_Stu2,Stu),0),0)","v":0},{"$f":"IF(VLOOKUP($CV167,_Afg07,$BZ$285)=2,IF($DQ167,$D76/IF(_Stu2<>\"\",_Stu2,Stu),0),0)","v":0},{"$f":"IF(VLOOKUP($CV167,_Afg07,$BZ$285)=3,IF($DQ167,$D76/IF(_Stu2<>\"\",_Stu2,Stu),0),0)","v":0},{"$f":"IF(VLOOKUP($CV167,_Afg07,$BW$285)=1,IF($DS167,$D76/IF(Såb2<>\"\",Såb2,Såb),0),0)","v":0},{"$f":"IF(VLOOKUP($CV167,_Afg07,$BW$285)=2,IF($DS167,$D76/IF(Såb2<>\"\",Såb2,Såb),0),0)","v":0},{"$f":"IF(VLOOKUP($CV167,_Afg07,$BW$285)=3,IF($DS167,$D76/IF(Såb2<>\"\",Såb2,Såb),0),0)","v":0},{"$f":"IF(VLOOKUP($CV167,_Afg07,$BX$285)=1,IF($DU167,$D76/IF(_Gly2<>\"\",_Gly2,Gly),0),0)","v":0},{"$f":"IF(VLOOKUP($CV167,_Afg07,$BX$285)=2,IF($DU167,$D76/IF(_Gly2<>\"\",_Gly2,Gly),0),0)","v":0},{"$f":"IF(VLOOKUP($CV167,_Afg07,$BX$285)=3,IF($DU167,$D76/IF(_Gly2<>\"\",_Gly2,Gly),0),0)","v":0},{"$f":"IF(VLOOKUP($CV167,_Afg07,$BY$285)=1,$D76/IF(Såm2<>\"\",Såm2,Såm),0)","v":0},{"$f":"IF(VLOOKUP($CV167,_Afg07,$BY$285)=2,$D76/IF(Såm2<>\"\",Såm2,Såm),0)","v":0},{"$f":"IF(VLOOKUP($CV167,_Afg07,$BY$285)=3,$D76/IF(Såm2<>\"\",Såm2,Såm),0)","v":0},{"$f":"IF(VLOOKUP($CV167,_Afg07,$CA$285)=1,$D76/IF(_Mej2<>\"\",_Mej2,Mej)*VLOOKUP($CV167,_Afg07,$CC$285),0)","v":0},{"$f":"IF(VLOOKUP($CV167,_Afg07,$CA$285)=2,$D76/IF(_Mej2<>\"\",_Mej2,Mej)*VLOOKUP($CV167,_Afg07,$CC$285),0)","v":0},{"$f":"IF(VLOOKUP($CV167,_Afg07,$CA$285)=3,$D76/IF(_Mej2<>\"\",_Mej2,Mej)*VLOOKUP($CV167,_Afg07,$CC$285),0)","v":0},{"$f":"IF(HalmJa=1,IF(VLOOKUP($CV167,_Afg07,$CB$285)=1,$D76/IF(_Hal3<>\"\",_Hal3,Hal)+$D76/_Hal2,0),0)","v":0},{"$f":"IF(HalmJa=1,IF(VLOOKUP($CV167,_Afg07,$CB$285)=2,$D76/IF(_Hal3<>\"\",_Hal3,Hal)+$D76/_Hal2,0),0)","v":0},{"$f":"IF(VLOOKUP($CV167,_Afg07,$CD$285)=1,$D76/IF(_Enk2<>\"\",_Enk2,Enk),0)","v":0},{"$f":"IF(VLOOKUP($CV167,_Afg07,$CE$285)=1,$D76/IF(_Kar2<>\"\",_Kar2,Kar),0)","v":0},{"$f":"IF(VLOOKUP($CV167,_Afg07,$CF$285)=1,$D76/IF(Kopt2<>\"\",Kopt2,Kopt),0)","v":0},{"$f":"IF(VLOOKUP($CV167,_Afg07,$CG$285)=1,$D76/IF(Ropt2<>\"\",Ropt2,Ropt),0)","v":0},{"$f":"VLOOKUP($CV167,_Afg07,$CH$285)*$D76/IF(_Gly2<>\"\",_Gly2,Gly)","v":0},{"$f":"VLOOKUP($CV167,_Afg07,$CI$285)*$D76/IF(Gød2<>\"\",Gød2,Gød)","v":0}]
[null,null,null,null,null,null,null,null,null,null,null,null,null,null,null,null,null,null,null,null,null,null,null,null,null,null,null,null,null,null,null,null,null,null,null,null,null,null,null,null,null,null,null,"2024-03-31",48.795999999999999,55.795999999999999,60.795999999999999,67.796000000000006,71.796000000000006,null,null,null,4176.3658536585363,null,98.431964690167845,96.876962506577044,null,null,"2024-01-31",9864.3383103329343,"","",null,null,null,null,null,null,null,null,null,null,null,null,null,null,null,null,null,null,null,null,null,null,null,null,null,null,null,null,"Kagediagram 2",null,null,null,null,null,"Kagediagram Lopslag",null,null,1,null,{"$f":"IF(CV168>1,IF(VLOOKUP(CV168,_Afg07,$BU$285)=2,IF($CV$9=2,-VLOOKUP($R$324,_Afg07,$CW$9)*Erstatpris*D97,0),0),0)","v":0},{"$f":"IF(AND(CV168>1,VLOOKUP(CV168,_Afg07,$BU$285)=1),IF(F97<>\"\",F97,G97)*D97,0)","v":0},{"$f":"IF(AND(CV168>1,VLOOKUP(CV168,_Afg07,$BU$285)=1),D97,0)","v":0},null,null,{"$f":"IF(AND(CV168>1,VLOOKUP(CV168,_Afg07,$BU$285)=1),VLOOKUP(CV168,_Afg07,Halmnr)*D97,0)","v":0},null,null,null,null,null,null,null,null,null,null,null,true,null,false,null,true,null,false,null,{"$f":"IF(VLOOKUP($CV168,_Afg07,$BV$285)=1,IF($DO168,$D97/IF(_Plo2<>\"\",_Plo2,Plo),0),0)","v":0},{"$f":"IF(VLOOKUP($CV168,_Afg07,$BV$285)=2,IF($DO168,$D97/IF(_Plo2<>\"\",_Plo2,Plo),0),0)","v":0},{"$f":"IF(VLOOKUP($CV168,_Afg07,$BV$285)=3,IF($DO168,$D97/IF(_Plo2<>\"\",_Plo2,Plo),0),0)","v":0},{"$f":"IF(VLOOKUP($CV168,_Afg07,$BZ$285)=1,IF($DQ168,$D97/IF(_Stu2<>\"\",_Stu2,Stu),0),0)","v":0},{"$f":"IF(VLOOKUP($CV168,_Afg07,$BZ$285)=2,IF($DQ168,$D97/IF(_Stu2<>\"\",_Stu2,Stu),0),0)","v":0},{"$f":"IF(VLOOKUP($CV168,_Afg07,$BZ$285)=3,IF($DQ168,$D97/IF(_Stu2<>\"\",_Stu2,Stu),0),0)","v":0},{"$f":"IF(VLOOKUP($CV168,_Afg07,$BW$285)=1,IF($DS168,$D97/IF(Såb2<>\"\",Såb2,Såb),0),0)","v":0},{"$f":"IF(VLOOKUP($CV168,_Afg07,$BW$285)=2,IF($DS168,$D97/IF(Såb2<>\"\",Såb2,Såb),0),0)","v":0},{"$f":"IF(VLOOKUP($CV168,_Afg07,$BW$285)=3,IF($DS168,$D97/IF(Såb2<>\"\",Såb2,Såb),0),0)","v":0},{"$f":"IF(VLOOKUP($CV168,_Afg07,$BX$285)=1,IF($DU168,$D97/IF(_Gly2<>\"\",_Gly2,Gly),0),0)","v":0},{"$f":"IF(VLOOKUP($CV168,_Afg07,$BX$285)=2,IF($DU168,$D97/IF(_Gly2<>\"\",_Gly2,Gly),0),0)","v":0},{"$f":"IF(VLOOKUP($CV168,_Afg07,$BX$285)=3,IF($DU168,$D97/IF(_Gly2<>\"\",_Gly2,Gly),0),0)","v":0},{"$f":"IF(VLOOKUP($CV168,_Afg07,$BY$285)=1,$D97/IF(Såm2<>\"\",Såm2,Såm),0)","v":0},{"$f":"IF(VLOOKUP($CV168,_Afg07,$BY$285)=2,$D97/IF(Såm2<>\"\",Såm2,Såm),0)","v":0},{"$f":"IF(VLOOKUP($CV168,_Afg07,$BY$285)=3,$D97/IF(Såm2<>\"\",Såm2,Såm),0)","v":0},{"$f":"IF(VLOOKUP($CV168,_Afg07,$CA$285)=1,$D97/IF(_Mej2<>\"\",_Mej2,Mej)*VLOOKUP($CV168,_Afg07,$CC$285),0)","v":0},{"$f":"IF(VLOOKUP($CV168,_Afg07,$CA$285)=2,$D97/IF(_Mej2<>\"\",_Mej2,Mej)*VLOOKUP($CV168,_Afg07,$CC$285),0)","v":0},{"$f":"IF(VLOOKUP($CV168,_Afg07,$CA$285)=3,$D97/IF(_Mej2<>\"\",_Mej2,Mej)*VLOOKUP($CV168,_Afg07,$CC$285),0)","v":0},{"$f":"IF(HalmJa=1,IF(VLOOKUP($CV168,_Afg07,$CB$285)=1,$D97/IF(_Hal3<>\"\",_Hal3,Hal)+$D97/_Hal2,0),0)","v":0},{"$f":"IF(HalmJa=1,IF(VLOOKUP($CV168,_Afg07,$CB$285)=2,$D97/IF(_Hal3<>\"\",_Hal3,Hal)+$D97/_Hal2,0),0)","v":0},{"$f":"IF(VLOOKUP($CV168,_Afg07,$CD$285)=1,$D97/IF(_Enk2<>\"\",_Enk2,Enk),0)","v":0},{"$f":"IF(VLOOKUP($CV168,_Afg07,$CE$285)=1,$D97/IF(_Kar2<>\"\",_Kar2,Kar),0)","v":0},{"$f":"IF(VLOOKUP($CV168,_Afg07,$CF$285)=1,$D97/IF(Kopt2<>\"\",Kopt2,Kopt),0)","v":0},{"$f":"IF(VLOOKUP($CV168,_Afg07,$CG$285)=1,$D97/IF(Ropt2<>\"\",Ropt2,Ropt),0)","v":0},{"$f":"VLOOKUP($CV168,_Afg07,$CH$285)*$D97/IF(_Gly2<>\"\",_Gly2,Gly)","v":0},{"$f":"VLOOKUP($CV168,_Afg07,$CI$285)*$D97/IF(Gød2<>\"\",Gød2,Gød)","v":0}]
[null,"Maskiner og arbejde",null,{"$f":"IF(Afgnr=1,\"\",IF(Afgnr>1,IF(T169<>\"\",T169,-VLOOKUP(Afgnr,_Afg07,$CX$7)-IF(Hdgnr>1,VLOOKUP(Afgnr,_Afg07,51,FALSE)*VLOOKUP(Afgnr,_Afg07,73,FALSE),0)),\"\"))","v":-4390},{"$f":"IF(D169<>\"\",\"kr.\",\"\")","v":"kr."},null,null,{"$f":"IF(CW139=1,\"\",IF(CW139>1,IF(V169<>\"\",V169,-VLOOKUP(CW139,_Afg07,$CX$7)-IF(Hdgnr>1,VLOOKUP(Alt1nr,_Afg07,51,FALSE)*VLOOKUP(Alt1nr,_Afg07,73,FALSE),0)),\"\"))","v":-2349.0779944289698},{"$f":"IF(H169<>\"\",\"kr.\",\"\")","v":"kr."},null,null,{"$f":"IF(CX139=1,\"\",IF(CX139>1,IF(X169<>\"\",X169,-VLOOKUP(CX139,_Afg07,$CX$7)-IF(Hdgnr>1,VLOOKUP(Alt2nr,_Afg07,51,FALSE)*VLOOKUP(Alt2nr,_Afg07,73,FALSE),0)),\"\"))","v":{"$error":"#VALUE!"}},{"$f":"IF(L169<>\"\",\"kr.\",\"\")","v":{"$error":"#VALUE!"}},null,null,null,null,null,"Maskiner og arbejde",null,null,{"$f":"+D169*(1-AE101)","v":-2349.0779944289698},null,null,null,null,null,null,null,null,null,null,null,null,null,null,null,null,null,null,null,null,null,"2024-04-01",48.76,55.76,60.76,67.760000000000005,71.760000000000005,null,null,null,4171.8780487804879,null,98.379696846506775,96.77286125679629,null,null,"2024-02-01",9864.3383103329343,"","",null,null,null,null,null,null,null,null,null,null,null,null,null,null,null,null,null,null,null,null,null,null,null,null,null,null,null,null,{"$f":"IF(CN169=0,\"\",_xlfn.CONCAT(CN169,\" \",\"(\",CP169,\"ha\",\")\"))","v":""},{"$f":"IF(CO169=\"Egen afgrøde\",$C$43,CO169)","v":0},{"$f":"IF(CS169=$CN$151,0,IF(CS169=$CN$152,0,IF(CS169=$CN$153,0,CS169)))","v":0},{"$f":"IF(CS169=$CN$151,0,IF(CS169=$CN$152,0,IF(CS169=$CN$153,0,CT169)))","v":0},null,null,{"$f":"VLOOKUP(CV160,$R$288:$S$342,2)","v":0},{"$f":"D89","v":0},null,1,null,{"$f":"IF(CV169>1,IF(VLOOKUP(CV169,_Afg07,$BU$285)=2,IF($CV$9=2,-VLOOKUP($R$324,_Afg07,$CW$9)*Erstatpris*D78,0),0),0)","v":0},{"$f":"IF(AND(CV169>1,VLOOKUP(CV169,_Afg07,$BU$285)=1),IF(F78<>\"\",F78,G78)*D78,0)","v":0},{"$f":"IF(AND(CV169>1,VLOOKUP(CV169,_Afg07,$BU$285)=1),D78,0)","v":0},null,null,{"$f":"IF(AND(CV169>1,VLOOKUP(CV169,_Afg07,$BU$285)=1),VLOOKUP(CV169,_Afg07,Halmnr)*D78,0)","v":0},null,null,null,null,"Lager til korn",null,null,null,null,null,null,true,null,false,null,true,null,false,null,{"$f":"IF(VLOOKUP($CV169,_Afg07,$BV$285)=1,IF($DO169,$D78/IF(_Plo2<>\"\",_Plo2,Plo),0),0)","v":0},{"$f":"IF(VLOOKUP($CV169,_Afg07,$BV$285)=2,IF($DO169,$D78/IF(_Plo2<>\"\",_Plo2,Plo),0),0)","v":0},{"$f":"IF(VLOOKUP($CV169,_Afg07,$BV$285)=3,IF($DO169,$D78/IF(_Plo2<>\"\",_Plo2,Plo),0),0)","v":0},{"$f":"IF(VLOOKUP($CV169,_Afg07,$BZ$285)=1,IF($DQ169,$D78/IF(_Stu2<>\"\",_Stu2,Stu),0),0)","v":0},{"$f":"IF(VLOOKUP($CV169,_Afg07,$BZ$285)=2,IF($DQ169,$D78/IF(_Stu2<>\"\",_Stu2,Stu),0),0)","v":0},{"$f":"IF(VLOOKUP($CV169,_Afg07,$BZ$285)=3,IF($DQ169,$D78/IF(_Stu2<>\"\",_Stu2,Stu),0),0)","v":0},{"$f":"IF(VLOOKUP($CV169,_Afg07,$BW$285)=1,IF($DS169,$D78/IF(Såb2<>\"\",Såb2,Såb),0),0)","v":0},{"$f":"IF(VLOOKUP($CV169,_Afg07,$BW$285)=2,IF($DS169,$D78/IF(Såb2<>\"\",Såb2,Såb),0),0)","v":0},{"$f":"IF(VLOOKUP($CV169,_Afg07,$BW$285)=3,IF($DS169,$D78/IF(Såb2<>\"\",Såb2,Såb),0),0)","v":0},{"$f":"IF(VLOOKUP($CV169,_Afg07,$BX$285)=1,IF($DU169,$D78/IF(_Gly2<>\"\",_Gly2,Gly),0),0)","v":0},{"$f":"IF(VLOOKUP($CV169,_Afg07,$BX$285)=2,IF($DU169,$D78/IF(_Gly2<>\"\",_Gly2,Gly),0),0)","v":0},{"$f":"IF(VLOOKUP($CV169,_Afg07,$BX$285)=3,IF($DU169,$D78/IF(_Gly2<>\"\",_Gly2,Gly),0),0)","v":0},{"$f":"IF(VLOOKUP($CV169,_Afg07,$BY$285)=1,$D78/IF(Såm2<>\"\",Såm2,Såm),0)","v":0},{"$f":"IF(VLOOKUP($CV169,_Afg07,$BY$285)=2,$D78/IF(Såm2<>\"\",Såm2,Såm),0)","v":0},{"$f":"IF(VLOOKUP($CV169,_Afg07,$BY$285)=3,$D78/IF(Såm2<>\"\",Såm2,Såm),0)","v":0},{"$f":"IF(VLOOKUP($CV169,_Afg07,$CA$285)=1,$D78/IF(_Mej2<>\"\",_Mej2,Mej)*VLOOKUP($CV169,_Afg07,$CC$285),0)","v":0},{"$f":"IF(VLOOKUP($CV169,_Afg07,$CA$285)=2,$D78/IF(_Mej2<>\"\",_Mej2,Mej)*VLOOKUP($CV169,_Afg07,$CC$285),0)","v":0},{"$f":"IF(VLOOKUP($CV169,_Afg07,$CA$285)=3,$D78/IF(_Mej2<>\"\",_Mej2,Mej)*VLOOKUP($CV169,_Afg07,$CC$285),0)","v":0},{"$f":"IF(HalmJa=1,IF(VLOOKUP($CV169,_Afg07,$CB$285)=1,$D78/IF(_Hal3<>\"\",_Hal3,Hal)+$D78/_Hal2,0),0)","v":0},{"$f":"IF(HalmJa=1,IF(VLOOKUP($CV169,_Afg07,$CB$285)=2,$D78/IF(_Hal3<>\"\",_Hal3,Hal)+$D78/_Hal2,0),0)","v":0},{"$f":"IF(VLOOKUP($CV169,_Afg07,$CD$285)=1,$D78/IF(_Enk2<>\"\",_Enk2,Enk),0)","v":0},{"$f":"IF(VLOOKUP($CV169,_Afg07,$CE$285)=1,$D78/IF(_Kar2<>\"\",_Kar2,Kar),0)","v":0},{"$f":"IF(VLOOKUP($CV169,_Afg07,$CF$285)=1,$D78/IF(Kopt2<>\"\",Kopt2,Kopt),0)","v":0},{"$f":"IF(VLOOKUP($CV169,_Afg07,$CG$285)=1,$D78/IF(Ropt2<>\"\",Ropt2,Ropt),0)","v":0},{"$f":"VLOOKUP($CV169,_Afg07,$CH$285)*$D78/IF(_Gly2<>\"\",_Gly2,Gly)","v":0},{"$f":"VLOOKUP($CV169,_Afg07,$CI$285)*$D78/IF(Gød2<>\"\",Gød2,Gød)","v":0}]
[null,{"$f":"IF(Tørringnr=1,\"Tørring (løntørring)\",\"Tørring (korn i eget tørreri)\")","v":"Tørring (løntørring)"},null,{"$f":"IF(Afgnr>1,IF(T170<>\"\",T170,IF(VLOOKUP(Afgnr,_Afg07,$BU$285)=2,-VLOOKUP(Afgnr,_Afg07,$BN$285)*D$152,IF(AND(VLOOKUP(Afgnr,_Afg07,$BU$285)=1,$CY$5=4),0,IF($CY$7=1,-VLOOKUP(Afgnr,_Afg07,$BN$285)*D$152,-VLOOKUP(Afgnr,_Afg07,$BO$285)*D$152)))),\"\")","v":-748},{"$f":"IF(D170<>\"\",\"kr.\",\"\")","v":"kr."},null,null,{"$f":"IF(Alt1nr>1,IF(V170<>\"\",V170,IF(VLOOKUP(Alt1nr,_Afg07,$BU$285)=2,-VLOOKUP(Alt1nr,_Afg07,$BN$285)*H152,IF(AND(VLOOKUP(Alt1nr,_Afg07,$BU$285)=1,$CY$5=4),0,IF($CY$7=1,-VLOOKUP(Alt1nr,_Afg07,$BN$285)*H152,-VLOOKUP(Alt1nr,_Afg07,$BO$285)*H152)))),\"\")","v":-748},{"$f":"IF(H170<>\"\",\"kr.\",\"\")","v":"kr."},null,null,{"$f":"IF(Alt2nr>1,IF(X170<>\"\",X170,IF(VLOOKUP(Alt2nr,_Afg07,$BU$285)=2,-VLOOKUP(Alt2nr,_Afg07,$BN$285)*L152,IF(AND(VLOOKUP(Alt2nr,_Afg07,$BU$285)=1,$CY$5=4),0,IF($CY$7=1,-VLOOKUP(Alt2nr,_Afg07,$BN$285)*L152,-VLOOKUP(Alt2nr,_Afg07,$BO$285)*L152)))),\"\")","v":-780},{"$f":"IF(L170<>\"\",\"kr.\",\"\")","v":"kr."},null,null,null,null,null,{"$f":"B170","v":"Tørring (løntørring)"},null,null,{"$f":"+D170*(1-AE102)","v":-748},null,null,null,null,null,null,null,null,null,null,null,null,null,null,null,null,null,null,null,null,null,"2024-04-02",48.723999999999997,55.723999999999997,60.723999999999997,67.724000000000004,71.724000000000004,null,null,null,4167.3902439024387,null,98.32742900284569,96.668760007015507,null,null,"2024-02-02",9864.3383103329343,"","",null,null,null,null,null,null,null,null,null,null,null,null,null,null,null,null,null,null,null,null,null,null,null,null,null,null,null,null,{"$f":"IF(CN170=0,\"\",_xlfn.CONCAT(CN170,\" \",\"(\",CP170,\"ha\",\")\"))","v":""},{"$f":"IF(CO170=\"Egen afgrøde\",$C$43,CO170)","v":0},{"$f":"IF(CS170=$CN$151,0,IF(CS170=$CN$152,0,IF(CS170=$CN$153,0,CS170)))","v":0},{"$f":"IF(CS170=$CN$151,0,IF(CS170=$CN$152,0,IF(CS170=$CN$153,0,CT170)))","v":0},null,null,{"$f":"VLOOKUP(CV162,$R$288:$S$342,2)","v":0},{"$f":"D91","v":0},null,1,null,{"$f":"IF(CV170>1,IF(VLOOKUP(CV170,_Afg07,$BU$285)=2,IF($CV$9=2,-VLOOKUP($R$324,_Afg07,$CW$9)*Erstatpris*D99,0),0),0)","v":0},{"$f":"IF(AND(CV170>1,VLOOKUP(CV170,_Afg07,$BU$285)=1),IF(F99<>\"\",F99,G99)*D99,0)","v":0},{"$f":"IF(AND(CV170>1,VLOOKUP(CV170,_Afg07,$BU$285)=1),D99,0)","v":0},null,null,{"$f":"IF(AND(CV170>1,VLOOKUP(CV170,_Afg07,$BU$285)=1),VLOOKUP(CV170,_Afg07,Halmnr)*D99,0)","v":0},null,null,null,1,null,null,null,null,null,null,null,true,null,false,null,true,null,false,null,{"$f":"IF(VLOOKUP($CV170,_Afg07,$BV$285)=1,IF($DO170,$D99/IF(_Plo2<>\"\",_Plo2,Plo),0),0)","v":0},{"$f":"IF(VLOOKUP($CV170,_Afg07,$BV$285)=2,IF($DO170,$D99/IF(_Plo2<>\"\",_Plo2,Plo),0),0)","v":0},{"$f":"IF(VLOOKUP($CV170,_Afg07,$BV$285)=3,IF($DO170,$D99/IF(_Plo2<>\"\",_Plo2,Plo),0),0)","v":0},{"$f":"IF(VLOOKUP($CV170,_Afg07,$BZ$285)=1,IF($DQ170,$D99/IF(_Stu2<>\"\",_Stu2,Stu),0),0)","v":0},{"$f":"IF(VLOOKUP($CV170,_Afg07,$BZ$285)=2,IF($DQ170,$D99/IF(_Stu2<>\"\",_Stu2,Stu),0),0)","v":0},{"$f":"IF(VLOOKUP($CV170,_Afg07,$BZ$285)=3,IF($DQ170,$D99/IF(_Stu2<>\"\",_Stu2,Stu),0),0)","v":0},{"$f":"IF(VLOOKUP($CV170,_Afg07,$BW$285)=1,IF($DS170,$D99/IF(Såb2<>\"\",Såb2,Såb),0),0)","v":0},{"$f":"IF(VLOOKUP($CV170,_Afg07,$BW$285)=2,IF($DS170,$D99/IF(Såb2<>\"\",Såb2,Såb),0),0)","v":0},{"$f":"IF(VLOOKUP($CV170,_Afg07,$BW$285)=3,IF($DS170,$D99/IF(Såb2<>\"\",Såb2,Såb),0),0)","v":0},{"$f":"IF(VLOOKUP($CV170,_Afg07,$BX$285)=1,IF($DU170,$D99/IF(_Gly2<>\"\",_Gly2,Gly),0),0)","v":0},{"$f":"IF(VLOOKUP($CV170,_Afg07,$BX$285)=2,IF($DU170,$D99/IF(_Gly2<>\"\",_Gly2,Gly),0),0)","v":0},{"$f":"IF(VLOOKUP($CV170,_Afg07,$BX$285)=3,IF($DU170,$D99/IF(_Gly2<>\"\",_Gly2,Gly),0),0)","v":0},{"$f":"IF(VLOOKUP($CV170,_Afg07,$BY$285)=1,$D99/IF(Såm2<>\"\",Såm2,Såm),0)","v":0},{"$f":"IF(VLOOKUP($CV170,_Afg07,$BY$285)=2,$D99/IF(Såm2<>\"\",Såm2,Såm),0)","v":0},{"$f":"IF(VLOOKUP($CV170,_Afg07,$BY$285)=3,$D99/IF(Såm2<>\"\",Såm2,Såm),0)","v":0},{"$f":"IF(VLOOKUP($CV170,_Afg07,$CA$285)=1,$D99/IF(_Mej2<>\"\",_Mej2,Mej)*VLOOKUP($CV170,_Afg07,$CC$285),0)","v":0},{"$f":"IF(VLOOKUP($CV170,_Afg07,$CA$285)=2,$D99/IF(_Mej2<>\"\",_Mej2,Mej)*VLOOKUP($CV170,_Afg07,$CC$285),0)","v":0},{"$f":"IF(VLOOKUP($CV170,_Afg07,$CA$285)=3,$D99/IF(_Mej2<>\"\",_Mej2,Mej)*VLOOKUP($CV170,_Afg07,$CC$285),0)","v":0},{"$f":"IF(HalmJa=1,IF(VLOOKUP($CV170,_Afg07,$CB$285)=1,$D99/IF(_Hal3<>\"\",_Hal3,Hal)+$D99/_Hal2,0),0)","v":0},{"$f":"IF(HalmJa=1,IF(VLOOKUP($CV170,_Afg07,$CB$285)=2,$D99/IF(_Hal3<>\"\",_Hal3,Hal)+$D99/_Hal2,0),0)","v":0},{"$f":"IF(VLOOKUP($CV170,_Afg07,$CD$285)=1,$D99/IF(_Enk2<>\"\",_Enk2,Enk),0)","v":0},{"$f":"IF(VLOOKUP($CV170,_Afg07,$CE$285)=1,$D99/IF(_Kar2<>\"\",_Kar2,Kar),0)","v":0},{"$f":"IF(VLOOKUP($CV170,_Afg07,$CF$285)=1,$D99/IF(Kopt2<>\"\",Kopt2,Kopt),0)","v":0},{"$f":"IF(VLOOKUP($CV170,_Afg07,$CG$285)=1,$D99/IF(Ropt2<>\"\",Ropt2,Ropt),0)","v":0},{"$f":"VLOOKUP($CV170,_Afg07,$CH$285)*$D99/IF(_Gly2<>\"\",_Gly2,Gly)","v":0},{"$f":"VLOOKUP($CV170,_Afg07,$CI$285)*$D99/IF(Gød2<>\"\",Gød2,Gød)","v":0}]
[null,{"$f":"IF(Købernr=2,\"Erstatningskorn\",\"\")","v":""},null,{"$f":"IF(CV139>1,IF($CV$9=2,IF(VLOOKUP(CV139,_Afg07,BU285)=2,(-VLOOKUP($R$324,_Afg07,$CW$9)*Erstatpris),IF(VLOOKUP(CV139,_Afg07,BU285)=3,$CX$173,IF(VLOOKUP(CV139,_Afg07,BU285)=4,$CX$174,\"\"))),\"\"),\"\")","v":""},{"$f":"IF(D171<>\"\",\"kr.\",\"\")","v":""},null,null,{"$f":"IF(CW139>1,IF($CV$9=2,IF(VLOOKUP(CW139,_Afg07,BU285)=2,(-VLOOKUP($R$324,_Afg07,$CW$9)*Erstatpris),IF(VLOOKUP(CW139,_Afg07,BU285)=3,$CX$173,IF(VLOOKUP(CW139,_Afg07,BU285)=4,$CX$174,\"\"))),\"\"),\"\")","v":""},{"$f":"IF(H171<>\"\",\"kr.\",\"\")","v":""},null,null,{"$f":"IF(CX139>1,IF($CV$9=2,IF(VLOOKUP(CX139,_Afg07,BU285)=2,(-VLOOKUP($R$324,_Afg07,$CW$9)*Erstatpris),IF(VLOOKUP(CX139,_Afg07,BU285)=3,$CX$173,IF(VLOOKUP(CX139,_Afg07,BU285)=4,$CX$174,\"\"))),\"\"),\"\")","v":""},{"$f":"IF(L171<>\"\",\"kr.\",\"\")","v":""},null,null,null,null,null,null,{"$f":"IF(OR(T169>0,T170>0),\"Husk minus foran\",\"\")","v":""},null,{"$f":"IF(OR(V169>0,V170>0),\"Husk minus foran\",\"\")","v":""},null,{"$f":"IF(OR(X169>0,X170>0),\"Husk minus foran\",\"\")","v":""},null,null,null,null,null,null,null,null,null,null,null,null,null,null,null,null,null,null,null,"2024-04-03",{"$f":"IF($AR171=$AO$140,AS$136,IF($AR171<$AO$140,IF($AR171>=$AO$141,AS$136+(($AO$140-$AR171)*$AP$142/100),AS$136+(($AO$140-$AO$141)*$AP$142/100)+(($AO$141-$AR171)*$AP$141/100)),IF($AR171<$AO$142,AS$136-(($AR171-$AO$140)*$AP$142/100),AS$136-(($AO$142-$AO$140)*$AP$142/100)-(($AR171-$AO$142)*$AP$143/100))))","v":48.687999999999995},55.687999999999995,60.687999999999995,67.688000000000002,71.688000000000002,null,null,null,4162.9024390243903,null,98.27516115918462,96.564658757234753,null,null,"2024-02-03",9864.3383103329343,"","",null,null,null,null,null,null,null,null,null,null,null,null,null,null,null,null,null,null,null,null,null,null,null,null,null,null,null,null,"",0,0,0,null,null,{"$f":"VLOOKUP(CV164,$R$288:$S$342,2)","v":0},{"$f":"D93","v":0},null,1,null,{"$f":"IF(CV171>1,IF(VLOOKUP(CV171,_Afg07,$BU$285)=2,IF($CV$9=2,-VLOOKUP($R$324,_Afg07,$CW$9)*Erstatpris*D80,0),0),0)","v":0},{"$f":"IF(AND(CV171>1,VLOOKUP(CV171,_Afg07,$BU$285)=1),IF(F80<>\"\",F80,G80)*D80,0)","v":0},{"$f":"IF(AND(CV171>1,VLOOKUP(CV171,_Afg07,$BU$285)=1),D80,0)","v":0},null,null,{"$f":"IF(AND(CV171>1,VLOOKUP(CV171,_Afg07,$BU$285)=1),VLOOKUP(CV171,_Afg07,Halmnr)*D80,0)","v":0},null,null,null,2,"Planlager",null,null,null,null,null,null,true,null,false,null,true,null,false,null,{"$f":"IF(VLOOKUP($CV171,_Afg07,$BV$285)=1,IF($DO171,$D80/IF(_Plo2<>\"\",_Plo2,Plo),0),0)","v":0},{"$f":"IF(VLOOKUP($CV171,_Afg07,$BV$285)=2,IF($DO171,$D80/IF(_Plo2<>\"\",_Plo2,Plo),0),0)","v":0},{"$f":"IF(VLOOKUP($CV171,_Afg07,$BV$285)=3,IF($DO171,$D80/IF(_Plo2<>\"\",_Plo2,Plo),0),0)","v":0},{"$f":"IF(VLOOKUP($CV171,_Afg07,$BZ$285)=1,IF($DQ171,$D80/IF(_Stu2<>\"\",_Stu2,Stu),0),0)","v":0},{"$f":"IF(VLOOKUP($CV171,_Afg07,$BZ$285)=2,IF($DQ171,$D80/IF(_Stu2<>\"\",_Stu2,Stu),0),0)","v":0},{"$f":"IF(VLOOKUP($CV171,_Afg07,$BZ$285)=3,IF($DQ171,$D80/IF(_Stu2<>\"\",_Stu2,Stu),0),0)","v":0},{"$f":"IF(VLOOKUP($CV171,_Afg07,$BW$285)=1,IF($DS171,$D80/IF(Såb2<>\"\",Såb2,Såb),0),0)","v":0},{"$f":"IF(VLOOKUP($CV171,_Afg07,$BW$285)=2,IF($DS171,$D80/IF(Såb2<>\"\",Såb2,Såb),0),0)","v":0},{"$f":"IF(VLOOKUP($CV171,_Afg07,$BW$285)=3,IF($DS171,$D80/IF(Såb2<>\"\",Såb2,Såb),0),0)","v":0},{"$f":"IF(VLOOKUP($CV171,_Afg07,$BX$285)=1,IF($DU171,$D80/IF(_Gly2<>\"\",_Gly2,Gly),0),0)","v":0},{"$f":"IF(VLOOKUP($CV171,_Afg07,$BX$285)=2,IF($DU171,$D80/IF(_Gly2<>\"\",_Gly2,Gly),0),0)","v":0},{"$f":"IF(VLOOKUP($CV171,_Afg07,$BX$285)=3,IF($DU171,$D80/IF(_Gly2<>\"\",_Gly2,Gly),0),0)","v":0},{"$f":"IF(VLOOKUP($CV171,_Afg07,$BY$285)=1,$D80/IF(Såm2<>\"\",Såm2,Såm),0)","v":0},{"$f":"IF(VLOOKUP($CV171,_Afg07,$BY$285)=2,$D80/IF(Såm2<>\"\",Såm2,Såm),0)","v":0},{"$f":"IF(VLOOKUP($CV171,_Afg07,$BY$285)=3,$D80/IF(Såm2<>\"\",Såm2,Såm),0)","v":0},{"$f":"IF(VLOOKUP($CV171,_Afg07,$CA$285)=1,$D80/IF(_Mej2<>\"\",_Mej2,Mej)*VLOOKUP($CV171,_Afg07,$CC$285),0)","v":0},{"$f":"IF(VLOOKUP($CV171,_Afg07,$CA$285)=2,$D80/IF(_Mej2<>\"\",_Mej2,Mej)*VLOOKUP($CV171,_Afg07,$CC$285),0)","v":0},{"$f":"IF(VLOOKUP($CV171,_Afg07,$CA$285)=3,$D80/IF(_Mej2<>\"\",_Mej2,Mej)*VLOOKUP($CV171,_Afg07,$CC$285),0)","v":0},{"$f":"IF(HalmJa=1,IF(VLOOKUP($CV171,_Afg07,$CB$285)=1,$D80/IF(_Hal3<>\"\",_Hal3,Hal)+$D80/_Hal2,0),0)","v":0},{"$f":"IF(HalmJa=1,IF(VLOOKUP($CV171,_Afg07,$CB$285)=2,$D80/IF(_Hal3<>\"\",_Hal3,Hal)+$D80/_Hal2,0),0)","v":0},{"$f":"IF(VLOOKUP($CV171,_Afg07,$CD$285)=1,$D80/IF(_Enk2<>\"\",_Enk2,Enk),0)","v":0},{"$f":"IF(VLOOKUP($CV171,_Afg07,$CE$285)=1,$D80/IF(_Kar2<>\"\",_Kar2,Kar),0)","v":0},{"$f":"IF(VLOOKUP($CV171,_Afg07,$CF$285)=1,$D80/IF(Kopt2<>\"\",Kopt2,Kopt),0)","v":0},{"$f":"IF(VLOOKUP($CV171,_Afg07,$CG$285)=1,$D80/IF(Ropt2<>\"\",Ropt2,Ropt),0)","v":0},{"$f":"VLOOKUP($CV171,_Afg07,$CH$285)*$D80/IF(_Gly2<>\"\",_Gly2,Gly)","v":0},{"$f":"VLOOKUP($CV171,_Afg07,$CI$285)*$D80/IF(Gød2<>\"\",Gød2,Gød)","v":0}]
[null,null,null,null,null,null,null,null,null,null,null,null,null,null,null,null,null,null,null,null,null,null,null,null,null,null,null,null,null,null,null,null,null,null,null,null,null,null,null,null,null,null,null,"2024-04-04",48.652000000000001,55.652000000000001,60.652000000000001,67.652000000000001,71.652000000000001,null,null,null,4158.4146341463411,null,98.222893315523535,96.460557507453984,null,null,"2024-02-04",9864.3383103329343,"","",null,null,null,null,null,null,null,null,null,null,null,null,null,null,null,null,null,null,null,null,null,null,null,null,null,null,null,null,"",0,0,0,null,null,{"$f":"VLOOKUP(CV166,$R$288:$S$342,2)","v":0},{"$f":"D95","v":0},null,1,null,{"$f":"IF(CV172>1,IF(VLOOKUP(CV172,_Afg07,$BU$285)=2,IF($CV$9=2,-VLOOKUP($R$324,_Afg07,$CW$9)*Erstatpris*D101,0),0),0)","v":0},{"$f":"IF(AND(CV172>1,VLOOKUP(CV172,_Afg07,$BU$285)=1),IF(F101<>\"\",F101,G101)*D101,0)","v":0},{"$f":"IF(AND(CV172>1,VLOOKUP(CV172,_Afg07,$BU$285)=1),D101,0)","v":0},"Kornudbytte i gns pr. ha af alle ha i sædskiftet","Udbytte foderkorn i gns pr. ha med foderkorn",{"$f":"IF(AND(CV172>1,VLOOKUP(CV172,_Afg07,$BU$285)=1),VLOOKUP(CV172,_Afg07,Halmnr)*D101,0)","v":0},null,null,null,3,"Stålsilo",null,null,null,null,null,null,true,null,false,null,true,null,false,null,{"$f":"IF(VLOOKUP($CV172,_Afg07,$BV$285)=1,IF($DO172,$D101/IF(_Plo2<>\"\",_Plo2,Plo),0),0)","v":0},{"$f":"IF(VLOOKUP($CV172,_Afg07,$BV$285)=2,IF($DO172,$D101/IF(_Plo2<>\"\",_Plo2,Plo),0),0)","v":0},{"$f":"IF(VLOOKUP($CV172,_Afg07,$BV$285)=3,IF($DO172,$D101/IF(_Plo2<>\"\",_Plo2,Plo),0),0)","v":0},{"$f":"IF(VLOOKUP($CV172,_Afg07,$BZ$285)=1,IF($DQ172,$D101/IF(_Stu2<>\"\",_Stu2,Stu),0),0)","v":0},{"$f":"IF(VLOOKUP($CV172,_Afg07,$BZ$285)=2,IF($DQ172,$D101/IF(_Stu2<>\"\",_Stu2,Stu),0),0)","v":0},{"$f":"IF(VLOOKUP($CV172,_Afg07,$BZ$285)=3,IF($DQ172,$D101/IF(_Stu2<>\"\",_Stu2,Stu),0),0)","v":0},{"$f":"IF(VLOOKUP($CV172,_Afg07,$BW$285)=1,IF($DS172,$D101/IF(Såb2<>\"\",Såb2,Såb),0),0)","v":0},{"$f":"IF(VLOOKUP($CV172,_Afg07,$BW$285)=2,IF($DS172,$D101/IF(Såb2<>\"\",Såb2,Såb),0),0)","v":0},{"$f":"IF(VLOOKUP($CV172,_Afg07,$BW$285)=3,IF($DS172,$D101/IF(Såb2<>\"\",Såb2,Såb),0),0)","v":0},{"$f":"IF(VLOOKUP($CV172,_Afg07,$BX$285)=1,IF($DU172,$D101/IF(_Gly2<>\"\",_Gly2,Gly),0),0)","v":0},{"$f":"IF(VLOOKUP($CV172,_Afg07,$BX$285)=2,IF($DU172,$D101/IF(_Gly2<>\"\",_Gly2,Gly),0),0)","v":0},{"$f":"IF(VLOOKUP($CV172,_Afg07,$BX$285)=3,IF($DU172,$D101/IF(_Gly2<>\"\",_Gly2,Gly),0),0)","v":0},{"$f":"IF(VLOOKUP($CV172,_Afg07,$BY$285)=1,$D101/IF(Såm2<>\"\",Såm2,Såm),0)","v":0},{"$f":"IF(VLOOKUP($CV172,_Afg07,$BY$285)=2,$D101/IF(Såm2<>\"\",Såm2,Såm),0)","v":0},{"$f":"IF(VLOOKUP($CV172,_Afg07,$BY$285)=3,$D101/IF(Såm2<>\"\",Såm2,Såm),0)","v":0},{"$f":"IF(VLOOKUP($CV172,_Afg07,$CA$285)=1,$D101/IF(_Mej2<>\"\",_Mej2,Mej)*VLOOKUP($CV172,_Afg07,$CC$285),0)","v":0},{"$f":"IF(VLOOKUP($CV172,_Afg07,$CA$285)=2,$D101/IF(_Mej2<>\"\",_Mej2,Mej)*VLOOKUP($CV172,_Afg07,$CC$285),0)","v":0},{"$f":"IF(VLOOKUP($CV172,_Afg07,$CA$285)=3,$D101/IF(_Mej2<>\"\",_Mej2,Mej)*VLOOKUP($CV172,_Afg07,$CC$285),0)","v":0},{"$f":"IF(HalmJa=1,IF(VLOOKUP($CV172,_Afg07,$CB$285)=1,$D101/IF(_Hal3<>\"\",_Hal3,Hal)+$D101/_Hal2,0),0)","v":0},{"$f":"IF(HalmJa=1,IF(VLOOKUP($CV172,_Afg07,$CB$285)=2,$D101/IF(_Hal3<>\"\",_Hal3,Hal)+$D101/_Hal2,0),0)","v":0},{"$f":"IF(VLOOKUP($CV172,_Afg07,$CD$285)=1,$D101/IF(_Enk2<>\"\",_Enk2,Enk),0)","v":0},{"$f":"IF(VLOOKUP($CV172,_Afg07,$CE$285)=1,$D101/IF(_Kar2<>\"\",_Kar2,Kar),0)","v":0},{"$f":"IF(VLOOKUP($CV172,_Afg07,$CF$285)=1,$D101/IF(Kopt2<>\"\",Kopt2,Kopt),0)","v":0},{"$f":"IF(VLOOKUP($CV172,_Afg07,$CG$285)=1,$D101/IF(Ropt2<>\"\",Ropt2,Ropt),0)","v":0},{"$f":"VLOOKUP($CV172,_Afg07,$CH$285)*$D101/IF(_Gly2<>\"\",_Gly2,Gly)","v":0},{"$f":"VLOOKUP($CV172,_Afg07,$CI$285)*$D101/IF(Gød2<>\"\",Gød2,Gød)","v":0}]
[null,"Resultat",null,{"$f":"IF(Afgnr>1,IF(D171=\"\",D167+D169+D170,D167+D169+D170+D171),\"\")","v":5911.3299047619039},{"$f":"IF(D173<>\"\",\"kr.\",\"\")","v":"kr."},null,null,{"$f":"IF(Alt1nr>1,IF(H171=\"\",H167+H169+H170,H167+H169+H170+H171),\"\")","v":9864.3383103329343},{"$f":"IF(H173<>\"\",\"kr.\",\"\")","v":"kr."},null,null,{"$f":"IF(Alt2nr>1,IF(L171=\"\",L167+L169+L170,L167+L169+L170+L171),\"\")","v":{"$error":"#VALUE!"}},{"$f":"IF(L173<>\"\",\"kr.\",\"\")","v":{"$error":"#VALUE!"}},null,null,null,null,null,null,null,null,null,null,null,null,null,null,null,null,null,null,null,null,null,null,null,null,null,null,null,null,null,null,"2024-04-05",48.616,55.616,60.616,67.616,71.616,null,null,null,4153.9268292682927,null,98.170625471862465,96.35645625767323,null,null,"2024-02-05",9864.3383103329343,"","",null,null,null,null,null,null,null,null,null,null,null,null,null,null,null,null,null,null,null,null,null,null,null,null,null,null,null,null,"",0,0,0,null,null,{"$f":"VLOOKUP(CV168,$R$288:$S$342,2)","v":0},{"$f":"D97","v":0},null,null,"Erstatkorn 1, gns.",{"$f":"(CX159+CX161+CX163+CX165+CX167+CX169+CX171)/D82","v":{"$error":"#DIV/0!"}},{"$f":"CY159+CY161+CY163+CY165+CY167+CY169+CY171","v":0},{"$f":"CZ159+CZ161+CZ163+CZ165+CZ167+CZ169+CZ171","v":0},{"$f":"CY173/D82","v":{"$error":"#DIV/0!"}},{"$f":"CY173/CZ173","v":{"$error":"#DIV/0!"}},{"$f":"DC159+DC161+DC163+DC165+DC167+DC169+DC171","v":0},null,null,null,4,"Gastæt silo",null,null,null,null,null,null,null,null,null,null,null,null,null,"Sædskifte 1",{"$f":"DW159+DW161+DW163+DW165+DW167+DW169+DW171","v":0},{"$f":"DX159+DX161+DX163+DX165+DX167+DX169+DX171","v":0},0,0,0,0,0,0,0,0,0,0,0,0,0,0,0,0,0,0,{"$f":"EQ159+EQ161+EQ163+EQ165+EQ167+EQ169+EQ171","v":0},0,0,0,0,0,{"$f":"D82*DE_ha*ton_DE/IF(_Gyl2<>\"\",_Gyl2,Gyl)","v":0}]
[null,null,null,null,null,null,null,"Bruttoudbytte - (ikke afholdte omkostninger)",null,null,null,null,null,null,null,null,null,null,null,null,null,null,null,null,null,null,null,null,null,null,null,null,null,null,null,null,null,null,null,null,null,null,null,"2024-04-06",48.58,55.58,60.58,67.580000000000013,71.580000000000013,null,null,null,4149.4390243902435,null,98.118357628201409,96.252355007892447,null,null,"2024-02-06",9864.3383103329343,"","",null,null,null,null,null,null,null,null,null,null,null,null,null,null,null,null,null,null,null,null,null,null,null,null,null,null,null,null,"",0,0,0,null,null,{"$f":"VLOOKUP(CV170,$R$288:$S$342,2)","v":0},{"$f":"D99","v":0},null,null,"Erstatkorn 2, gns.",{"$f":"(CX160+CX162+CX164+CX166+CX168+CX170+CX172)/D103","v":{"$error":"#DIV/0!"}},{"$f":"CY160+CY162+CY164+CY166+CY168+CY170+CY172","v":0},{"$f":"CZ160+CZ162+CZ164+CZ166+CZ168+CZ170+CZ172","v":0},{"$f":"CY174/D103","v":{"$error":"#DIV/0!"}},{"$f":"CY174/CZ174","v":{"$error":"#DIV/0!"}},{"$f":"DC160+DC162+DC164+DC166+DC168+DC170+DC172","v":0},null,null,null,null,null,null,null,null,null,null,null,null,null,null,null,null,null,null,"Sædskifte 2",{"$f":"DW160+DW162+DW164+DW166+DW168+DW170+DW172","v":0},{"$f":"DX160+DX162+DX164+DX166+DX168+DX170+DX172","v":0},0,0,0,0,0,0,0,0,0,0,0,0,0,0,0,0,0,0,0,0,0,0,0,0,{"$f":"D103*DE_ha*ton_DE/IF(_Gyl2<>\"\",_Gyl2,Gyl)","v":0}]
[null,null,null,null,null,null,null,null,null,null,null,null,null,null,null,null,null,null,null,null,null,null,null,null,null,null,null,null,null,null,null,null,null,null,null,null,null,null,null,null,null,null,null,"2024-04-07",48.543999999999997,55.543999999999997,60.543999999999997,67.544000000000011,71.544000000000011,null,null,null,4144.9512195121952,null,98.066089784540338,96.148253758111693,null,null,"2024-02-07",9864.3383103329343,"","",null,null,null,null,null,null,null,null,null,null,null,null,null,null,null,null,null,null,null,null,null,null,null,null,null,null,null,null,"",0,0,0,null,null,{"$f":"VLOOKUP(CV172,$R$288:$S$342,2)","v":0},{"$f":"D101","v":0},null,null,null,null,null,null,null,null,null,null,null,null,null,"Tørring korn"]
[null,"Ligevægtspris",null,null,null,null,null,{"$f":"IF(ISERROR(IF(AND(CW139>1,CW139<R340,CV139>1),(($D$173-H173)/H152)+H153,\"\")),\"\",IF(AND(CW139>1,CW139<R340,CV139>1),(($D$173-H173)/H152)+H153,\"\"))","v":280.15889987338568},{"$f":"IF(H176<>\"\",\"kr.\",\"\")","v":"kr."},null,null,{"$f":"IF(ISERROR(IF(AND(CX139>1,CX139<R340,CV139>1),(($D$173-L173)/L152)+L153,\"\")),\"\",IF(AND(CX139>1,CX139<R340,CV139>1),(($D$173-L173)/L152)+L153,\"\"))","v":""},{"$f":"IF(L176<>\"\",\"kr.\",\"\")","v":""},null,null,null,null,null,null,null,null,null,null,null,null,null,null,null,null,null,null,null,null,null,null,null,null,null,null,null,null,null,null,"2024-04-08",48.507999999999996,55.507999999999996,60.507999999999996,67.50800000000001,71.50800000000001,null,null,null,4140.4634146341459,null,98.013821940879268,96.04415250833091,null,null,"2024-02-08",9864.3383103329343,"","",null,null,null,null,null,null,null,null,null,null,null,null,null,null,null,null,null,null,null,null,null,null,null,null,null,null,null,null,null,null,null,null,null,null,null,null,null,null,null,null,null,null,null,null,null,null,null,null,1,"Løntørring",null,null,null,null,null,null,null,null,null,null,null,null,null,null,"Forår","August","Sept","Juli","August","Oktober","Forår","August","Sept","Forår","August","Sept","Forår","August","Sept","Juli","August","Oktober","Juli","August","Forår","Forår","Sept.","Oktober","Hele året","Hele året","Hele året"]
[null,"Ligevægtsudbytte",null,null,null,null,null,{"$f":"IF(ISERROR(IF(AND(CW139>1,CW139<R340,CV139>1),(($D$173-H173)/H153)+H152,\"\")),\"\",IF(AND(CW139>1,CW139<R340,CV139>1),(($D$173-H173)/H153)+H152,\"\"))","v":33.316193498456677},{"$f":"IF(H177<>\"\",VLOOKUP(CW139,_Afg07,3),\"\")","v":"hkg"},null,null,{"$f":"IF(ISERROR(IF(AND(CX139>1,CX139<R340,CV139>1),(($D$173-L173)/L153)+L152,\"\")),\"\",IF(AND(CX139>1,CX139<R340,CV139>1),(($D$173-L173)/L153)+L152,\"\"))","v":""},{"$f":"IF(L177<>\"\",VLOOKUP(CX139,_Afg07,3),\"\")","v":""},null,null,null,null,null,null,null,null,null,null,null,null,null,null,null,null,null,null,null,null,null,null,null,null,null,null,null,null,null,null,"2024-04-09",48.472000000000001,55.472000000000001,60.472000000000001,67.472000000000008,71.472000000000008,null,null,null,4135.9756097560976,null,97.961554097218198,95.94005125855017,null,null,"2024-02-09",9864.3383103329343,"",{"$f":"IF(BG177>=$V$136+$V$137,$L$173,\"\")","v":""},null,null,null,null,null,null,null,null,null,null,null,null,null,null,null,null,null,null,null,null,null,null,null,null,null,null,null,null,null,null,null,null,null,null,null,null,null,null,null,null,null,null,null,null,null,null,null,null,2,"Eget tørreri"]
[null,null,null,null,null,null,null,null,null,null,null,null,null,null,null,null,null,null,null,null,null,null,null,null,null,null,null,null,null,null,null,null,null,null,null,null,null,null,null,null,null,null,null,"2024-04-10",48.436,55.436,60.436,67.436000000000007,71.436000000000007,null,null,null,4131.4878048780483,null,97.909286253557113,95.835950008769387,null,null,"2024-02-10",9864.3383103329343,"",{"$f":"IF(BG178>=$V$136+$V$137,$L$173,\"\")","v":""},null,null,null,null,null,null,null,null,null,null,null,null,null,null,null,null,null,null,null,null,null,null,null,null,null,null,null,null,null,null,null,null,null,null,null,null,null,null,"Jordtyper"]
[null,null,null,null,null,null,null,null,null,null,null,null,null,null,null,null,null,null,null,null,null,null,null,null,null,null,null,null,null,null,null,null,null,null,null,null,null,null,null,null,null,null,null,"2024-04-11",48.4,55.4,60.4,67.400000000000006,71.400000000000006,null,null,null,4127,null,97.857018409896042,95.731848758988633,null,null,"2024-02-11",9864.3383103329343,"","",null,null,null,null,null,null,null,null,null,null,null,null,null,null,null,null,null,null,null,null,null,null,null,null,null,null,null,null,null,null,null,null,null,null,null,null,null,null,1,"JB 1+3",null,null,null,null,null,null,null,null,null,"Foderenheder"]
[null,{"$f":"IF(FEnr=1,\"Foderenheder pr. ha\",\"\")","v":""},null,{"$f":"IF(AND(Afgnr>1,FEnr=1),IF(VLOOKUP(Afgnr,_Afg07,$BU$285)=1,D152*VLOOKUP(Afgnr,_Afg07,$BT$285),IF(VLOOKUP(Afgnr,_Afg07,$BU$285)=3,$DA$173*VLOOKUP(1,Foderkorn,$BT$285),IF(VLOOKUP(Afgnr,_Afg07,$BU$285)=4,$DA$174*VLOOKUP(2,Foderkorn,$BT$285),\"\"))),\"\")","v":""},{"$f":"IF(D180<>\"\",\"FEsv\",\"\")","v":""},null,null,{"$f":"IF(AND(Alt1nr>1,FEnr=1),IF(VLOOKUP(Alt1nr,_Afg07,$BU$285)=1,H152*VLOOKUP(Alt1nr,_Afg07,$BT$285),IF(VLOOKUP(Alt1nr,_Afg07,$BU$285)=3,$DA$173*VLOOKUP(1,Foderkorn,$BT$285),IF(VLOOKUP(Alt1nr,_Afg07,$BU$285)=4,$DA$174*VLOOKUP(2,Foderkorn,$BT$285),\"\"))),\"\")","v":""},{"$f":"IF(H180<>\"\",\"FEsv\",\"\")","v":""},null,null,{"$f":"IF(AND(Alt2nr>1,FEnr=1),IF(VLOOKUP(Alt2nr,_Afg07,$BU$285)=1,L152*VLOOKUP(Alt2nr,_Afg07,$BT$285),IF(VLOOKUP(Alt2nr,_Afg07,$BU$285)=3,$DA$173*VLOOKUP(1,Foderkorn,$BT$285),IF(VLOOKUP(Alt2nr,_Afg07,$BU$285)=4,$DA$174*VLOOKUP(2,Foderkorn,$BT$285),\"\"))),\"\")","v":""},{"$f":"IF(L180<>\"\",\"FEsv\",\"\")","v":""},null,null,null,null,null,null,null,null,null,null,null,null,null,null,null,null,null,null,null,null,null,null,null,null,null,null,null,null,null,null,"2024-04-12",47.8,54.8,59.8,66.8,70.8,null,null,null,{"$f":"BA$179-($BA$179-$BA$201)/($AO$142-$AO$141)*($AR180-$AO$141)","v":4052.181818181818},null,96.985887682211498,93.996330739545769,null,null,"2024-02-12",9864.3383103329343,"","",null,null,null,null,null,null,null,null,null,null,null,null,null,null,null,null,null,null,null,null,null,null,null,null,null,null,null,null,null,null,null,null,null,null,null,null,null,null,2,"JB 2+4",null,null,null,null,null,null,null,null,1,"Vis"]
[null,{"$f":"IF(OR(Lagernr=1,FEnr=2),\"\",IF(Lagernr=BQ285,\"Lager (planlager)\",IF(Lagernr=BR285,\"Lager (stålsilo)\",\"Lager (gastæt silo)\")))","v":""},null,{"$f":"IF(AND(Afgnr>1,FEnr=1,Lagernr<>1),IF(VLOOKUP(Afgnr,_Afg07,$BU$285)=1,-D152*VLOOKUP(Afgnr,_Afg07,Lagernr)/D180,IF(VLOOKUP(Afgnr,_Afg07,$BU$285)=3,-$DA$173*VLOOKUP(1,Foderkorn,Lagernr)/D180,IF(VLOOKUP(Afgnr,_Afg07,$BU$285)=4,-$DA$174*VLOOKUP(2,Foderkorn,Lagernr)/D180,\"\"))),\"\")","v":""},{"$f":"IF(D181<>\"\",\"kr./FEsv\",\"\")","v":""},null,null,{"$f":"IF(AND(Alt1nr>1,FEnr=1,Lagernr<>1),IF(VLOOKUP(Alt1nr,_Afg07,$BU$285)=1,-H152*VLOOKUP(Alt1nr,_Afg07,Lagernr)/H180,IF(VLOOKUP(Alt1nr,_Afg07,$BU$285)=3,-$DA$173*VLOOKUP(1,Foderkorn,Lagernr)/H180,IF(VLOOKUP(Alt1nr,_Afg07,$BU$285)=4,-$DA$174*VLOOKUP(2,Foderkorn,Lagernr)/H180,\"\"))),\"\")","v":""},{"$f":"IF(H181<>\"\",\"kr./FEsv\",\"\")","v":""},null,null,{"$f":"IF(AND(Alt2nr>1,FEnr=1,Lagernr<>1),IF(VLOOKUP(Alt2nr,_Afg07,$BU$285)=1,-L152*VLOOKUP(Alt2nr,_Afg07,Lagernr)/L180,IF(VLOOKUP(Alt2nr,_Afg07,$BU$285)=3,-$DA$173*VLOOKUP(1,Foderkorn,Lagernr)/L180,IF(VLOOKUP(Alt2nr,_Afg07,$BU$285)=4,-$DA$174*VLOOKUP(2,Foderkorn,Lagernr)/L180,\"\"))),\"\")","v":""},{"$f":"IF(L181<>\"\",\"kr./FEsv\",\"\")","v":""},null,null,null,null,null,null,null,null,null,null,null,null,null,null,null,null,null,null,null,null,null,null,null,null,null,null,null,null,null,null,"2024-04-13",{"$f":"IF($AR181=$AO$140,AS$136,IF($AR181<$AO$140,IF($AR181>=$AO$141,AS$136+(($AO$140-$AR181)*$AP$142/100),AS$136+(($AO$140-$AO$141)*$AP$142/100)+(($AO$141-$AR181)*$AP$141/100)),IF($AR181<$AO$142,AS$136-(($AR181-$AO$140)*$AP$142/100),AS$136-(($AO$142-$AO$140)*$AP$142/100)-(($AR181-$AO$142)*$AP$143/100))))","v":47.2},54.2,59.2,66.2,70.2,null,null,null,{"$f":"BA$179-($BA$179-$BA$201)/($AO$142-$AO$141)*($AR181-$AO$141)","v":3977.3636363636365},null,96.114756954526968,92.260812720102919,null,null,"2024-02-13",9864.3383103329343,"","",null,null,null,null,null,null,null,null,null,null,null,null,null,null,null,null,null,null,null,null,null,null,null,null,null,null,null,null,null,null,null,null,null,null,null,null,null,null,3,"JB 1-4 vandet",null,null,null,null,null,null,null,null,2,"Vis ikke"]
[null,{"$f":"IF(AND(FEnr=1,Lagernr<>1),\"Omkostninger ab lager\",\"\")","v":""},null,{"$f":"IF(AND(Afgnr>1,FEnr=1,Lagernr<>1,VLOOKUP(Afgnr,_Afg07,$BU$285,)=1),(D165+D169+D170)/D180+D181,IF(AND(Afgnr>1,FEnr=1,Lagernr<>1,VLOOKUP(Afgnr,_Afg07,$BU$285,)=3),-D$607*$CZ$173/$D$82/D$180+D181,IF(AND(Afgnr>1,FEnr=1,Lagernr<>1,VLOOKUP(Afgnr,_Afg07,$BU$285,)=4),-D$607*$CZ$174/$D$103/D$180+D181,\"\")))","v":""},{"$f":"IF(D182<>\"\",\"kr./FEsv\",\"\")","v":""},null,null,{"$f":"IF(AND(Alt1nr>1,FEnr=1,Lagernr<>1,VLOOKUP(Alt1nr,_Afg07,$BU$285,)=1),(H165+H169+H170)/H180+H181,IF(AND(Alt1nr>1,FEnr=1,Lagernr<>1,VLOOKUP(Alt1nr,_Afg07,$BU$285,)=3),-H$607*$CZ$173/$D$82/H$180+H181,IF(AND(Alt1nr>1,FEnr=1,Lagernr<>1,VLOOKUP(Alt1nr,_Afg07,$BU$285,)=4),-H$607*$CZ$174/$D$103/H$180+H181,\"\")))","v":""},{"$f":"IF(H182<>\"\",\"kr./FEsv\",\"\")","v":""},null,null,{"$f":"IF(AND(Alt2nr>1,FEnr=1,Lagernr<>1,VLOOKUP(Alt2nr,_Afg07,$BU$285,)=1),(L165+L169+L170)/L180+L181,IF(AND(Alt2nr>1,FEnr=1,Lagernr<>1,VLOOKUP(Alt2nr,_Afg07,$BU$285,)=3),-L$607*$CZ$173/$D$82/L$180+L181,IF(AND(Alt2nr>1,FEnr=1,Lagernr<>1,VLOOKUP(Alt2nr,_Afg07,$BU$285,)=4),-L$607*$CZ$174/$D$103/L$180+L181,\"\")))","v":""},{"$f":"IF(L182<>\"\",\"kr./FEsv\",\"\")","v":""},null,null,null,null,null,null,null,null,null,null,null,null,null,null,null,null,null,null,null,null,null,null,null,null,null,null,null,null,null,null,"2024-04-14",46.6,53.6,58.6,65.599999999999994,69.599999999999994,null,null,null,3902.5454545454545,null,95.243626226842423,90.525294700660041,null,null,"2024-02-14",9864.3383103329343,"","",null,null,null,null,null,null,null,null,null,null,null,null,null,null,null,null,null,null,null,null,null,null,null,null,null,null,null,null,null,null,null,null,null,null,null,null,null,null,4,"JB 5-6"]
[null,null,null,null,null,null,null,null,null,null,null,null,null,null,null,null,null,null,null,null,null,null,null,null,null,null,null,null,null,null,null,null,null,null,null,null,null,null,null,null,null,null,null,"2024-04-15",46,53,58,65,69,null,null,null,3827.727272727273,null,94.372495499157907,88.789776681217191,null,null,"2024-02-15",9864.3383103329343,"","",null,null,null,null,null,null,null,null,null,null,null,null,null,null,null,null,null,null,null,null,null,null,null,null,null,null,null,null,null,null,null,null,null,null,null,null,null,null,5,"JB 7-9"]
[null,null,null,null,null,null,null,null,null,null,null,null,null,null,null,null,null,null,null,null,null,null,null,null,null,null,null,null,null,null,null,null,null,null,null,null,null,null,null,null,null,null,null,"2024-04-16",45.4,52.4,57.4,64.400000000000006,68.400000000000006,null,null,null,3752.909090909091,null,93.501364771473376,87.054258661774327,null,null,"2024-02-16",9864.3383103329343,{"$f":"IF(AND(BG184>=$V$136,BG184<$V$136+$V$137),$H$173-(BG184-$V$136+1)*($H$173-$L$173)/$V$137,\"\")","v":""},""]
[null,"Kvælstof (normtilførsel)",null,{"$f":"IF(Afgnr>1,VLOOKUP(Afgnr,_Afg07,Nnr),\"\")","v":210},{"$f":"IF(D185<>\"\",\"kg N\",\"\")","v":"kg N"},null,null,{"$f":"IF(Alt1nr>1,VLOOKUP(Alt1nr,_Afg07,Nnr),\"\")","v":210},{"$f":"IF(H185<>\"\",\"kg N\",\"\")","v":"kg N"},null,null,{"$f":"IF(Alt2nr>1,VLOOKUP(Alt2nr,_Afg07,Nnr),\"\")","v":144},{"$f":"IF(L185<>\"\",\"kg N\",\"\")","v":"kg N"},null,null,null,null,null,{"$f":"IF($C$43=\"\",\"\",\"Når man opretter 'egen afgrøde' angives niveauer for N,P,K ikke alene på baggrund af beregnede bortførte mængde, der indgår også indtastede tilførte mængder for 'egen afgrøde'.\")","v":""},null,null,null,null,null,null,null,null,null,null,null,null,null,null,null,null,null,null,null,null,null,null,null,null,"2024-04-17",44.8,51.8,56.8,63.8,67.8,null,null,null,3678.090909090909,null,92.630234043788832,85.318740642331463,null,null,"2024-02-17",9864.3383103329343,{"$f":"IF(AND(BG185>=$V$136,BG185<$V$136+$V$137),$H$173-(BG185-$V$136+1)*($H$173-$L$173)/$V$137,\"\")","v":""},"",null,null,null,null,null,null,null,null,null,null,null,null,null,null,null,null,null,null,null,null,null,null,null,null,null,null,null,null,null,null,null,null,null,null,null,null,null,null,"Halm anvendelse"]
[null,"Fosfor (bortførsel + startgødn.)",null,{"$f":"IF(Afgnr>1,(D563+D564+D565+D566)/Ppris,\"\")","v":36.036000000000001},{"$f":"IF(D186<>\"\",\"kg P\",\"\")","v":"kg P"},null,null,{"$f":"IF(Alt1nr>1,(H563+H564+H565+H566)/Ppris,\"\")","v":36.036000000000001},{"$f":"IF(H186<>\"\",\"kg P\",\"\")","v":"kg P"},null,null,{"$f":"IF(Alt2nr>1,(L563+L564+L565+L566)/Ppris,\"\")","v":26.172499999999999},{"$f":"IF(L186<>\"\",\"kg P\",\"\")","v":"kg P"},null,null,null,null,null,null,null,null,null,null,null,null,null,null,null,null,null,null,null,null,null,null,null,null,null,null,null,null,null,null,"2024-04-18",44.2,51.2,56.2,63.2,67.2,null,null,null,3603.272727272727,null,91.759103316104301,83.583222622888584,null,null,"2024-02-18","",{"$error":"#VALUE!"},"",null,null,null,null,null,null,null,null,null,null,null,null,null,null,null,null,null,null,null,null,null,null,null,null,null,null,null,null,null,null,null,null,null,null,null,null,null,null,null,"Bjærges"]
[null,"Kalium (bortførsel)",null,{"$f":"IF(Afgnr>1,(D570+D571+D572)/Kpris,\"\")","v":60.06},{"$f":"IF(D187<>\"\",\"kg K\",\"\")","v":"kg K"},null,null,{"$f":"IF(Alt1nr>1,(H570+H571+H572)/Kpris,\"\")","v":60.06},{"$f":"IF(H187<>\"\",\"kg K\",\"\")","v":"kg K"},null,null,{"$f":"IF(Alt2nr>1,(L570+L571+L572)/Kpris,\"\")","v":61.667499999999997},{"$f":"IF(L187<>\"\",\"kg K\",\"\")","v":"kg K"},null,null,null,null,null,null,null,null,null,null,null,null,null,null,null,null,null,null,null,null,null,null,null,null,null,null,null,null,null,null,"2024-04-19",43.6,50.6,55.6,62.6,66.599999999999994,null,null,null,3528.4545454545455,null,90.887972588419757,81.847704603445735,null,null,"2024-02-19","",{"$error":"#VALUE!"},"",null,null,null,null,null,null,null,null,null,null,null,null,null,null,null,null,null,null,null,null,null,null,null,null,null,null,null,null,null,null,null,null,null,null,null,null,null,null,null,"Nedmuldes"]
[null,null,null,null,null,null,null,null,null,null,null,null,null,null,null,null,null,null,null,null,null,null,null,null,null,null,null,null,null,null,null,null,null,null,null,null,null,null,null,null,null,null,null,"2024-04-20",43,50,55,62,66,null,null,null,3453.636363636364,null,90.016841860735227,80.11218658400287,null,null,"2024-02-20","",{"$error":"#VALUE!"},""]
[null,null,null,null,null,null,null,null,null,null,null,null,null,null,null,null,null,null,null,null,null,null,null,null,null,null,null,null,null,null,null,null,null,null,null,null,null,null,null,null,null,null,null,"2024-04-21",42.4,49.4,54.4,61.4,65.400000000000006,null,null,null,3378.818181818182,null,89.145711133050682,78.376668564560006,null,null,"2024-02-21","",{"$error":"#VALUE!"},"",null,null,null,null,null,null,null,null,null,null,null,null,null,null,null,null,null,null,null,null,null,null,null,null,null,null,null,null,null,null,null,null,null,null,null,null,null,null,"Kornsælger eller -køber"]
[null,null,null,null,null,null,{"$f":"IF(OR($CV$139=$R$340,$CW$139=$R$340,$CX$139=$R$340,$CY$139=$R$340),$S$340,\"\")","v":""},null,null,null,null,null,null,null,null,null,null,null,null,null,null,null,null,null,null,null,null,null,null,null,null,null,null,null,null,null,null,null,null,null,null,null,null,"2024-04-22",41.8,48.8,53.8,60.8,64.8,null,null,null,3304,null,88.274580405366152,76.641150545117142,null,null,"2024-02-22","",{"$error":"#VALUE!"},"",null,null,null,null,null,null,null,null,null,null,null,null,null,null,null,null,null,null,null,null,null,null,null,null,null,null,null,null,null,null,null,null,null,null,null,null,null,null,null,"Sælger",null,null,null,null,null,null,null,null,"Plove",null,null,null,null,null,"Stubharver",null,null,null,null,"Mejetærsker",null,null,"Såmaskiner",null,null,null,"Halmpresser",null,null,null,null,"Kartoffellægger",null,null,"ha/time"]
[null,null,null,null,null,null,{"$f":"IF($G$190=\"Sædskifte 1\",IF($CV$159>1,VLOOKUP($CV$159,_Afg07,2),\"\"),\"\")","v":""},null,{"$f":"IF($G$190=\"Sædskifte 1\",IF($CV$159>1,$D$68,\"\"),\"\")","v":""},{"$f":"IF(I191<>\"\",\"ha\",\"\")","v":""},{"$f":"IF($G$190=\"Sædskifte 1\",IF($CV$159>1,IF($F$68<>\"\",$F$68,$G$68),\"\"),\"\")","v":""},{"$f":"IF(K191<>\"\",H68,\"\")","v":""},{"$f":"IF($G$190=\"Sædskifte 1\",IF($CV$159>1,IF($I$68<>\"\",$I$68,$K$68),\"\"),\"\")","v":""},{"$f":"IF(M191<>\"\",\"kr.\",\"\")","v":""},null,null,null,null,null,null,null,null,null,null,null,null,null,null,null,null,null,null,null,null,null,null,null,null,null,null,null,null,null,"2024-04-23",{"$f":"IF($AR191=$AO$140,AS$136,IF($AR191<$AO$140,IF($AR191>=$AO$141,AS$136+(($AO$140-$AR191)*$AP$142/100),AS$136+(($AO$140-$AO$141)*$AP$142/100)+(($AO$141-$AR191)*$AP$141/100)),IF($AR191<$AO$142,AS$136-(($AR191-$AO$140)*$AP$142/100),AS$136-(($AO$142-$AO$140)*$AP$142/100)-(($AR191-$AO$142)*$AP$143/100))))","v":41.2},48.2,53.2,60.2,64.2,null,null,null,3229.181818181818,null,87.403449677681635,74.905632525674264,null,null,"2024-02-23","",{"$error":"#VALUE!"},"",null,null,null,null,null,null,null,null,null,null,null,null,null,null,null,null,null,null,null,null,null,null,null,null,null,null,null,null,null,null,null,null,null,null,null,null,null,null,null,"Køber",null,null,null,null,null,null,null,null,null,"Type","Kapacitet, ha/time","Lav-høj anvendelse, antal ha",null,null,null,"Type","Kapacitet, ha/time","Lav-høj anvendelse, antal ha",null,null,"Type",null,null,"Type","Kapacitet, ha/time",null,null,"Type","Kapacitet, ha/time","Transport, ha/time",null,1,"4 rækker u/ gødningsudstyr ",null,0.7]
[null,null,null,null,null,null,{"$f":"IF($G$190=\"Sædskifte 1\",IF($CV$161>1,VLOOKUP($CV$161,_Afg07,2),\"\"),\"\")","v":""},null,{"$f":"IF($G$190=\"Sædskifte 1\",IF($CV$161>1,$D$70,\"\"),\"\")","v":""},"",{"$f":"IF($G$190=\"Sædskifte 1\",IF($CV$161>1,IF($F$70<>\"\",$F$70,$G$70),\"\"),\"\")","v":""},{"$f":"IF(K192<>\"\",H70,\"\")","v":""},{"$f":"IF($G$190=\"Sædskifte 1\",IF($CV$161>1,IF($I$70<>\"\",$I$70,$K$70),\"\"),\"\")","v":""},"",null,null,null,null,null,null,null,null,null,null,null,null,null,null,null,null,null,null,null,null,null,null,null,null,null,null,null,null,null,"2024-04-24",40.6,47.6,52.6,59.6,63.6,null,null,null,3154.3636363636365,null,86.532318949997091,73.170114506231414,null,null,"2024-02-24","",{"$error":"#VALUE!"},"",null,null,null,null,null,null,null,null,null,null,null,null,null,null,null,null,null,null,null,null,null,null,null,null,null,null,null,null,null,null,null,null,null,null,null,null,null,null,null,null,null,null,null,null,null,null,null,null,1,"Vendeplov 4 fure ",0.9,"70-140 ha",null,null,1,"Stubharve 4 m (let) ",2.9,"200-400 ha",null,1,"Mejetærsker 5,4 m",1.7,1,"Kombiharve/såmaskine 3,0 m",2.4,null,1,"Minibigballer 1,5 kbm",4.9000000000000004,2,null,2,"4 rækker m/ gødningsudstyr ",null,0.7]
[null,null,null,null,null,null,{"$f":"IF($G$190=\"Sædskifte 1\",IF($CV$163>1,VLOOKUP($CV$163,_Afg07,2),\"\"),\"\")","v":""},null,{"$f":"IF($G$190=\"Sædskifte 1\",IF($CV$163>1,$D$72,\"\"),\"\")","v":""},"",{"$f":"IF($G$190=\"Sædskifte 1\",IF($CV$163>1,IF($F$72<>\"\",$F$72,$G$72),\"\"),\"\")","v":""},{"$f":"IF(K193<>\"\",H72,\"\")","v":""},{"$f":"IF($G$190=\"Sædskifte 1\",IF($CV$163>1,IF($I$72<>\"\",$I$72,$K$72),\"\"),\"\")","v":""},"",null,null,null,null,null,null,null,null,null,null,null,null,null,null,null,null,null,null,null,null,null,null,null,null,null,null,null,null,null,"2024-04-25",40,47,52,59,63,null,null,null,3079.5454545454545,null,85.66118822231256,71.43459648678855,null,null,"2024-02-25","",{"$error":"#VALUE!"},"",null,null,null,null,null,null,null,null,null,null,null,null,null,null,null,null,null,null,null,null,null,null,null,null,null,null,null,null,null,null,null,null,null,null,null,null,null,null,"Husdyrgødning",null,null,null,null,null,null,null,null,null,2,"Vendeplov 5 fure",1.1000000000000001,"85-170 ha",null,null,2,"Stubharve 4 m (tung)",2.7,"200-400 ha",null,2,"Mejetærsker 6,0 m",1.9,2,"Kombiharve/såmaskine  4,0 m",2.9,null,2,"Bigballer 3,5 kbm",5.3,3.2]
[null,null,null,null,null,null,{"$f":"IF($G$190=\"Sædskifte 1\",IF($CV$165>1,VLOOKUP($CV$165,_Afg07,2),\"\"),\"\")","v":""},null,{"$f":"IF($G$190=\"Sædskifte 1\",IF($CV$165>1,$D$74,\"\"),\"\")","v":""},"",{"$f":"IF($G$190=\"Sædskifte 1\",IF($CV$165>1,IF($F$74<>\"\",$F$74,$G$74),\"\"),\"\")","v":""},{"$f":"IF(K194<>\"\",H74,\"\")","v":""},{"$f":"IF($G$190=\"Sædskifte 1\",IF($CV$165>1,IF($I$74<>\"\",$I$74,$K$74),\"\"),\"\")","v":""},"",null,null,null,null,null,null,null,null,null,null,null,null,null,null,null,null,null,null,null,null,null,null,null,null,null,null,null,null,null,"2024-04-26",39.4,46.4,51.4,58.4,62.4,null,null,null,3004.727272727273,null,84.79005749462803,69.6990784673457,null,null,"2024-02-26","",{"$error":"#VALUE!"},"",null,null,null,null,null,null,null,null,null,null,null,null,null,null,null,null,null,null,null,null,null,null,null,null,null,null,null,null,null,null,null,null,null,null,null,null,null,null,null,"Uden",null,null,null,null,null,null,null,null,3,"Vendeplov 8 fure",1.6,"120-240 ha",null,null,3,"Stubharve 6 m (tung)",4,"400-800 ha",null,3,"Mejetærsker 7,5 m",2.7,3,"Radsåmaskine 3,0 m",1.7,null,null,null,null,null,null,"Kartoffeloptager",null,null,"ha/time"]
[null,null,null,null,null,null,{"$f":"IF($G$190=\"Sædskifte 1\",IF($CV$167>1,VLOOKUP($CV$167,_Afg07,2),\"\"),\"\")","v":""},null,{"$f":"IF($G$190=\"Sædskifte 1\",IF($CV$167>1,$D$76,\"\"),\"\")","v":""},"",{"$f":"IF($G$190=\"Sædskifte 1\",IF($CV$167>1,IF($F$76<>\"\",$F$76,$G$76),\"\"),\"\")","v":""},{"$f":"IF(K195<>\"\",H76,\"\")","v":""},{"$f":"IF($G$190=\"Sædskifte 1\",IF($CV$167>1,IF($I$76<>\"\",$I$76,$K$76),\"\"),\"\")","v":""},"",null,null,null,null,null,null,null,null,null,null,null,null,null,null,null,null,null,null,null,null,null,null,null,null,null,null,null,null,null,"2024-04-27",38.799999999999997,45.8,50.8,57.8,61.8,null,null,null,2929.909090909091,null,83.918926766943486,67.963560447902822,null,null,"2024-02-27","",{"$error":"#VALUE!"},"",null,null,null,null,null,null,null,null,null,null,null,null,null,null,null,null,null,null,null,null,null,null,null,null,null,null,null,null,null,null,null,null,null,null,null,null,null,null,null,"Med",null,null,null,null,null,null,null,null,4,"Vendeplov 12 fure",2.2999999999999998,"175-350 ha",null,null,4,"Tallerken / disc 4 m",2.8,"280-560 ha",null,4,"Mejetærsker 9,0 m",3.3,4,"Radsåmaskine 4,0 m",2.1,null,"Gyllevogn",null,null,"ton/time",null,1,"2 rk frilægger",null,0.8]
[null,null,null,null,null,null,{"$f":"IF($G$190=\"Sædskifte 1\",IF($CV$169>1,VLOOKUP($CV$169,_Afg07,2),\"\"),\"\")","v":""},null,{"$f":"IF($G$190=\"Sædskifte 1\",IF($CV$169>1,$D$78,\"\"),\"\")","v":""},"",{"$f":"IF($G$190=\"Sædskifte 1\",IF($CV$169>1,IF($F$78<>\"\",$F$78,$G$78),\"\"),\"\")","v":""},{"$f":"IF(K196<>\"\",H78,\"\")","v":""},{"$f":"IF($G$190=\"Sædskifte 1\",IF($CV$169>1,IF($I$78<>\"\",$I$78,$K$78),\"\"),\"\")","v":""},"",null,null,null,null,null,null,null,null,null,null,null,null,null,null,null,null,null,null,null,null,null,null,null,null,null,null,null,null,null,"2024-04-28",38.200000000000003,45.2,50.2,57.2,61.2,null,null,null,2855.090909090909,null,83.047796039258955,66.228042428459972,null,null,"2024-02-28","","",{"$error":"#VALUE!"},null,null,null,null,null,null,null,null,null,null,null,null,null,null,null,null,null,null,null,null,null,null,null,null,null,null,null,null,null,null,null,null,null,null,null,null,null,null,null,null,null,null,null,null,null,null,null,null,null,null,null,null,null,null,5,"Tallerken / disc 6 m",4.0999999999999996,"410-820 ha",null,5,"Mejetærsker 10,5 m",4,5,"Rotorharve/såmaskine 4,0 m",1.5,null,1,"Slæbeslanger 16 m / 15 ton ",null,51,null,2,"1 rk m/ tank/stensep.",null,0.3]
[null,null,null,null,null,null,{"$f":"IF($G$190=\"Sædskifte 1\",IF($CV$171>1,VLOOKUP($CV$171,_Afg07,2),\"\"),\"\")","v":""},null,{"$f":"IF($G$190=\"Sædskifte 1\",IF($CV$171>1,$D$80,\"\"),\"\")","v":""},"",{"$f":"IF($G$190=\"Sædskifte 1\",IF($CV$171>1,IF($F$80<>\"\",$F$80,$G$80),\"\"),\"\")","v":""},{"$f":"IF(K197<>\"\",H80,\"\")","v":""},{"$f":"IF($G$190=\"Sædskifte 1\",IF($CV$171>1,IF($I$80<>\"\",$I$80,$K$80),\"\"),\"\")","v":""},"",null,null,null,null,null,null,null,null,null,null,null,null,null,null,null,null,null,null,null,null,null,null,null,null,null,null,null,null,null,"2024-04-29",37.6,44.6,49.6,56.6,60.6,null,null,null,2780.2727272727275,null,82.176665311574411,64.492524409017108,null,null,"2024-02-29","","",{"$error":"#VALUE!"},null,null,null,null,null,null,null,null,null,null,null,null,null,null,null,null,null,null,null,null,null,null,null,null,null,null,null,null,null,null,null,null,null,null,null,null,null,null,"Forfrugtsværdi",null,null,null,null,null,null,null,null,null,"Såbedsharver",null,null,null,null,null,"Marksprøjte",null,null,null,null,null,null,null,6,"Rotorharve/såmaskine 6,0 m",2.6,null,2,"Slæbeslanger 24 m / 20 ton ",null,60,null,3,"Selvkørende 2 rk m/ tank",null,0.9]
[null,null,null,null,null,null,null,null,null,null,null,null,null,null,null,null,null,null,null,null,null,null,null,null,null,null,null,null,null,null,null,null,null,null,null,null,null,null,null,null,null,null,null,"2024-04-30",37,44,49,56,60,null,null,null,2705.4545454545455,null,81.30553458388988,62.757006389574244,null,null,"2024-03-01","","",{"$error":"#VALUE!"},null,null,null,null,null,null,null,null,null,null,null,null,null,null,null,null,null,null,null,null,null,null,null,null,null,null,null,null,null,null,null,null,null,null,null,null,null,null,null,"Ja",null,null,null,null,null,null,null,null,null,"Type","Kapacitet, ha/time",null,null,null,null,"Type","Kapacitet, ha/time",null,null,null,null,null,7,"Skiveskærmaskine 4 m",2.8,null,3,"Slæbeslanger 24 m / 25 ton ",null,66]
[null,null,null,null,null,null,{"$f":"IF(OR(CV139=R341,CW139=R341,CX139=R341,CY139=R341),S341,\"\")","v":""},null,null,null,null,null,null,null,null,null,null,null,null,null,null,null,null,null,null,null,null,null,null,null,null,null,null,null,null,null,null,null,null,null,null,null,null,"2024-05-01",36.4,43.4,48.4,55.4,59.4,null,null,null,2630.636363636364,null,80.43440385620535,61.021488370131379,null,null,"2024-03-02","","",{"$error":"#VALUE!"},null,null,null,null,null,null,null,null,null,null,null,null,null,null,null,null,null,null,null,null,null,null,null,null,null,null,null,null,null,null,null,null,null,null,null,null,null,null,null,"Nej",null,null,null,null,null,null,null,null,1,"Såbedsharve 4,5 m",3.3,null,null,null,1,"Sprøjte 24 m, 2800 liter ",5.3,null,null,null,null,null,8,"Skiveskærmaskine 6 m",3.8,null,4,"Nedfælder 6,0 m / 25 ton ",null,54]
[null,null,null,null,null,null,{"$f":"IF($G$199=\"Sædskifte 2\",IF(CV160>1,VLOOKUP(CV160,_Afg07,2),\"\"),\"\")","v":""},null,{"$f":"IF($G$199=\"Sædskifte 2\",IF(CV160>1,D89,\"\"),\"\")","v":""},{"$f":"IF(I200<>\"\",\"ha\",\"\")","v":""},{"$f":"IF($G$199=\"Sædskifte 2\",IF($CV160>1,IF(F89<>\"\",F89,G89),\"\"),\"\")","v":""},{"$f":"IF(K200<>\"\",H89,\"\")","v":""},{"$f":"IF($G$199=\"Sædskifte 2\",IF($CV160>1,IF(I89<>\"\",I89,K89),\"\"),\"\")","v":""},{"$f":"IF(M200<>\"\",\"kr.\",\"\")","v":""},null,null,null,null,null,null,null,null,null,null,null,null,null,null,null,null,null,null,null,null,null,null,null,null,null,null,null,null,null,"2024-05-02",35.799999999999997,42.8,47.8,54.8,58.8,null,null,null,2555.818181818182,null,79.563273128520805,59.285970350688523,null,null,"2024-03-03","","",{"$error":"#VALUE!"},null,null,null,null,null,null,null,null,null,null,null,null,null,null,null,null,null,null,null,null,null,null,null,null,null,null,null,null,null,null,null,null,null,null,null,null,null,null,null,null,null,null,null,null,null,null,null,null,2,"Såbedsharve 6,4 m ",4.7,null,null,null,2,"Sprøjte 24 m, 4000 liter",7,null,null,null,null,null,9,"Tandskærsmaskine 4 m ",2.1,null,5,"Nedfælder 7,5 m / 25 ton",null,60]
[null,null,null,null,null,null,{"$f":"IF($G$199=\"Sædskifte 2\",IF(CV162>1,VLOOKUP(CV162,_Afg07,2),\"\"),\"\")","v":""},null,{"$f":"IF($G$199=\"Sædskifte 2\",IF(CV162>1,D91,\"\"),\"\")","v":""},"",{"$f":"IF($G$199=\"Sædskifte 2\",IF($CV162>1,IF(F91<>\"\",F91,G91),\"\"),\"\")","v":""},{"$f":"IF(K201<>\"\",H91,\"\")","v":""},{"$f":"IF($G$199=\"Sædskifte 2\",IF($CV162>1,IF(I91<>\"\",I91,K91),\"\"),\"\")","v":""},{"$f":"IF(M201<>\"\",\"kr.\",\"\")","v":""},null,null,null,null,null,null,null,null,null,null,null,null,null,null,null,null,null,null,null,null,null,null,null,null,null,null,null,null,null,"2024-05-03",{"$f":"IF($AR201=$AO$140,AS$136,IF($AR201<$AO$140,IF($AR201>=$AO$141,AS$136+(($AO$140-$AR201)*$AP$142/100),AS$136+(($AO$140-$AO$141)*$AP$142/100)+(($AO$141-$AR201)*$AP$141/100)),IF($AR201<$AO$142,AS$136-(($AR201-$AO$140)*$AP$142/100),AS$136-(($AO$142-$AO$140)*$AP$142/100)-(($AR201-$AO$142)*$AP$143/100))))","v":35.200000000000003},42.2,47.2,54.2,58.2,null,null,null,2481,null,78.692142400836289,57.550452331245651,null,null,"2024-03-04","","",{"$error":"#VALUE!"},null,null,null,null,null,null,null,null,null,null,null,null,null,null,null,null,null,null,null,null,null,null,null,null,null,null,null,null,null,null,null,null,null,null,null,null,null,null,null,null,null,null,null,null,null,null,null,null,3,"Såbedsharve 9,1 m",6.6,null,null,null,3,"Sprøjte 36 m, 4000 liter",9,null,null,null,null,null,10,"Tandskærsmaskine 6 m ",2.8,null,6,"Selvkør. nedfælder 9 m/16 ton ",null,51,null,"Roeoptager",null,null,"ha/time"]
[null,null,null,null,null,null,{"$f":"IF($G$199=\"Sædskifte 2\",IF(CV164>1,VLOOKUP(CV164,_Afg07,2),\"\"),\"\")","v":""},null,{"$f":"IF($G$199=\"Sædskifte 2\",IF(CV164>1,D93,\"\"),\"\")","v":""},"",{"$f":"IF($G$199=\"Sædskifte 2\",IF($CV164>1,IF(F93<>\"\",F93,G93),\"\"),\"\")","v":""},{"$f":"IF(K202<>\"\",H93,\"\")","v":""},{"$f":"IF($G$199=\"Sædskifte 2\",IF($CV164>1,IF(I93<>\"\",I93,K93),\"\"),\"\")","v":""},"",null,null,null,null,null,null,null,null,null,null,null,null,null,null,null,null,null,null,null,null,null,null,null,null,null,null,null,null,null,"2024-05-04",34.11,41.11,46.11,53.11,57.11,null,null,null,{"$f":"BA$201-($BA$201-$BA$219)/($AO$143-$AO$142)*($AR202-$AO$142)","v":2345.0555555555557},null,77.10958824554271,54.397020541766537,null,null,"2024-03-05","","",{"$error":"#VALUE!"},null,null,null,null,null,null,null,null,null,null,null,null,null,null,null,null,null,null,null,null,null,null,null,null,null,null,null,null,null,null,null,null,null,null,null,null,null,null,null,null,null,null,null,null,null,null,null,null,4,"Tallerken / disc 4 m",2.8,null,null,null,4,"Sprøjte m/luft 24 m, 4400 liter",8,null,null,null,null,null,null,null,null,null,null,null,null,null,null,1,"Selvkørende 6 rk > 40 kbm tank ",null,1.3]
[null,null,null,null,null,null,{"$f":"IF($G$199=\"Sædskifte 2\",IF(CV166>1,VLOOKUP(CV166,_Afg07,2),\"\"),\"\")","v":""},null,{"$f":"IF($G$199=\"Sædskifte 2\",IF(CV166>1,D95,\"\"),\"\")","v":""},"",{"$f":"IF($G$199=\"Sædskifte 2\",IF($CV166>1,IF(F95<>\"\",F95,G95),\"\"),\"\")","v":""},{"$f":"IF(K203<>\"\",H95,\"\")","v":""},{"$f":"IF($G$199=\"Sædskifte 2\",IF($CV166>1,IF(I95<>\"\",I95,K95),\"\"),\"\")","v":""},"",null,null,null,null,null,null,null,null,null,null,null,null,null,null,null,null,null,null,null,null,null,null,null,null,null,null,null,null,null,"2024-05-05",33.020000000000003,40.020000000000003,45.02,52.02,56.02,null,null,null,{"$f":"BA$201-($BA$201-$BA$219)/($AO$143-$AO$142)*($AR203-$AO$142)","v":2209.1111111111113},null,{"$f":"AV203/$AV$138*100","v":75.527034090249145},51.243588752287437,null,null,"2024-03-06",{"$f":"IF(BG203<$V$136,$H$173,\"\")","v":""},"",{"$error":"#VALUE!"},null,null,null,null,null,null,null,null,null,null,null,null,null,null,null,null,null,null,null,null,null,null,null,null,null,null,null,null,null,null,null,null,null,null,null,null,null,null,null,null,null,null,null,null,null,null,null,null,5,"Tallerken / disc 6 m",4.0999999999999996,null,null,null,null,null,null,null,null,null,null,null,"Enkorn",null,"ha/time",null,"Gødningsspreder",null,null,"ha/time",null,2,"3 rk 12 kbm tank",null,0.7]
[null,null,null,null,null,null,{"$f":"IF($G$199=\"Sædskifte 2\",IF(CV168>1,VLOOKUP(CV168,_Afg07,2),\"\"),\"\")","v":""},null,{"$f":"IF($G$199=\"Sædskifte 2\",IF(CV168>1,D97,\"\"),\"\")","v":""},"",{"$f":"IF($G$199=\"Sædskifte 2\",IF($CV168>1,IF(F97<>\"\",F97,G97),\"\"),\"\")","v":""},{"$f":"IF(K204<>\"\",H97,\"\")","v":""},{"$f":"IF($G$199=\"Sædskifte 2\",IF($CV168>1,IF(I97<>\"\",I97,K97),\"\"),\"\")","v":""},"",null,null,null,null,null,null,null,null,null,null,null,null,null,null,null,null,null,null,null,null,null,null,null,null,null,null,null,null,null,"2024-05-06",31.930000000000003,38.93,43.93,50.93,54.93,null,null,null,2073.1666666666665,null,73.944479934955567,48.090156962808315,null,null,"2024-03-07","","",{"$error":"#VALUE!"},null,null,null,null,null,null,null,null,null,null,null,null,null,null,null,null,null,null,null,null,null,null,null,null,null,null,null,null,null,null,null,null,null,null,null,null,null,null,null,null,null,null,null,null,null,null,null,null,null,null,null,null,null,null,null,null,null,null,null,null,null,null,1,"12 rækker",2.6,null,1,"Liftophængt 24 m / 3 ton ",null,6]
[null,null,null,null,null,null,{"$f":"IF($G$199=\"Sædskifte 2\",IF(CV170>1,VLOOKUP(CV170,_Afg07,2),\"\"),\"\")","v":""},null,{"$f":"IF($G$199=\"Sædskifte 2\",IF(CV170>1,D99,\"\"),\"\")","v":""},"",{"$f":"IF($G$199=\"Sædskifte 2\",IF($CV170>1,IF(F99<>\"\",F99,G99),\"\"),\"\")","v":""},{"$f":"IF(K205<>\"\",H99,\"\")","v":""},{"$f":"IF($G$199=\"Sædskifte 2\",IF($CV170>1,IF(I99<>\"\",I99,K99),\"\"),\"\")","v":""},"",null,null,null,null,null,null,null,null,null,null,null,null,null,null,null,null,null,null,null,null,null,null,null,null,null,null,null,null,null,"2024-05-07",30.840000000000003,37.840000000000003,42.84,49.84,53.84,null,null,null,1937.2222222222222,null,72.361925779662002,44.936725173329208,null,null,"2024-03-08","","",{"$error":"#VALUE!"},null,null,null,null,null,null,null,null,null,null,null,null,null,null,null,null,null,null,null,null,null,null,null,null,null,null,null,null,null,null,null,null,null,null,null,null,null,null,null,null,null,null,null,null,null,null,null,null,null,null,null,null,null,null,null,null,null,null,null,null,null,null,null,null,null,null,2,"Bugseret 20 m / 10 ton ",null,9]
[null,null,null,null,null,null,{"$f":"IF($G$199=\"Sædskifte 2\",IF(CV172>1,VLOOKUP(CV172,_Afg07,2),\"\"),\"\")","v":""},null,{"$f":"IF($G$199=\"Sædskifte 2\",IF(CV172>1,D101,\"\"),\"\")","v":""},"",{"$f":"IF($G$199=\"Sædskifte 2\",IF($CV172>1,IF(F101<>\"\",F101,G101),\"\"),\"\")","v":""},{"$f":"IF(K206<>\"\",H101,\"\")","v":""},{"$f":"IF($G$199=\"Sædskifte 2\",IF($CV172>1,IF(I101<>\"\",I101,K101),\"\"),\"\")","v":""},"",null,null,null,null,null,null,null,null,null,null,null,null,null,null,null,null,null,null,null,null,null,null,null,null,null,null,null,null,null,"2024-05-08",29.750000000000004,36.75,41.75,48.75,52.75,null,null,null,1801.2777777777778,null,70.779371624368423,41.783293383850101,null,null,"2024-03-09","","",{"$error":"#VALUE!"},null,null,null,null,null,null,null,null,null,null,null,null,null,null,null,null,null,null,null,null,null,null,null,null,null,null,null,null,null,null,null,null,null,null,null,null,null,null,null,null,null,null,null,null,null,null,null,null,null,null,null,null,null,null,null,null,null,null,null,null,null,null,null,null,null,null,3,"Bugseret 16 m / 5 ton",null,7.8]
[null,null,null,null,null,null,"Egen afgrøde:",null,{"$f":"C43","v":0},null,null,null,null,null,null,null,null,null,null,null,null,null,null,null,null,null,null,null,null,null,null,null,null,null,null,null,null,null,null,null,null,null,null,"2024-05-09",28.660000000000004,35.660000000000004,40.660000000000004,47.660000000000004,51.660000000000004,null,null,null,1665.3333333333333,null,69.196817469074858,38.629861594370986,null,null,"2024-03-10","","",{"$error":"#VALUE!"}]
[null,null,null,null,null,null,null,null,null,null,null,null,null,null,null,null,null,null,null,null,null,null,null,null,null,null,null,null,null,null,null,null,null,null,null,null,null,null,null,null,null,null,null,"2024-05-10",27.570000000000004,34.57,39.57,46.57,50.57,null,null,null,1529.3888888888887,null,67.614263313781294,35.476429804891872,null,null,"2024-03-11","","",{"$error":"#VALUE!"}]
[null,{"$f":"\"Jordtypen er \"&IF(JBnr=1,\"JB 1+3\",IF(JBnr=2,\"JB 2+4\",IF(JBnr=3,\"JB 1-4, vandet\",IF(JBnr=4,\"JB 5-6\",\"JB 7-9\"))))","v":"Jordtypen er JB 5-6"},null,{"$f":"IF(Hdgnr=1,\"Ingen husdyrgødning\",\"Husdyrgødning fra \"&VLOOKUP(Hdgnr,_Hdg2,2))","v":"Husdyrgødning fra 30 kg N kvæg"},null,null,null,null,{"$f":"IF(OR(AND(Afgnr<>1,D557<1),AND(Alt1nr<>1,H557<1),AND(Alt2nr<>1,L557<1)),\"Der tildeles mere N fra husdyrgødning end behovet\",\"\")","v":""},null,null,null,null,null,null,null,null,null,null,null,null,null,null,null,null,null,null,null,null,null,null,null,null,null,null,null,null,null,null,null,null,null,null,"2024-05-11",26.480000000000004,33.480000000000004,38.480000000000004,45.480000000000004,49.480000000000004,null,null,null,1393.4444444444443,null,66.031709158487715,32.322998015412772,null,null,"2024-03-12","","",{"$error":"#VALUE!"}]
[null,{"$f":"IF(HalmJa=1,\"Halmen bjærges\",\"Halmen nedmuldes\")","v":"Halmen bjærges"},null,{"$f":"IF(Købernr=1,\"Bedriften er netto kornsælger\",\"Bedriften er netto kornkøber\")","v":"Bedriften er netto kornsælger"},null,null,null,null,{"$f":"IF(OR(AND(Afgnr<>1,D557<1),AND(Alt1nr<>1,H557<1),AND(Alt2nr<>1,L557<1)),\"i alternativ: \",\"\")&IF(AND(D557<1,Afgnr<>1),F151&\", \",\"\")&IF(AND(H557<1,Alt1nr<>1),I151&\", \",\"\")&IF(AND(L557<1,Alt2nr<>1),M151,\"\")","v":""},null,null,null,null,null,null,null,null,null,null,null,null,null,null,null,null,null,null,null,null,null,null,null,null,null,null,null,null,null,null,null,null,null,null,"2024-05-12",25.39,32.39,37.39,44.39,48.39,null,null,null,1257.5,null,64.44915500319415,29.169566225933657,null,null,"2024-03-13","","",{"$error":"#VALUE!"}]
[null,null,null,null,null,null,null,null,null,null,null,null,null,null,null,null,null,null,null,null,null,null,null,null,null,null,null,null,null,null,null,null,null,null,null,null,null,null,null,null,null,null,null,"2024-05-13",{"$f":"IF($AR211=$AO$140,AS$136,IF($AR211<$AO$140,IF($AR211>=$AO$141,AS$136+(($AO$140-$AR211)*$AP$142/100),AS$136+(($AO$140-$AO$141)*$AP$142/100)+(($AO$141-$AR211)*$AP$141/100)),IF($AR211<$AO$142,AS$136-(($AR211-$AO$140)*$AP$142/100),AS$136-(($AO$142-$AO$140)*$AP$142/100)-(($AR211-$AO$142)*$AP$143/100))))","v":24.300000000000004},31.300000000000004,36.300000000000004,43.300000000000004,47.300000000000004,null,null,null,1121.5555555555554,null,62.866600847900578,26.016134436454546,null,null,"2024-03-14","","",{"$error":"#VALUE!"}]
[null,null,null,null,null,null,null,null,null,null,null,null,null,null,null,null,null,null,null,null,null,null,null,null,null,null,null,null,null,null,null,null,null,null,null,null,null,null,null,null,null,null,null,"2024-05-14",23.21,30.21,35.21,42.21,46.21,null,null,null,985.61111111111086,null,61.284046692606999,22.862702646975432,null,null,"2024-03-15","","",{"$error":"#VALUE!"}]
[null,"Udskrift (side 2):",null,null,null,null,null,null,null,null,null,null,null,null,null,null,null,null,null,null,null,null,null,null,null,null,null,null,null,null,null,null,null,null,null,null,null,null,null,null,null,null,null,"2024-05-15",22.120000000000005,29.120000000000005,34.120000000000005,41.120000000000005,45.120000000000005,null,null,null,849.66666666666652,null,59.701492537313442,19.709270857496325,null,null,"2024-03-16","","",{"$error":"#VALUE!"}]
[null,null,null,null,null,null,null,null,null,null,null,null,null,null,null,null,null,null,null,null,null,null,null,null,null,null,null,null,null,null,null,null,null,null,null,null,null,null,null,null,null,null,null,"2024-05-16",21.03,28.03,33.03,40.03,44.03,null,null,null,713.72222222222217,null,58.118938382019856,16.555839068017217,null,null,"2024-03-17","","",{"$error":"#VALUE!"}]
[null,"Samlet økonomisk resultat for markbruget 2023",null,null,null,null,null,null,null,null,null,null,null,null,null,null,null,null,null,null,null,null,null,null,null,null,null,null,null,null,null,null,null,null,null,null,null,null,null,null,null,null,null,"2024-05-17",19.940000000000005,26.940000000000005,31.940000000000005,38.940000000000005,42.940000000000005,null,null,null,577.7777777777776,null,56.536384226726291,13.402407278538103,null,null,"2024-03-18","","",{"$error":"#VALUE!"}]
[null,null,null,null,null,null,null,null,null,null,null,null,null,null,null,null,null,null,null,null,null,null,null,null,null,null,null,null,null,null,null,null,null,null,null,null,null,null,null,null,null,null,null,"2024-05-18",18.850000000000001,25.85,30.85,37.85,41.85,null,null,null,441.83333333333303,null,54.953830071432719,{"$f":"BA216/$BA$136*100","v":10.24897548905899},null,null,"2024-03-19","","",{"$error":"#VALUE!"}]
[null,null,null,null,null,{"$f":"IF(OR($CV$139=$R$340,$CW$139=$R$340,$CX$139=$R$340),$S$340,\"\")","v":""},null,null,{"$f":"IF(OR(CV139=R341,CW139=R341,CX139=R341),S341,\"\")","v":""},null,null,{"$f":"IF(AND($F$217<>\"\",$I$217<>\"\"),\" Forskel\",\"\")","v":""},null,null,null,null,null,null,null,null,null,null,null,null,null,null,null,null,null,null,null,null,null,null,null,null,null,null,null,null,null,null,null,"2024-05-19",17.760000000000002,24.76,29.76,36.760000000000005,40.760000000000005,null,null,null,305.88888888888869,null,53.371275916139147,7.0955436995798813,null,null,"2024-03-20","","",{"$error":"#VALUE!"}]
[null,"Antal ha",null,{"$f":"IF(F217=\"\",\"\",D82)","v":""},{"$f":"IF(D218=\"\",\"\",\"ha\")","v":""},null,null,{"$f":"IF(I217=\"\",\"\",D103)","v":""},{"$f":"IF(H218=\"\",\"\",\"ha\")","v":""},null,null,{"$f":"IF(AND($F$217<>\"\",$I$217<>\"\"),H218-D218,\"\")","v":""},{"$f":"IF(L218=\"\",\"\",\"ha\")","v":""},null,null,null,null,null,null,null,null,null,null,null,null,null,null,null,null,null,null,null,null,null,null,null,null,null,null,null,null,null,null,"2024-05-20",16.670000000000002,23.67,28.67,35.67,39.67,null,null,null,169.94444444444434,null,51.788721760845583,3.9421119101007736,null,null,"2024-03-21","","",{"$error":"#VALUE!"}]
[null,null,null,null,null,null,null,null,null,null,null,null,null,null,null,null,null,null,null,null,null,null,null,null,null,null,null,null,null,null,null,null,null,null,null,null,null,null,null,null,null,null,null,"2024-05-21",15.580000000000002,22.580000000000002,27.580000000000002,34.58,38.58,null,null,null,34,null,50.206167605551997,0.78868012062166559,null,null,"2024-03-22","","",{"$error":"#VALUE!"}]
[null,"Udbytte, kerne/frø",{"$f":"IF($F$217=\"\",\"\",IF(CV$139=R$340,D155,IF(CW$139=R$340,H155,IF(CX$139=R$340,L155,\"\")))*D$82)","v":""},null,{"$f":"IF(C220=\"\",\"\",\"kr.\")","v":""},null,{"$f":"IF($I$217=\"\",\"\",IF(CV$139=R$341,D155,IF(CW$139=R$341,H155,IF(CX$139=R$341,L155,\"\")))*D$103)","v":""},null,{"$f":"IF(G220=\"\",\"\",\"kr.\")","v":""},null,{"$f":"IF(AND($F$217<>\"\",$I$217<>\"\"),G220-C220,\"\")","v":""},null,{"$f":"IF(K220=\"\",\"\",\"kr.\")","v":""},null,null,null,null,null,null,null,null,null,null,null,null,null,null,null,null,null,null,null,null,null,null,null,null,null,null,null,null,null,null,null,null,null,null,null,null,null,null,null,null,null,null,null,null,null,"2024-03-23","","",{"$error":"#VALUE!"}]
[null,"Udbytte, halm",{"$f":"IF($F$217=\"\",\"\",IF(HalmJa=2,\"\",IF(CV$139=R$340,D156,IF(CW$139=R$340,H156,IF(CX$139=R$340,L156,\"\")))*D$82))","v":""},null,{"$f":"IF(C221=\"\",\"\",\"kr.\")","v":""},null,{"$f":"IF($I$217=\"\",\"\",IF(HalmJa=2,\"\",IF(CV$139=R$341,D156,IF(CW$139=R$341,H156,IF(CX$139=R$341,L156,\"\")))*D$103))","v":""},null,{"$f":"IF(G221=\"\",\"\",\"kr.\")","v":""},null,{"$f":"IF(AND($F$217<>\"\",$I$217<>\"\",HalmJa=1),G221-C221,\"\")","v":""},null,{"$f":"IF(K221=\"\",\"\",\"kr.\")","v":""},null,null,null,null,null,null,null,null,null,null,null,null,null,null,null,null,null,null,null,null,null,null,null,null,null,null,null,null,null,null,null,null,null,null,null,null,null,null,null,null,null,null,null,null,null,"2024-03-24","","",{"$error":"#VALUE!"}]
[null,"Udbytte i alt",{"$f":"IF($F$217=\"\",\"\",IF(CV$139=R$340,D159,IF(CW$139=R$340,H159,IF(CX$139=R$340,L159,\"\")))*D$82)","v":""},null,{"$f":"IF(C222=\"\",\"\",\"kr.\")","v":""},null,{"$f":"IF($I$217=\"\",\"\",IF(CV$139=R$341,D159,IF(CW$139=R$341,H159,IF(CX$139=R$341,L159,\"\")))*D$103)","v":""},null,{"$f":"IF(G222=\"\",\"\",\"kr.\")","v":""},null,{"$f":"IF(AND($F$217<>\"\",$I$217<>\"\"),G222-C222,\"\")","v":""},null,{"$f":"IF(K222=\"\",\"\",\"kr.\")","v":""},null,null,null,null,null,null,null,null,null,null,null,null,null,null,null,null,null,null,null,null,null,null,null,null,null,null,null,null,null,null,null,null,null,null,null,null,null,null,null,null,null,null,null,null,null,"2024-03-25","","",{"$error":"#VALUE!"}]
[null,null,null,null,null,null,null,null,null,null,null,null,null,null,null,null,null,null,null,null,null,null,null,null,null,null,null,null,null,null,null,null,null,null,null,null,null,null,null,null,null,null,null,null,null,null,null,null,null,null,null,null,null,null,null,null,null,null,"2024-03-26","","",{"$error":"#VALUE!"}]
[null,"Udsæd",{"$f":"IF($F$217=\"\",\"\",IF(CV$139=R$340,D161,IF(CW$139=R$340,H161,IF(CX$139=R$340,L161,\"\")))*D$82)","v":""},null,{"$f":"IF(C224=\"\",\"\",\"kr.\")","v":""},null,{"$f":"IF($I$217=\"\",\"\",IF(CV$139=R$341,D161,IF(CW$139=R$341,H161,IF(CX$139=R$341,L161,\"\")))*D$103)","v":""},null,{"$f":"IF(G224=\"\",\"\",\"kr.\")","v":""},null,{"$f":"IF(AND($F$217<>\"\",$I$217<>\"\"),G224-C224,\"\")","v":""},null,{"$f":"IF(K224=\"\",\"\",\"kr.\")","v":""},null,null,null,null,null,null,null,null,null,null,null,null,null,null,null,null,null,null,null,null,null,null,null,null,null,null,null,null,null,null,null,null,null,null,null,null,null,null,null,null,null,null,null,null,null,"2024-03-27","","",{"$error":"#VALUE!"}]
[null,"Gødning",{"$f":"IF($F$217=\"\",\"\",IF(CV$139=R$340,D162,IF(CW$139=R$340,H162,IF(CX$139=R$340,L162,\"\")))*D$82)","v":""},null,{"$f":"IF(C225=\"\",\"\",\"kr.\")","v":""},null,{"$f":"IF($I$217=\"\",\"\",IF(CV$139=R$341,D162,IF(CW$139=R$341,H162,IF(CX$139=R$341,L162,\"\")))*D$103)","v":""},null,{"$f":"IF(G225=\"\",\"\",\"kr.\")","v":""},null,{"$f":"IF(AND($F$217<>\"\",$I$217<>\"\"),G225-C225,\"\")","v":""},null,{"$f":"IF(K225=\"\",\"\",\"kr.\")","v":""},null,null,null,null,null,null,null,null,null,null,null,null,null,null,null,null,null,null,null,null,null,null,null,null,null,null,null,null,null,null,null,null,null,null,null,null,null,null,null,null,null,null,null,null,null,"2024-03-28","","",{"$error":"#VALUE!"}]
[null,"Planteværn",{"$f":"IF($F$217=\"\",\"\",IF(CV$139=R$340,D163,IF(CW$139=R$340,H163,IF(CX$139=R$340,L163,\"\")))*D$82)","v":""},null,{"$f":"IF(C226=\"\",\"\",\"kr.\")","v":""},null,{"$f":"IF($I$217=\"\",\"\",IF(CV$139=R$341,D163,IF(CW$139=R$341,H163,IF(CX$139=R$341,L163,\"\")))*D$103)","v":""},null,{"$f":"IF(G226=\"\",\"\",\"kr.\")","v":""},null,{"$f":"IF(AND($F$217<>\"\",$I$217<>\"\"),G226-C226,\"\")","v":""},null,{"$f":"IF(K226=\"\",\"\",\"kr.\")","v":""},null,null,null,null,null,null,null,null,null,null,null,null,null,null,null,null,null,null,null,null,null,null,null,null,null,null,null,null,null,null,null,null,null,null,null,null,null,null,null,null,null,null,null,null,null,"2024-03-29","","",{"$error":"#VALUE!"}]
[null,"Diverse",{"$f":"IF($F$217=\"\",\"\",IF(CV$139=R$340,D164,IF(CW$139=R$340,H164,IF(CX$139=R$340,L164,\"\")))*D$82)","v":""},null,{"$f":"IF(C227=\"\",\"\",\"kr.\")","v":""},null,{"$f":"IF($I$217=\"\",\"\",IF(CV$139=R$341,D164,IF(CW$139=R$341,H164,IF(CX$139=R$341,L164,\"\")))*D$103)","v":""},null,{"$f":"IF(G227=\"\",\"\",\"kr.\")","v":""},null,{"$f":"IF(AND($F$217<>\"\",$I$217<>\"\"),G227-C227,\"\")","v":""},null,{"$f":"IF(K227=\"\",\"\",\"kr.\")","v":""},null,null,null,null,null,null,null,null,null,null,null,null,null,null,null,null,null,null,null,null,null,null,null,null,null,null,null,null,null,null,null,null,null,null,null,null,null,null,null,null,null,null,null,null,null,"2024-03-30","","",{"$error":"#VALUE!"}]
[null,"Stykomkostninger i alt",{"$f":"IF($F$217=\"\",\"\",IF(CV$139=R$340,D165,IF(CW$139=R$340,H165,IF(CX$139=R$340,L165,\"\")))*D$82)","v":""},null,{"$f":"IF(C228=\"\",\"\",\"kr.\")","v":""},null,{"$f":"IF($I$217=\"\",\"\",IF(CV$139=R$341,D165,IF(CW$139=R$341,H165,IF(CX$139=R$341,L165,\"\")))*D$103)","v":""},null,{"$f":"IF(G228=\"\",\"\",\"kr.\")","v":""},null,{"$f":"IF(AND($F$217<>\"\",$I$217<>\"\"),G228-C228,\"\")","v":""},null,{"$f":"IF(K228=\"\",\"\",\"kr.\")","v":""},null,null,null,null,null,null,null,null,null,null,null,null,null,null,null,null,null,null,null,null,null,null,null,null,null,null,null,null,null,null,null,null,null,null,null,null,null,null,null,null,null,null,null,null,null,"2024-03-31","","",{"$error":"#VALUE!"}]
[null,null,null,null,null,null,null,null,null,null,null,null,null,null,null,null,null,null,null,null,null,null,null,null,null,null,null,null,null,null,null,null,null,null,null,null,null,null,null,null,null,null,null,null,null,null,null,null,null,null,null,null,null,null,null,null,null,null,"2024-04-01","","",{"$error":"#VALUE!"}]
[null,"Dækningsbidrag",{"$f":"IF($F$217=\"\",\"\",IF(CV$139=R$340,D167,IF(CW$139=R$340,H167,IF(CX$139=R$340,L167,\"\")))*D$82)","v":""},null,{"$f":"IF(C230=\"\",\"\",\"kr.\")","v":""},null,{"$f":"IF($I$217=\"\",\"\",IF(CV$139=R$341,D167,IF(CW$139=R$341,H167,IF(CX$139=R$341,L167,\"\")))*D$103)","v":""},null,{"$f":"IF(G230=\"\",\"\",\"kr.\")","v":""},null,{"$f":"IF(AND($F$217<>\"\",$I$217<>\"\"),G230-C230,\"\")","v":""},null,{"$f":"IF(K230=\"\",\"\",\"kr.\")","v":""},null,null,null,null,null,null,null,null,null,null,null,null,null,null,null,null,null,null,null,null,null,null,null,null,null,null,null,null,null,null,null,null,null,null,null,null,null,null,null,null,null,null,null,null,null,"2024-04-02","","",{"$error":"#VALUE!"}]
[null,null,null,null,null,null,null,null,null,null,null,null,null,null,null,null,null,null,null,null,null,null,null,null,null,null,null,null,null,null,null,null,null,null,null,null,null,null,null,null,null,null,null,null,null,null,null,null,null,null,null,null,null,null,null,null,null,null,"2024-04-03","","",{"$error":"#VALUE!"}]
[null,"Maskiner og arbejde",{"$f":"IF($F$217=\"\",\"\",IF(CV$139=R$340,D169,IF(CW$139=R$340,H169,IF(CX$139=R$340,L169,\"\")))*D$82)","v":""},null,{"$f":"IF(C232=\"\",\"\",\"kr.\")","v":""},null,{"$f":"IF($I$217=\"\",\"\",IF(CV$139=R$341,D169,IF(CW$139=R$341,H169,IF(CX$139=R$341,L169,\"\")))*D$103)","v":""},null,{"$f":"IF(G232=\"\",\"\",\"kr.\")","v":""},null,{"$f":"IF(AND($F$217<>\"\",$I$217<>\"\"),G232-C232,\"\")","v":""},null,{"$f":"IF(K232=\"\",\"\",\"kr.\")","v":""},null,null,null,null,null,null,null,null,null,null,null,null,null,null,null,null,null,null,null,null,null,null,null,null,null,null,null,null,null,null,null,null,null,null,null,null,null,null,null,null,null,null,null,null,null,"2024-04-04","","",{"$error":"#VALUE!"}]
[null,{"$f":"IF(Tørringnr=1,\"Tørring (løntørring)\",\"Tørring (korn i eget tørreri)\")","v":"Tørring (løntørring)"},{"$f":"IF($F$217=\"\",\"\",IF(CV$139=R$340,D170,IF(CW$139=R$340,H170,IF(CX$139=R$340,L170,\"\")))*D$82)","v":""},null,{"$f":"IF(C233=\"\",\"\",\"kr.\")","v":""},null,{"$f":"IF($I$217=\"\",\"\",IF(CV$139=R$341,D170,IF(CW$139=R$341,H170,IF(CX$139=R$341,L170,\"\")))*D$103)","v":""},null,{"$f":"IF(G233=\"\",\"\",\"kr.\")","v":""},null,{"$f":"IF(AND($F$217<>\"\",$I$217<>\"\"),G233-C233,\"\")","v":""},null,{"$f":"IF(K233=\"\",\"\",\"kr.\")","v":""},null,null,null,null,null,null,null,null,null,null,null,null,null,null,null,null,null,null,null,null,null,null,null,null,null,null,null,null,null,null,null,null,null,null,null,null,null,null,null,null,null,null,null,null,null,"2024-04-05","","",{"$error":"#VALUE!"}]
[null,{"$f":"IF(Købernr=2,\"Erstatningskorn\",\"\")","v":""},{"$f":"IF(Købernr=1,\"\",IF($F$217=\"\",\"\",IF(CV$139=R$340,D171,IF(CW$139=R$340,H171,IF(CX$139=R$340,L171,\"\")))*D$82))","v":""},null,{"$f":"IF(C234=\"\",\"\",\"kr.\")","v":""},null,{"$f":"IF(Købernr=1,\"\",IF($I$217=\"\",\"\",IF(CV$139=R$341,D171,IF(CW$139=R$341,H171,IF(CX$139=R$341,L171,\"\")))*D$103))","v":""},null,{"$f":"IF(G234=\"\",\"\",\"kr.\")","v":""},null,{"$f":"IF(Købernr=1,\"\",IF(AND($F$217<>\"\",$I$217<>\"\"),G234-C234,\"\"))","v":""},null,{"$f":"IF(K234=\"\",\"\",\"kr.\")","v":""},null,null,null,null,null,null,null,null,null,null,null,null,null,null,null,null,null,null,null,null,null,null,null,null,null,null,null,null,null,null,null,null,null,null,null,null,null,null,null,null,null,null,null,null,null,"2024-04-06","","",{"$error":"#VALUE!"}]
[null,null,null,null,null,null,null,null,null,null,null,null,null,null,null,null,null,null,null,null,null,null,null,null,null,null,null,null,null,null,null,null,null,null,null,null,null,null,null,null,null,null,null,null,null,null,null,null,null,null,null,null,null,null,null,null,null,null,"2024-04-07","","",{"$error":"#VALUE!"}]
[null,"Resultat",{"$f":"IF($F$217=\"\",\"\",IF(CV$139=R$340,D173,IF(CW$139=R$340,H173,IF(CX$139=R$340,L173,\"\")))*D$82)","v":""},null,{"$f":"IF(C236=\"\",\"\",\"kr.\")","v":""},null,{"$f":"IF($I$217=\"\",\"\",IF(CV$139=R$341,D173,IF(CW$139=R$341,H173,IF(CX$139=R$341,L173,\"\")))*D$103)","v":""},null,{"$f":"IF(G236=\"\",\"\",\"kr.\")","v":""},null,{"$f":"IF(AND($F$217<>\"\",$I$217<>\"\"),G236-C236,\"\")","v":""},null,{"$f":"IF(K236=\"\",\"\",\"kr.\")","v":""},null,null,null,null,null,null,null,null,null,null,null,null,null,null,null,null,null,null,null,null,null,null,null,null,null,null,null,null,null,null,null,null,null,null,null,null,null,null,null,null,null,null,null,null,null,"2024-04-08","","",{"$error":"#VALUE!"}]
[null,null,null,null,null,null,null,null,null,null,null,null,null,null,null,null,null,null,null,null,null,null,null,null,null,null,null,null,null,null,null,null,null,null,null,null,null,null,null,null,null,null,null,null,null,null,null,null,null,null,null,null,null,null,null,null,null,null,"2024-04-09","","",{"$error":"#VALUE!"}]
[null,null,null,null,null,null,null,null,null,null,null,null,null,null,null,null,null,null,{"$f":"IF($C$43=\"\",\"\",\"Når man opretter `Egen afgrøde` beregnes mængderne af foderkorn ikke korrekt\")","v":""},null,null,null,null,null,null,null,null,null,null,null,null,null,null,null,null,null,null,null,null,null,null,null,null,null,null,null,null,null,null,null,null,null,null,null,null,null,null,null,"2024-04-10","","",{"$error":"#VALUE!"}]
[null,{"$f":"IF(FEnr=1,\"Foderbehov (korn)\",\"\")","v":""},{"$f":"IF(OR($F$217=\"\",FEnr=2),\"\",C391)","v":""},null,{"$f":"IF(C239<>\"\",\"FEsv\",\"\")","v":""},null,{"$f":"IF(OR($I$217=\"\",FEnr=2),\"\",C391)","v":""},null,{"$f":"IF(G239<>\"\",\"FEsv\",\"\")","v":""},null,null,null,null,null,null,null,null,null,null,null,null,null,null,null,null,null,null,null,null,null,null,null,null,null,null,null,null,null,null,null,null,null,null,null,null,null,null,null,null,null,null,null,null,null,null,null,null,null,"2024-04-11","","",{"$error":"#VALUE!"}]
[null,{"$f":"IF(FEnr=1,\"Foder produceret\",\"\")","v":""},{"$f":"IF(OR($F$217=\"\",FEnr=2),\"\",IF(CV$139=R$340,D180,IF(CW$139=R$340,H180,IF(CX$139=R$340,L180,\"\")))*D$82)","v":""},null,{"$f":"IF(C240<>\"\",\"FEsv\",\"\")","v":""},null,{"$f":"IF(OR($I$217=\"\",FEnr=2),\"\",IF(CV$139=R$341,D180,IF(CW$139=R$341,H180,IF(CX$139=R$341,L180,\"\")))*D$103)","v":""},null,{"$f":"IF(G240<>\"\",\"FEsv\",\"\")","v":""},null,{"$f":"IF(AND($F$217<>\"\",$I$217<>\"\",FEnr=1),G240-C240,\"\")","v":""},null,{"$f":"IF(K240<>\"\",\"FEsv\",\"\")","v":""},null,null,null,null,null,null,null,null,null,null,null,null,null,null,null,null,null,null,null,null,null,null,null,null,null,null,null,null,null,null,null,null,null,null,null,null,null,null,null,null,null,null,null,null,null,"2024-04-12","","",{"$error":"#VALUE!"}]
[null,null,null,null,null,null,null,null,null,null,null,null,null,null,null,null,null,null,null,null,null,null,null,null,null,null,null,null,null,null,null,null,null,null,null,null,null,null,null,null,null,null,null,null,null,null,null,null,null,null,null,null,null,null,null,null,null,null,"2024-04-13","","",{"$error":"#VALUE!"}]
[null,null,null,null,null,null,null,null,null,null,null,null,null,null,null,null,null,null,null,null,null,null,null,null,null,null,null,null,null,null,null,null,null,null,null,null,null,null,null,null,null,null,null,null,null,null,null,null,null,null,null,null,null,null,null,null,null,null,"2024-04-14","","",{"$f":"IF(BG242>=$V$136+$V$137,$L$173,\"\")","v":{"$error":"#VALUE!"}}]
[null,{"$f":"G190","v":""},null,"Areal  ",null,null,"Udbytte  ",null,"Pris",null,null,null,null,null,null,null,null,null,null,null,null,null,null,null,null,null,null,null,null,null,null,null,null,null,null,null,null,null,null,null,null,null,null,null,null,null,null,null,null,null,null,null,null,null,null,null,null,null,"2024-04-15","","",{"$error":"#VALUE!"}]
[null,"I alt",{"$f":"D218","v":""},{"$f":"E218","v":""},null,null,null,null,null,null,null,null,null,null,null,null,null,null,null,null,null,null,null,null,null,null,null,null,null,null,null,null,null,null,null,null,null,null,null,null,null,null,null,null,null,null,null,null,null,null,null,null,null,null,null,null,null,null,"2024-04-16","","",{"$error":"#VALUE!"}]
[null,{"$f":"G191","v":""},{"$f":"I191","v":""},"",null,{"$f":"K191","v":""},"","","",null,null,null,null,null,null,null,null,null,null,null,null,null,null,null,null,null,null,null,null,null,null,null,null,null,null,null,null,null,null,null,null,null,null,null,null,null,null,null,null,null,null,null,null,null,null,null,null,null,"2024-04-17","","",{"$error":"#VALUE!"}]
[null,"","","",null,"","","","",null,null,null,null,null,null,null,null,null,null,null,null,null,null,null,null,null,null,null,null,null,null,null,null,null,null,null,null,null,null,null,null,null,null,null,null,null,null,null,null,null,null,null,null,null,null,null,null,null,"2024-04-18","","",{"$error":"#VALUE!"}]
[null,"","","",null,"","","","",null,null,null,null,null,null,null,null,null,null,null,null,null,null,null,null,null,null,null,null,null,null,null,null,null,null,null,null,null,null,null,null,null,null,null,null,null,null,null,null,null,null,null,null,null,null,null,null,null,"2024-04-19","","",{"$error":"#VALUE!"}]
[null,"","","",null,"","","","",null,null,null,null,null,null,null,null,null,null,null,null,null,null,null,null,null,null,null,null,null,null,null,null,null,null,null,null,null,null,null,null,null,null,null,null,null,null,null,null,null,null,null,null,null,null,null,null,null,"2024-04-20","","",{"$error":"#VALUE!"}]
[null,"","","",null,"","","","",null,null,null,null,null,null,null,null,null,null,null,null,null,null,null,null,null,null,null,null,null,null,null,null,null,null,null,null,null,null,null,null,null,null,null,null,null,null,null,null,null,null,null,null,null,null,null,null,null,"2024-04-21","",{"$f":"IF(AND(BG249>=$V$136,BG249<$V$136+$V$137),$H$173-(BG249-$V$136+1)*($H$173-$L$173)/$V$137,\"\")","v":""},{"$error":"#VALUE!"}]
[null,"","","",null,"","","","",null,null,null,null,null,null,null,null,null,null,null,null,null,null,null,null,null,null,null,null,null,null,null,null,null,null,null,null,null,null,null,null,null,null,null,null,null,null,null,null,null,null,null,null,null,null,null,null,null,"2024-04-22","","",{"$error":"#VALUE!"}]
[null,"","","",null,"","","","",null,null,null,null,null,null,null,null,null,null,null,null,null,null,null,null,null,null,null,null,null,null,null,null,null,null,null,null,null,null,null,null,null,null,null,null,null,null,null,null,null,null,null,null,null,null,null,null,null,"2024-04-23","","",{"$error":"#VALUE!"}]
[null,null,null,null,null,null,null,null,null,null,null,null,null,null,null,null,null,null,null,null,null,null,null,null,null,null,null,null,null,null,null,null,null,null,null,null,null,null,null,null,null,null,null,null,null,null,null,null,null,null,null,null,null,null,null,null,null,null,"2024-04-24","","",{"$error":"#VALUE!"}]
[null,{"$f":"G199","v":""},null,{"$f":"IF(I218=\"\",\"\",\"Areal  \")","v":""},null,null,{"$f":"IF(I217=\"\",\"\",\"Udbytte  \")","v":""},null,{"$f":"IF(I217=\"\",\"\",\"Pris\")","v":""},null,null,null,null,null,null,null,null,null,null,null,null,null,null,null,null,null,null,null,null,null,null,null,null,null,null,null,null,null,null,null,null,null,null,null,null,null,null,null,null,null,null,null,null,null,null,null,null,null,"2024-04-25","","",{"$error":"#VALUE!"}]
[null,{"$f":"IF(I217=\"\",\"\",\"I alt\")","v":""},{"$f":"H218","v":""},{"$f":"I218","v":""},null,null,null,null,null,null,null,null,null,null,null,null,null,null,null,null,null,null,null,null,null,null,null,null,null,null,null,null,null,null,null,null,null,null,null,null,null,null,null,null,null,null,null,null,null,null,null,null,null,null,null,null,null,null,"2024-04-26","","",{"$error":"#VALUE!"}]
[null,{"$f":"G200","v":""},{"$f":"I200","v":""},"",null,{"$f":"K200","v":""},"","","",null,null,null,null,null,null,null,null,null,null,null,null,null,null,null,null,null,null,null,null,null,null,null,null,null,null,null,null,null,null,null,null,null,null,null,null,null,null,null,null,null,null,null,null,null,null,null,null,null,"2024-04-27","","",{"$error":"#VALUE!"}]
[null,"","","",null,"","","","",null,null,null,null,null,null,null,null,null,null,null,null,null,null,null,null,null,null,null,null,null,null,null,null,null,null,null,null,null,null,null,null,null,null,null,null,null,null,null,null,null,null,null,null,null,null,null,null,null,"2024-04-28","","",{"$error":"#VALUE!"}]
[null,"","","",null,"","","","",null,null,null,null,null,null,null,null,null,null,null,null,null,null,null,null,null,null,null,null,null,null,null,null,null,null,null,null,null,null,null,null,null,null,null,null,null,null,null,null,null,null,null,null,null,null,null,null,null,"2024-04-29","","",{"$error":"#VALUE!"}]
[null,"","","",null,"","","","",null,null,null,null,null,null,null,null,null,null,null,null,null,null,null,null,null,null,null,null,null,null,null,null,null,null,null,null,null,null,null,null,null,null,null,null,null,null,null,null,null,null,null,null,null,null,null,null,null,"2024-04-30","","",{"$error":"#VALUE!"}]
[null,"","","",null,"","","",""]
[null,"",{"$f":"I205","v":""},"",null,{"$f":"K205","v":""},"","",""]
[null,"","","",null,"","","",""]
[]
[]
[null,{"$f":"\"Jordtypen er \"&IF(JBnr=1,\"JB 1+3\",IF(JBnr=2,\"JB 2+4\",IF(JBnr=3,\"JB 1-4, vandet\",IF(JBnr=4,\"JB 5-6\",\"JB 7-9\"))))","v":"Jordtypen er JB 5-6"},null,{"$f":"IF(Hdgnr=1,\"Ingen husdyrgødning\",\"Husdyrgødning fra \"&VLOOKUP(Hdgnr,_Hdg2,2))","v":"Husdyrgødning fra 30 kg N kvæg"}]
[null,{"$f":"IF(HalmJa=1,\"Halmen bjærges\",\"Halmen nedmuldes\")","v":"Halmen bjærges"},null,{"$f":"IF(Købernr=1,\"Bedriften er netto kornsælger\",\"Bedriften er netto kornkøber\")","v":"Bedriften er netto kornsælger"}]
[]
[]
[]
[]
[]
[]
[]
[]
[]
[]
[]
[]
[]
[]
[]
[]
[]
[]
[null,null,null,null,null,null,null,null,null,null,null,null,null,null,null,null,null,null,"Normtabel"]
[null,"Normer nix pille",null,null,null,null,null,null,null,null,null,null,null,null,null,null,null,1,2,3,4,5,6,7,8,9,10,11,12,13,14,15,16,17,18,19,20,21,22,23,24,25,26,27,28,29,30,31,32,33,34,35,36,37,38,39,40,41,42,43,44,45,46,47,48,49,50,51,52,53,54,55,56,57,58,59,60,61,62,63,64,65,66,67,68,69,70,71,72,73,74,75]
[null,null,null,null,null,null,null,null,null,null,null,null,null,null,null,null,null,null,null,null,null,"Normudbytter",null,null,null,null,"Halmudbytte, kg pr. ha",null,null,null,null,"Forfrugtsværdi, merudbytte hkg pr. ha",null,null,null,null,"Sparet N","Udsæd","Planteværn","Analyser","Sum","N-gødning, kg N pr. ha",null,null,null,null,"P-start 1","P-start 2","P-kerne","P-halm","K-start","K-kerne","K-halm","Øvrig stykomk (udbytteafhængig)","Afgrøder","Maskin- og arbejdsomk. (med halmbj.), kr. pr. ha",null,null,null,null,"Maskin- og arbejdsomk. (uden halmbj.), kr. pr. ha",null,null,null,null,"Tørring","Eget tørreri","Gylle omk","Plansilo","Stålsilo","Gastæt silo",null,"Korn","Pløjning","Såbed","Glyphosat","Såning","Harvning","Høst","Halm","Mejetærskertid","Enkorn-","Kartoffel-","Kartoffel-","Roe-","Planteværn","Gødskning","Gylle","Korrektion for udbytte (salg)","Korn-","Tildelt gylle"]
[null,"Kvælstofpris",null,{"$f":"D18","v":12},null,null,null,null,null,null,null,null,null,null,null,null,null,null,"Afgrøde","Enhed","Pris","JB 1+3","JB 2+4","JB 1-4, vandet","JB 5-6","JB 7-9","JB 1+3","JB 2+4","JB 1-4, vandet","JB 5-6","JB 7-9","JB 1+3","JB 2+4","JB 1-4, vandet","JB 5-6","JB 7-9","Alle JB","Alle JB","Alle JB","Alle JB","Alle JB","JB 1+3","JB 2+4","JB 1-4, vandet","JB 5-6","JB 7-9","Alle JB","Alle JB","Alle JB","Alle JB","JB1+3 og vandet","Alle JB","Alle JB","Alle JB",null,"JB 1+3","JB 2+4","JB 1-4, vandet","JB 5-6","JB 7-9","JB 1+3","JB 2+4","JB 1-4, vandet","JB 5-6","JB 7-9","Kr./hkg",null,"kr. pr. ton","kr./hkg","kr./hkg","kr./hkg","FE","1 = ja",null,"Harvning",null,null,"efter høst","(korn og frø)",null,"faktor","såning","lægning","optagning","optagning","Antal beh.","Antal beh.","Ton pr. ha","kg N/hkg","type","ton pr. ha","Afgrøde"]
[null,null,null,null,null,null,null,null,null,null,null,null,null,null,null,null,null,1,null,null,null,null,null,null,null,null,null,null,null,null,null,null,null,null,null,null,null,null,null,null,null,null,null,null,null,null,null,null,null,null,null,null,null,null,null,null,null,null,null,null,null,null,null,null,null,null,null,null,null,null,null,null,1]
[null,null,null,null,null,null,null,null,null,null,null,null,null,null,null,null,null,2,"Egen afgrøde","hkg",{"$f":"C47","v":0},{"$f":"C46","v":0},{"$f":"C46","v":0},{"$f":"C46","v":0},{"$f":"C46","v":0},{"$f":"C46","v":0},{"$f":"C49","v":0},{"$f":"C49","v":0},{"$f":"C49","v":0},{"$f":"C49","v":0},{"$f":"C49","v":0},{"$f":"C55","v":0},{"$f":"C55","v":0},{"$f":"C55","v":0},{"$f":"C55","v":0},{"$f":"C55","v":0},{"$f":"C56","v":0},{"$f":"-I46","v":0},{"$f":"-I51","v":0},{"$f":"-I52","v":0},{"$f":"AL289+AM289+AN289","v":0},{"$f":"$I$48","v":0},{"$f":"$I$48","v":0},{"$f":"$I$48","v":0},{"$f":"$I$48","v":0},{"$f":"$I$48","v":0},null,null,{"$f":"$I$49/D141","v":0},null,null,{"$f":"I50/D152","v":0},null,0,null,{"$f":"-$I$55","v":0},{"$f":"-$I$55","v":0},0,0,0,0,0,0,0,0,{"$f":"-$I$56","v":0},{"$f":"-$I$56","v":0},null,{"$f":"-$I$56","v":0},{"$f":"-$I$56","v":0},{"$f":"-$I$56","v":0}]
[null,"Fosforpris",null,{"$f":"D20","v":17},null,null,null,null,null,null,null,null,null,null,null,null,null,3,"Alm. Rajgræs","hkg",900,11,15,15,16,16,3800,3800,5300,5300,5300,2,4,4,6,6,18,420,778,175,{"$f":"AL290+AM290+AN290","v":1373},170,170,170,170,170,null,5,0.39600000000000002,9.7500000000000003E-2,20,0.66,2.125,58.75,"Alm. Rajgræs",4286,4286,7402,4860,4860,3347,3347,6137,3595,3595,42.5,32,20,null,null,null,0,2,null,null,null,1,2,2,2,2.5,null,null,null,null,4,1,25,null,null,{"$f":"IF($DO$8<$CJ290,$DO$8,$CJ290)","v":6.6599999999999993},"Alm. Rajgræs"]
[null,null,null,null,null,null,null,null,null,null,null,null,null,null,null,null,null,4,"Alm. rajgræs, Øko","hkg",1300,7.5,9.5,9.5,11,11,2500,2500,4500,3000,3000,2,4,4,6,6,18,420,0,0,420,135,135,135,135,135,null,5,0.39600000000000002,9.7500000000000003E-2,20,0.66,2.125,56.81,"Alm. rajgræs, Øko",3770,3770,6790,3870,3870,3065,3065,5669,3048,3048,52.5,39,20,null,null,null,0,2,null,null,null,1,2,2,2,2.5,null,null,null,null,null,null,45,null,null,6.6599999999999993,"Alm. rajgræs, Øko"]
[null,"Kaliumpris",null,{"$f":"D22","v":12},null,null,null,null,null,null,null,null,null,null,null,null,null,5,"Efterafgr. Olieræddike",null,0,0,0,0,0,0,null,null,null,null,null,null,null,null,null,null,25,325,0,0,325,0,0,0,0,0,null,null,null,null,null,null,null,null,"Efterafgr. Olieræddike",140,140,140,140,140,140,140,140,140,140,0,0,0,null,null,null,0,null,null,2,null,2,null,null,null,null,null,null,null,null,null,null,null,null,null,0,"Efterafgr. Olieræddike"]
[null,null,null,null,null,null,null,null,null,null,null,null,null,null,null,null,null,6,"Efterafgr. Rajgræs",null,0,0,0,0,0,0,null,null,null,null,null,null,null,null,null,null,25,350,0,0,350,0,0,0,0,0,null,null,null,null,null,null,null,null,"Efterafgr. Rajgræs",140,140,140,140,140,140,140,140,140,140,0,0,0,null,null,null,0,null,null,2,null,2,null,null,null,null,null,null,null,null,null,null,null,null,null,0,"Efterafgr. Rajgræs"]
[null,"Meromkostning til erstatningskorn",null,{"$f":"D24","v":15},null,null,null,null,null,null,null,null,null,null,null,null,null,7,"Efterafgr. Gul sennep",null,0,0,0,0,0,0,null,null,null,null,null,null,null,null,null,null,25,200,0,0,200,0,0,0,0,0,null,null,null,null,null,null,null,null,"Efterafgr. Gul sennep",140,140,140,140,140,140,140,140,140,140,0,0,0,null,null,null,0,null,null,2,null,2,null,null,null,null,null,null,null,null,null,null,null,null,null,0,"Efterafgr. Gul sennep"]
[null,null,null,null,null,null,null,null,null,null,null,null,null,null,null,null,null,8,"Engrapgræs (mark)","hkg",1500,11,11,11,11,11,0,0,0,0,0,2,4,4,6,6,18,800,833,175,1808,160,160,160,160,160,null,5,0.39600000000000002,9.7500000000000003E-2,20,0.66,2.125,89.09,"Engrapgræs (mark)",4412,4412,7412,4412,4412,4412,4412,7412,4412,4412,45,33,0,null,null,null,0,2,null,null,null,1,2,1,1,3,null,null,null,null,5,2,null,null,null,0,"Engrapgræs (mark)"]
[null,"Kornpris, forfrugtsværdi",null,{"$f":"D26","v":170},null,null,null,null,null,null,null,null,null,null,null,null,null,9,"Engrapgræs (plæne)","hkg",1300,8,8,8,8,8,0,0,0,0,0,2,4,4,6,6,18,800,833,175,1808,170,170,170,170,170,null,5,0.39600000000000002,9.7500000000000003E-2,20,0.66,2.125,101.625,"Engrapgræs (plæne)",4412,4412,7412,4412,4412,4412,4412,7412,4412,4412,45,33,0,null,null,null,0,2,null,null,null,1,2,1,1,3,null,null,null,null,5,2,null,null,null,0,"Engrapgræs (plæne)"]
[null,null,null,null,null,null,null,null,null,null,null,null,null,null,null,null,null,10,"Fabrikskartofler","hkg",72,475,526,577,577,577,0,0,0,0,0,2,4,4,6,6,0,3312,4972,0,8284,206,202,227,202,202,7.5,null,4.5999999999999999E-2,0,20,0.40200000000000002,0,5.73,"Fabrikskartofler",10050,11173,14180,11478,11478,10050,11173,14180,11478,11478,0,0,0,null,null,null,0,2,1,1,1,null,3,null,null,null,null,1,1,null,15,1,null,null,null,0,"Fabrikskartofler"]
[null,"N i husdyrgødning fra 100 kg N svin",null,100,null,"kg N (total)",null,null,null,null,null,null,null,null,null,null,null,11,"Grøngødning (hovedafgr. Øko)","ae",0,0,0,0,0,0,0,0,0,0,0,2,4,4,6,6,77,715,0,0,715,0,0,0,0,0,null,0,0,0,0,0,0,null,"Grøngødning",1083,1083,1083,1083,1083,1083,1083,1083,1083,1083,0,0,0,null,null,null,0,2,1,null,null,null,null,null,null,null,null,null,null,null,null,null,null,null,null,0,"Grøngødning"]
[null,null,null,null,null,null,null,null,null,null,null,null,null,null,null,null,null,12,"Havre         ","hkg",140,45,52,57,58,61,2500,2500,3200,3300,3300,5,7,7,8,9,0,540,207,0,747,115,110,132,109,113,null,2.5,0.34849999999999998,0.11899999999999999,20,0.42499999999999999,1.2749999999999999,0,"Havre",3924,3924,6424,4325,4325,3150,3150,5613,3495,3495,12,9,20,8,7,6.5,87,1,1,1,1,1,2,2,2,1.2,null,null,null,null,2,1,32,1.5,"Havre",6.6599999999999993,"Havre"]
[null,"P i husdyrgødning fra 100 kg N svin",null,25,null,"kg P",null,null,null,null,null,null,null,null,null,null,null,13,"Havre Øko","hkg",230,30,30,50,50,50,2000,2000,2400,2400,2400,5,7,7,8,9,0,918,0,0,{"$f":"AL300+AM300+AN300","v":918},105,105,105,105,105,null,null,0.34849999999999998,0.11899999999999999,20,0.42499999999999999,1.2749999999999999,0,"Havre Øko",4189,4189,6822,4758,4758,3623,3623,6157,4090,4090,12,9,20,8,7,6.5,87,1,1,1,null,1,2,2,2,1.2,null,null,null,null,null,null,20,1.5,"Havre",6.6599999999999993,"Havre Øko"]
[null,null,null,null,null,null,null,null,null,null,null,null,null,null,null,null,null,14,"Hestebønne","hkg",280,46,46,46,46,46,0,0,0,0,0,5,7,7,8,9,18,1035,605,0,{"$f":"AL301+AM301+AN301","v":1640},0,0,0,0,0,null,2.5,0.4214,0.17,20,0.98040000000000005,0.63749999999999996,0,"Hestebønne",3888,3888,6113,3995,3995,3888,3888,6113,3995,3995,16,14,0,null,null,null,101,2,1,1,1,1,2,null,null,1,null,null,1,null,3,1,0,null,null,0,"Hestebønne"]
[null,"K i husdyrgødning fra 100 kg N svin",null,50,null,"kg K",null,null,null,null,null,null,null,null,null,null,null,15,"Hestebønne Øko","hkg",490,20,20,37,37,37,0,0,0,0,0,2,4,4,6,6,18,1587,0,null,1587,0,0,0,0,0,null,null,0.53,0,20,1.03,0,null,"Hestebønne Øko",4475,4475,6700,4588,4588,4475,4475,6700,4588,4588,16,14,0,45,null,null,null,2,1,1,null,1,3,null,null,1,null,null,1,null,null,null,0,null,null,0,"Hestebønne Øko"]
[null,null,null,null,null,null,null,null,null,null,null,null,null,null,null,null,null,16,"Hvidkløver Øko","hkg",5000,2.5,2.5,2.5,2.5,2.5,0,0,0,0,0,10,10,10,10,10,115,570,0,null,570,0,0,0,0,0,null,null,0.38,0,20,1.06,0,549.6,"Hvidkløver Øko",2863,2863,5238,2863,2863,2863,2863,5238,2863,2863,45,33,0,null,null,null,null,2,null,null,null,null,1,1,null,3,null,null,null,null,null,null,0,null,null,0,"Hvidkløver Øko"]
[null,"N i husdyrgødning fra 100 kg N kvæg",null,100,null,"kg N (total)",null,null,null,null,null,null,null,null,null,null,null,17,"Hybridrug","hkg",160,62,77,77,88,93,4200,4200,5400,6200,6200,null,null,null,null,null,null,799,722,0,1521,150,153,168,166,177,null,null,0.28899999999999998,7.6499999999999999E-2,20,0.46750000000000003,1.02,0,"Hybridrug",4839,4839,7900,5636,5636,3813,3813,6613,4175,4175,12,9,20,8,7,6.5,110,1,3,3,3,3,2,2,2,1.6,null,null,null,null,4,2,30,1.2,"Rug",6.6599999999999993,"Hybridrug"]
[null,null,null,null,null,null,null,null,null,null,null,null,null,null,null,null,null,18,"Kløvergræs, slæt","ae",150,79,83,96,84,84,0,0,0,0,0,2,4,4,6,6,115,311,0,0,311,284,287,300,290,290,null,null,0.442,0,20,3,0,null,"Kløvergræs, slæt",5657,5657,9043,5744,5744,5657,5657,9043,5744,5744,0,0,23,null,null,null,0,2,1,null,null,null,null,null,null,null,null,null,null,null,null,3,60,null,null,6.6599999999999993,"Kløvergræs, slæt"]
[null,"P i husdyrgødning fra 100 kg N kvæg",null,17,null,"kg P",null,null,null,null,null,null,null,null,null,null,null,19,"Lucerne (tørret) - inaktiv","hkg",1,110,120,140,130,130,0,0,0,0,0,2,4,4,6,6,115,600,0,0,600,0,0,0,0,0,null,null,0.26,0,20,2.6,0,null,"Lucerne (tørret)",3020,3020,5583,3020,3020,3020,3020,5583,3020,3020,0,0,0,null,null,null,0,2,null,null,null,null,null,null,null,null,null,null,null,null,1,2,0,null,null,0,"Lucerne (tørret)"]
[null,null,null,null,null,null,null,null,null,null,null,null,null,null,null,null,null,20,"Læggekartofler","hkg",220,270,295,315,315,315,0,0,0,0,0,2,4,4,6,6,0,9100,4919,0,14019,136,126,146,121,121,7.5,null,5.1999999999999998E-2,0,20,0.50600000000000001,0,36,"Læggekartofler",15687,15687,18287,15585,15585,15687,15687,18287,15585,15585,0,0,0,null,null,null,0,2,1,1,1,null,3,null,null,null,null,1,1,null,12,1,0,null,null,0,"Læggekartofler"]
[null,"K i husdyrgødning fra 100 kg N kvæg",null,67,null,"kg K",null,null,null,null,null,null,null,null,null,null,null,21,"Majs, biogas","hkg ts",{"$f":"U309*1.17","v":132.20999999999998},{"$f":"V309/1.17","v":87.179487179487182},{"$f":"W309/1.17","v":87.179487179487182},{"$f":"X309/1.17","v":95.726495726495727},{"$f":"Y309/1.17","v":94.871794871794876},{"$f":"Z309/1.17","v":100},0,0,0,0,0,null,null,null,null,null,0,1900,641,null,2541,168,153,184,157,165,7.5,null,{"$f":"0.3042*1.17","v":0.35591400000000001},0,20,{"$f":"1.404*1.17","v":1.6426799999999997},0,null,"Majs, biogas",4375,4375,6698,4799,4799,4375,4375,6698,4799,4799,0,0,20,null,null,null,0,2,1,1,1,null,3,3,null,2,1,null,null,null,2,1,37,null,null,6.6599999999999993,"Majs, biogas"]
[null,null,null,null,null,null,null,null,null,null,null,null,null,null,null,null,null,22,"Majs, helsæd","ae",113,102,102,112,111,117,0,0,0,0,0,null,null,null,null,null,0,1900,641,428,2969,168,153,184,157,165,7.5,null,0.30420000000000003,0,20,1.4039999999999999,0,null,"Majs, helsæd",4349,4349,6605,4534,4534,4349,4349,6605,4534,4534,0,0,20,null,null,null,0,2,1,1,1,null,3,3,null,2,1,null,null,null,2,1,37,null,null,6.6599999999999993,"Majs, helsæd"]
[null,"Udnyttelse af N i svinegødning",null,{"$f":"D28","v":80},null,"%",null,null,null,null,null,null,null,null,null,null,null,23,"Majs, kerne til svin","hkg",114,109.5,109.5,120,119.5,119.5,0,0,0,0,0,null,null,null,null,null,null,1900,641,120,2661,168,153,184,157,165,7.5,null,0.27200000000000002,0,20,0.35,0,0,"Majs, kerne",6055,6055,8337,6351,6351,6055,6055,8337,6351,6361,0,0,20,28,28,14,122,1,1,1,1,null,3,3,null,1,1,null,null,null,2,1,37,1.5,"Majs",6.6599999999999993,"Majs, kerne"]
[null,null,null,null,null,null,null,null,null,null,null,null,null,null,null,null,null,24,"Markært","hkg",280,46,46,46,46,46,0,0,0,0,0,5,7,7,8,9,18,800,676,0,1476,0,0,0,0,0,null,2.5,0.4214,0.17,20,0.98040000000000005,0.63749999999999996,0,"Markært",3923,3923,6148,4030,4030,3923,3923,6148,4030,4030,17,14,0,null,null,null,101,2,1,1,1,1,2,2,null,1,null,null,null,null,2,1,0,null,null,0,"Markært"]
[null,"Udnyttelse af N i kvæggødning",null,{"$f":"D30","v":75},null,"%",null,null,null,null,null,null,null,null,null,null,null,25,"Markært Øko","hkg",480,26,26,28,30,30,0,0,0,0,0,5,7,7,8,9,18,1463,null,null,1463,0,0,0,0,0,null,null,0.4214,0.17,20,0.98040000000000005,0.63749999999999996,0,"Markært Øko",4347,4347,6662,4595,4595,4347,4347,6662,4595,4595,17,14,0,null,null,null,101,2,1,1,null,1,2,2,null,1,null,null,null,null,null,null,0,null,null,0,"Markært Øko"]
[null,null,null,null,null,null,null,null,null,null,null,null,null,null,null,null,null,26,"Rødkløver til frø Øko","hkg",5000,2,2,2,2,2,0,0,0,0,0,10,10,10,10,10,115,570,null,150,720,0,0,0,0,0,null,null,0.4214,0.17,20,1.06,0,80,"Rødkløver Øko",2863,2863,5238,2863,2863,2863,2863,5238,2863,2863,45,33,0,null,null,null,null,2,null,null,null,null,2,2,null,1,null,null,null,null,null,null,0,null,null,0,"Rødkløver Øko"]
[null,"Halmpris",null,{"$f":"D32","v":0.65},null,"kr. pr. kg",null,null,null,null,null,null,null,null,null,null,null,27,"Rødsvingel","hkg",1000,14,14,14,14,14,0,0,5300,5300,5300,2,4,4,6,6,18,455,1101,175,1731,150,150,150,150,150,null,5,0.29920000000000002,9.7500000000000003E-2,20,0.66,2.125,76.14,"Rødsvingel",5512,5512,7887,5512,5512,4247,4247,6662,4247,4247,45,33,0,null,null,null,0,2,null,null,null,1,2,2,2,2.5,null,null,null,null,5,2,0,null,null,0,"Rødsvingel"]
[null,null,null,null,null,null,null,null,null,null,null,null,null,null,null,null,null,28,"Smalbl. Lupin Øko","hkg",610,25,25,25,20,20,0,0,0,0,0,2,4,4,6,6,18,1260,null,null,1260,0,0,0,0,0,null,null,0.61,0,20,1.1499999999999999,0,0,"Smalbl. Lupin Øko",4360,4360,6675,4455,4455,4360,4360,6675,4455,4455,17,14,0,null,null,null,null,null,null,null,null,null,null,null,null,null,null,null,null,null,null,null,0,null,null,0,"Smalbl. Lupin Øko"]
[null,"Årstal på udskrift",null,{"$f":"D34","v":2023},null,null,null,null,null,null,null,null,null,null,null,null,null,29,"Spisekartofler Øko","hkg",220,150,150,200,200,200,0,0,0,0,0,2,4,4,6,6,0,7700,null,null,7700,105,105,105,105,105,null,null,0.06,0,20,0.40200000000000002,0,39.950000000000003,"Spisekartofler Øko",13393,13393,16290,13745,13745,11251,11251,16290,13745,13745,null,null,22,null,null,null,null,null,null,null,null,null,null,null,null,null,null,null,null,null,null,null,14,null,null,6.6599999999999993,"Spisekartofler Øko"]
[null,null,null,null,null,null,null,null,null,null,null,null,null,null,null,null,null,30,"Spisekartofler","hkg",140,300,355,367,367,367,0,0,0,0,0,2,4,4,6,6,0,6560,3654,0,10214,169,170,190,165,165,7.5,null,0.06,0,20,0.40200000000000002,0,37.19,"Spisekartofler",15546,15546,18246,15579,15579,15646,15546,18246,15579,15579,0,0,0,null,null,null,0,2,1,1,1,null,3,null,null,null,null,1,1,null,10,1,0,null,null,0,"Spisekartofler"]
[null,null,null,null,null,null,null,null,null,null,null,null,null,null,null,null,null,31,"Sukkerroer","hkg",30,485,535,535,655,715,0,0,0,0,0,5,7,7,8,9,3,1900,1636,0,3536,135,125,140,127,133,7.5,null,0.04,0,20,0.22,0,2.5,"Sukkerroer",6008,6008,8323,6008,6008,6008,6008,8323,6008,6008,0,0,0,null,null,null,0,2,1,1,1,null,null,3,null,null,1,null,null,1,6,1,0,null,null,0,"Sukkerroer"]
[null,null,null,null,null,null,null,null,null,null,null,null,null,null,null,null,null,32,"Triticale  ","hkg",130,49,61,61,69,74,3400,3400,4300,5000,5000,null,null,null,null,null,null,672,1090,0,1762,179,178,193,188,198,null,null,0.35699999999999998,8.5000000000000006E-2,20,0.54400000000000004,1.02,0,"Triticale",4675,4675,7641,5325,5325,3823,3823,6593,4125,4125,12,9,19,8,7,6.5,113,1,3,3,3,3,2,2,2,1.2,null,null,null,null,5,2,30,1.2,"Triticale",6.6599999999999993,"Triticale"]
[null,null,null,null,null,null,null,null,null,null,null,null,null,null,null,null,null,33,"Triticale Øko","hkg",280,35,35,50,50,50,2600,2600,4100,4100,4100,null,null,null,null,null,null,986,null,null,986,105,105,105,105,105,null,null,0.35699999999999998,8.5000000000000006E-2,20,0.54400000000000004,1.02,null,"Triticale Øko",4406,4406,7594,5128,5128,3698,3698,6582,4090,4090,12,9,19,8,7,6.5,113,1,3,3,null,3,2,2,2,1.2,null,null,null,null,null,null,20,1.2,"Triticale",6.6599999999999993,"Triticale Øko"]
[null,null,null,null,null,null,null,null,null,null,null,null,null,null,null,null,null,34,"Vinterbyg","hkg",165,56,60,64,79,84,2600,2600,3000,3900,3900,null,null,null,null,null,0,656,713,0,1369,172,161,181,184,195,null,null,0.32300000000000001,6.8000000000000005E-2,20,0.39950000000000002,1.02,0,"Vinterbyg",4336,4336,7153,4947,4947,3658,3658,6388,3986,3986,12,9,20,8,7,6.5,103,1,3,3,3,3,1,1,1,1,null,null,null,null,4,1,23,1.2,"Byg",6.6599999999999993,"Vinterbyg"]
[null,null,null,null,null,null,null,null,null,null,null,null,null,null,null,null,null,35,"Vinterhvede 1. år","hkg",170,61,77,81,97,102,2900,2900,4000,4800,4800,-6,-7,-7,-10,-10,-18,630,1067,0,1697,175,181,202,208,221,null,null,0.28899999999999998,7.6499999999999999E-2,20,0.40799999999999997,1.2749999999999999,0,"Vinterhvede 1. år",4686,4686,7776,5572,5572,3943,3943,6793,4415,4415,12,9,20,8,7,6.5,115,1,3,3,3,3,2,2,2,1.2,null,null,null,null,5,2,30,1.5,"Hvede",{"$f":"IF($DO$8<$CJ322,$DO$8,$CJ322)","v":6.6599999999999993},"Vinterhvede 1. år"]
[null,null,null,null,null,null,null,null,null,null,null,null,null,null,null,null,null,36,"Vinterhvede 1. år Øko","hkg",170,27,27,50,50,50,2100,2100,2800,2800,2800,-5,-5,-5,-6,-6,-18,1120,null,null,1120,105,105,105,105,105,null,null,0.28899999999999998,7.6499999999999999E-2,20,0.40799999999999997,1.2749999999999999,null,"Vinterhvede 1. år Øko",4887,4887,7349,4887,4887,4090,4090,6582,4090,4090,12,9,20,8,7,6.5,115,1,3,3,null,3,2,2,2,1.2,null,null,null,null,null,null,20,1.5,"Hvede",6.6599999999999993,"Vinterhvede 1. år Øko"]
[null,null,null,null,null,null,null,null,null,null,null,null,null,null,null,null,null,37,"Vinterhvede e. korn","hkg",170,56,70,74,87,93,2600,2600,3600,4400,4400,null,null,null,null,null,null,714,1067,0,1781,175,181,202,208,221,null,null,0.28899999999999998,7.6499999999999999E-2,20,0.40799999999999997,1.2749999999999999,0,"Vinterhvede e. korn",4562,4562,7619,5385,5385,3884,3884,6723,4315,4315,12,9,20,8,7,6.5,115,1,3,3,3,3,2,2,2,1.2,null,null,null,null,5,2,30,1.5,"Hvede",6.6599999999999993,"Vinterhvede e. korn"]
[null,null,null,null,null,null,null,null,null,null,null,null,null,null,null,null,null,38,"Vinterhvede alle år","hkg",170,56,70,74,87,93,2600,2600,3600,4400,4400,null,null,null,null,null,null,714,1067,0,1781,175,181,202,208,221,null,null,0.28899999999999998,7.6499999999999999E-2,20,0.40799999999999997,1.2749999999999999,0,"Vinterhvede, hvert år",4562,4562,7619,5385,5385,3884,3884,6723,4315,4315,12,9,20,8,7,6.5,115,1,3,3,3,3,2,2,2,1.2,null,null,null,null,5,2,30,1.5,"Hvede",6.6599999999999993,"Vinterhvede, hvert år"]
[null,null,null,null,null,null,null,null,null,null,null,null,null,null,null,null,null,39,"Vinterraps","hkg",370,31,39,39,44,46,0,0,0,0,0,6,7,7,10,10,18,550,1185,125,1860,190,202,202,210,213,null,null,0.81899999999999995,6.8000000000000005E-2,20,1.365,1.3939999999999999,2.6190476190476191,"Vinterraps",4044,4044,6694,4390,4390,4044,4044,6694,4390,4390,17,14,20,null,null,null,0,2,2,2,2,2,1,1,null,1,null,null,null,null,6,2,35,null,null,6.6599999999999993,"Vinterraps"]
[null,null,null,null,null,null,null,null,null,null,null,null,null,null,null,null,null,40,"Vinterraps Øko","hkg",700,20,22,25,25,25,0,0,0,0,0,5,6,6,9,9,18,720,null,0,720,105,105,105,105,105,null,null,0.81899999999999995,6.8000000000000005E-2,20,1.365,1.3939999999999999,7,"Vinterraps Øko",4247,4247,6877,4492,4492,4247,4247,6877,4492,4492,17,14,20,null,null,null,0,2,2,2,null,2,1,1,null,1,null,null,null,null,null,null,35,null,null,6.6599999999999993,"Vinterraps Øko"]
[null,null,null,null,null,null,null,null,null,null,null,null,null,null,null,null,null,41,"Vinterrug","hkg",160,51,65,64,77,81,3400,3400,4300,5400,5400,null,null,null,null,null,null,480,722,0,1202,138,139,152,153,163,null,null,0.28899999999999998,7.6499999999999999E-2,20,0.46750000000000003,1.02,0,"Vinterrug",4555,4555,7531,5352,5352,3703,3703,6483,4065,4065,12,9,20,8,7,6.5,110,1,3,3,3,3,2,2,2,1.6,null,null,null,null,4,2,30,1.2,"Rug",6.6599999999999993,"Vinterrug"]
[null,null,null,null,null,null,null,null,null,null,null,null,null,null,null,null,null,42,"Vinterrug Øko","hkg",240,37,37,48,57,57,2600,2600,3800,3800,3800,null,null,null,null,null,null,585,null,null,585,105,105,105,105,105,null,null,0.28899999999999998,7.6999999999999999E-2,20,0.46800000000000003,1.02,0,"Vinterrug Øko",4436,4436,7511,5154,5154,3728,3728,6553,4195,4195,12,9,20,8,7,6.5,110,1,3,3,null,3,2,2,2,1.6,null,null,null,null,null,null,20,1.2,"Rug",6.6599999999999993,"Vinterrug Øko"]
[null,null,null,null,null,null,null,null,null,null,null,null,null,null,null,null,null,43,"Vårbyg, foder","hkg",165,46,53,58,65,69,2400,2400,3100,3500,3500,null,null,null,null,null,null,560,340,0,900,141,137,159,144,150,null,2.5,0.32300000000000001,7.6499999999999999E-2,20,0.39950000000000002,1.02,0,"Vårbyg, foder",4053,4053,6550,4579,4579,3418,3418,5763,3705,3705,12,9,20,8,7,6.5,102,1,1,1,1,1,2,2,2,1,null,null,null,null,3,1,30,1.5,"Byg",6.6599999999999993,"Vårbyg, foder"]
[null,null,null,null,null,null,null,null,null,null,null,null,null,null,null,null,null,44,"Vårbyg, foder Øko","hkg",280,27,27,40,40,40,1600,1600,1900,1900,1900,null,null,null,null,null,null,918,null,null,918,105,105,105,105,105,null,2.5,0.32,0.08,20,0.4,1.02,0,"Vårbyg, foder Øko",4209,4209,6718,4666,4666,3718,3718,6147,4080,4080,12,9,20,8,7,6.5,102,1,1,1,null,1,2,2,2,1,null,null,null,null,null,null,20,1.5,"Byg",6.6599999999999993,"Vårbyg, foder Øko"]
[null,null,null,null,null,null,null,null,null,null,null,null,null,null,null,null,null,45,"Vårbyg, malt","hkg",200,46,53,58,65,69,2400,2400,3100,3500,3500,null,null,null,null,null,null,574,340,0,914,141,137,159,144,150,null,2.5,0.32300000000000001,7.6499999999999999E-2,20,0.39950000000000002,1.02,0,"Vårbyg, malt",4053,4053,6550,4571,4571,3418,3418,5763,3705,3705,12,9,20,null,null,null,0,2,1,1,1,1,2,2,2,1,null,null,null,null,3,1,0,1.5,null,0,"Vårbyg, malt"]
[null,null,null,null,null,null,null,null,null,null,null,null,null,null,null,null,null,46,"Vårbyg, malt Øko","hkg",320,27,27,40,40,40,1600,1600,1900,1900,1900,null,null,null,null,null,null,918,null,null,918,105,105,105,105,105,null,2.5,0.32,0.08,20,0.4,1.02,0,"Vårbyg, malt Øko",4209,4209,6718,4666,4666,3718,3718,6147,4080,4080,12,9,0,8,7,6.5,0,1,1,1,null,1,2,2,2,1,null,null,null,null,null,null,0,1.5,"Byg",0,"Vårbyg, malt Øko"]
[null,null,null,null,null,null,null,null,null,null,null,null,null,null,null,null,null,47,"Vårbyg/ært Øko","hkg",{"$f":"(4*U331+U312)/5","v":320},{"$f":"V331+2","v":29},{"$f":"W331+2","v":29},{"$f":"X331+2","v":42},{"$f":"Y331+2","v":42},{"$f":"Z331+2","v":42},1600,1600,1900,1900,1900,null,null,null,null,null,14,{"$f":"ROUND((4*AL331+AL312)/5,0)","v":1027},null,null,1027,0,0,0,0,0,null,null,null,null,20,null,null,null,"Vårbyg/ært Øko",4209,4209,6718,4666,4666,3718,3718,6147,4080,4080,17,14,0,null,null,null,null,2,1,1,null,1,2,2,null,1,null,null,null,null,null,null,0,null,null,0,"Vårbyg/ært Øko"]
[null,null,null,null,null,null,null,null,null,null,null,null,null,null,null,null,null,48,"Vårhvede","hkg",170,42,48,53,59,63,1800,1800,2400,2700,2700,null,null,null,null,null,null,880,454,0,1334,168,164,187,172,179,null,2.5,0.32300000000000001,7.6499999999999999E-2,20,0.39950000000000002,1.02,0,"Vårhvede",3882,3882,6498,4345,4345,3378,3378,5863,3645,3645,12,9,20,8,7,6.5,115,1,1,1,1,1,2,2,2,1,null,null,null,null,3,1,30,1.5,"Hvede",6.6599999999999993,"Vårhvede"]
[null,null,null,null,null,null,null,null,null,null,null,null,null,null,null,null,null,49,"Vårhvede Øko","hkg",300,27,27,38,38,38,1300,1300,1500,1500,1500,null,null,null,null,null,null,1125,null,null,1125,105,105,105,105,105,null,2.5,0.32,0.08,20,0.4,1.02,0,"Vårhvede Øko",4132,4132,6740,4534,4534,3718,3718,6267,4050,4050,12,9,20,8,7,6.5,115,1,1,1,null,1,2,2,2,1,null,null,null,null,null,null,20,1.5,"Hvede",6.6599999999999993,"Vårhvede Øko"]
[null,null,null,null,null,null,null,null,null,null,null,null,null,null,null,null,null,50,"Vårhvede/ært Øko","hkg",{"$f":"(4*U336+U312)/5","v":336},27,27,38,38,38,1300,1300,1500,1500,1500,null,null,null,null,null,14,{"$f":"ROUND((4*AL336+AL312)/5,0)","v":1193},null,null,1193,0,0,0,0,0,null,null,null,null,20,null,null,null,"Vårhvede/ært Øko",4209,4209,6718,4666,4666,3718,3718,6147,4080,4080,17,14,20,null,null,null,null,null,1,1,1,1,2,2,null,1,null,null,null,null,null,null,0,null,null,0,"Vårhvede/ært Øko"]
[null,null,null,null,null,null,null,null,null,null,null,null,null,null,null,null,null,51,"Vårtriticale Øko","hkg",240,32,32,38,38,38,1500,1500,2100,2100,2100,null,null,null,null,null,null,1125,null,null,1125,105,105,105,105,105,null,2.5,0.32,7.0000000000000007E-2,20,0.4,1.02,0,"Vårtriticale Øko",4132,4132,6740,4534,4534,3718,3718,6267,4050,4050,12,9,20,8,7,6.5,113,1,1,1,null,1,2,2,2,1,null,null,null,null,null,null,20,1.5,"Triticale",6.6599999999999993,"Vårtriticale Øko"]
[null,null,null,null,null,null,null,null,null,null,null,null,null,null,null,null,null,52,"Vårraps  ","hkg",375,19,22,24,25,26,0,0,0,0,0,5,7,7,9,9,18,726,663,125,1514,137,126,144,121,122,null,2.5,0.81899999999999995,6.8000000000000005E-2,20,1.365,1.3939999999999999,4.0740740740740744,"Vårraps",3164,3164,5758,3374,3374,3164,3164,5758,3374,3374,23,17.25,20,null,null,null,0,2,1,1,1,1,2,2,null,1,null,null,null,null,2,1,30,null,null,6.6599999999999993,"Vårraps"]
[null,null,null,null,null,null,null,null,null,null,null,null,null,null,null,null,null,53,"Sædskifte 1","hkg",{"$f":"(IF(I68<>\"\",I68,VLOOKUP($CV$159,_Afg07,U285))*$D$68*IF($F$68<>\"\",$F$68,VLOOKUP($CV$159,_Afg07,Udbyttenr))+IF(I70<>\"\",I70,VLOOKUP($CV$161,_Afg07,U285))*$D$70*IF($F$70<>\"\",$F$70,VLOOKUP($CV$161,_Afg07,Udbyttenr))+IF(I72<>\"\",I72,VLOOKUP($CV$163,_Afg07,U285))*$D$72*IF($F$72<>\"\",$F$72,VLOOKUP($CV$163,_Afg07,Udbyttenr))+IF(I74<>\"\",I74,VLOOKUP($CV$165,_Afg07,U285))*$D$74*IF($F$74<>\"\",$F$74,VLOOKUP($CV$165,_Afg07,Udbyttenr))+IF(I76<>\"\",I76,VLOOKUP($CV$167,_Afg07,U285))*$D$76*IF($F$76<>\"\",$F$76,VLOOKUP($CV$167,_Afg07,Udbyttenr))+IF(I78<>\"\",I78,VLOOKUP($CV$169,_Afg07,U285))*$D$78*IF($F$78<>\"\",$F$78,VLOOKUP($CV$169,_Afg07,Udbyttenr))+IF(I80<>\"\",I80,VLOOKUP($CV$171,_Afg07,U285))*$D$80*IF($F$80<>\"\",$F$80,VLOOKUP($CV$171,_Afg07,Udbyttenr)))/($D$82*VLOOKUP($R$340,_Afg07,Udbyttenr))","v":{"$error":"#DIV/0!"}},{"$f":"(IF($F$68<>\"\",$F$68,VLOOKUP($CV$159,_Afg07,V285))*$D$68+IF($F$70<>\"\",$F$70,VLOOKUP($CV$161,_Afg07,V285))*$D$70+IF($F$72<>\"\",$F$72,VLOOKUP($CV$163,_Afg07,V285))*$D$72+IF($F$74<>\"\",$F$74,VLOOKUP($CV$165,_Afg07,V285))*$D$74+IF($F$76<>\"\",$F$76,VLOOKUP($CV$167,_Afg07,V285))*$D$76+IF($F$78<>\"\",$F$78,VLOOKUP($CV$169,_Afg07,V285))*$D$78+IF($F$80<>\"\",$F$80,VLOOKUP($CV$171,_Afg07,V285))*$D$80)/$D$82","v":{"$error":"#DIV/0!"}},{"$f":"(IF($F$68<>\"\",$F$68,VLOOKUP($CV$159,_Afg07,W285))*$D$68+IF($F$70<>\"\",$F$70,VLOOKUP($CV$161,_Afg07,W285))*$D$70+IF($F$72<>\"\",$F$72,VLOOKUP($CV$163,_Afg07,W285))*$D$72+IF($F$74<>\"\",$F$74,VLOOKUP($CV$165,_Afg07,W285))*$D$74+IF($F$76<>\"\",$F$76,VLOOKUP($CV$167,_Afg07,W285))*$D$76+IF($F$78<>\"\",$F$78,VLOOKUP($CV$169,_Afg07,W285))*$D$78+IF($F$80<>\"\",$F$80,VLOOKUP($CV$171,_Afg07,W285))*$D$80)/$D$82","v":{"$error":"#DIV/0!"}},{"$f":"(IF($F$68<>\"\",$F$68,VLOOKUP($CV$159,_Afg07,X285))*$D$68+IF($F$70<>\"\",$F$70,VLOOKUP($CV$161,_Afg07,X285))*$D$70+IF($F$72<>\"\",$F$72,VLOOKUP($CV$163,_Afg07,X285))*$D$72+IF($F$74<>\"\",$F$74,VLOOKUP($CV$165,_Afg07,X285))*$D$74+IF($F$76<>\"\",$F$76,VLOOKUP($CV$167,_Afg07,X285))*$D$76+IF($F$78<>\"\",$F$78,VLOOKUP($CV$169,_Afg07,X285))*$D$78+IF($F$80<>\"\",$F$80,VLOOKUP($CV$171,_Afg07,X285))*$D$80)/$D$82","v":{"$error":"#DIV/0!"}},{"$f":"(IF($F$68<>\"\",$F$68,VLOOKUP($CV$159,_Afg07,Y285))*$D$68+IF($F$70<>\"\",$F$70,VLOOKUP($CV$161,_Afg07,Y285))*$D$70+IF($F$72<>\"\",$F$72,VLOOKUP($CV$163,_Afg07,Y285))*$D$72+IF($F$74<>\"\",$F$74,VLOOKUP($CV$165,_Afg07,Y285))*$D$74+IF($F$76<>\"\",$F$76,VLOOKUP($CV$167,_Afg07,Y285))*$D$76+IF($F$78<>\"\",$F$78,VLOOKUP($CV$169,_Afg07,Y285))*$D$78+IF($F$80<>\"\",$F$80,VLOOKUP($CV$171,_Afg07,Y285))*$D$80)/$D$82","v":{"$error":"#DIV/0!"}},{"$f":"(IF($F$68<>\"\",$F$68,VLOOKUP($CV$159,_Afg07,Z285))*$D$68+IF($F$70<>\"\",$F$70,VLOOKUP($CV$161,_Afg07,Z285))*$D$70+IF($F$72<>\"\",$F$72,VLOOKUP($CV$163,_Afg07,Z285))*$D$72+IF($F$74<>\"\",$F$74,VLOOKUP($CV$165,_Afg07,Z285))*$D$74+IF($F$76<>\"\",$F$76,VLOOKUP($CV$167,_Afg07,Z285))*$D$76+IF($F$78<>\"\",$F$78,VLOOKUP($CV$169,_Afg07,Z285))*$D$78+IF($F$80<>\"\",$F$80,VLOOKUP($CV$171,_Afg07,Z285))*$D$80)/$D$82","v":{"$error":"#DIV/0!"}},{"$f":"(VLOOKUP($CV$159,_Afg07,AA285)*$D$68+VLOOKUP($CV$161,_Afg07,AA285)*$D$70+VLOOKUP($CV$163,_Afg07,AA285)*$D$72+VLOOKUP($CV$165,_Afg07,AA285)*$D$74+VLOOKUP($CV$167,_Afg07,AA285)*$D$76+VLOOKUP($CV$169,_Afg07,AA285)*$D$78+VLOOKUP($CV$171,_Afg07,AA285)*$D$80)/$D$82","v":{"$error":"#DIV/0!"}},{"$error":"#DIV/0!"},{"$error":"#DIV/0!"},{"$error":"#DIV/0!"},{"$error":"#DIV/0!"},{"$error":"#DIV/0!"},{"$error":"#DIV/0!"},{"$error":"#DIV/0!"},{"$error":"#DIV/0!"},{"$error":"#DIV/0!"},{"$error":"#DIV/0!"},{"$error":"#DIV/0!"},{"$error":"#DIV/0!"},{"$error":"#DIV/0!"},{"$error":"#DIV/0!"},{"$error":"#DIV/0!"},{"$error":"#DIV/0!"},{"$error":"#DIV/0!"},{"$error":"#DIV/0!"},{"$error":"#DIV/0!"},{"$error":"#DIV/0!"},{"$error":"#DIV/0!"},{"$f":"(VLOOKUP($CV$159,_Afg07,AW285)*$D$68*IF($F$68<>\"\",$F$68,VLOOKUP($CV$159,_Afg07,Udbyttenr))+VLOOKUP($CV$161,_Afg07,AW285)*$D$70*IF($F$70<>\"\",$F$70,VLOOKUP($CV$161,_Afg07,Udbyttenr))+VLOOKUP($CV$163,_Afg07,AW285)*$D$72*IF($F$72<>\"\",$F$72,VLOOKUP($CV$163,_Afg07,Udbyttenr))+VLOOKUP($CV$165,_Afg07,AW285)*$D$74*IF($F$74<>\"\",$F$74,VLOOKUP($CV$165,_Afg07,Udbyttenr))+VLOOKUP($CV$167,_Afg07,AW285)*$D$76*IF($F$76<>\"\",$F$76,VLOOKUP($CV$167,_Afg07,Udbyttenr))+VLOOKUP($CV$169,_Afg07,AW285)*$D$78*IF($F$78<>\"\",$F$78,VLOOKUP($CV$169,_Afg07,Udbyttenr))+VLOOKUP($CV$171,_Afg07,AW285)*$D$80*IF($F$80<>\"\",$F$80,VLOOKUP($CV$171,_Afg07,Udbyttenr)))/($D$82*VLOOKUP($R$340,_Afg07,Udbyttenr))","v":{"$error":"#DIV/0!"}},{"$f":"(VLOOKUP($CV$159,_Afg07,AX285)*$D$68*VLOOKUP($CV$159,_Afg07,Halmnr)+VLOOKUP($CV$161,_Afg07,AX285)*$D$70*VLOOKUP($CV$161,_Afg07,Halmnr)+VLOOKUP($CV$163,_Afg07,AX285)*$D$72*VLOOKUP($CV$163,_Afg07,Halmnr)+VLOOKUP($CV$165,_Afg07,AX285)*$D$74*VLOOKUP($CV$165,_Afg07,Halmnr)+VLOOKUP($CV$167,_Afg07,AX285)*$D$76*VLOOKUP($CV$167,_Afg07,Halmnr)+VLOOKUP($CV$169,_Afg07,AX285)*$D$78*VLOOKUP($CV$169,_Afg07,Halmnr)+VLOOKUP($CV$171,_Afg07,AX285)*$D$80*VLOOKUP($CV$171,_Afg07,Halmnr))/($D$82*VLOOKUP($R$340,_Afg07,Halmnr))","v":{"$error":"#DIV/0!"}},{"$f":"(VLOOKUP($CV$159,_Afg07,AY285)*$D$68+VLOOKUP($CV$161,_Afg07,AY285)*$D$70+VLOOKUP($CV$163,_Afg07,AY285)*$D$72+VLOOKUP($CV$165,_Afg07,AY285)*$D$74+VLOOKUP($CV$167,_Afg07,AY285)*$D$76+VLOOKUP($CV$169,_Afg07,AY285)*$D$78+VLOOKUP($CV$171,_Afg07,AY285)*$D$80)/$D$82","v":{"$error":"#DIV/0!"}},{"$f":"(VLOOKUP($CV$159,_Afg07,AZ285)*$D$68*IF($F$68<>\"\",$F$68,VLOOKUP($CV$159,_Afg07,Udbyttenr))+VLOOKUP($CV$161,_Afg07,AZ285)*$D$70*IF($F$70<>\"\",$F$70,VLOOKUP($CV$161,_Afg07,Udbyttenr))+VLOOKUP($CV$163,_Afg07,AZ285)*$D$72*IF($F$72<>\"\",$F$72,VLOOKUP($CV$163,_Afg07,Udbyttenr))+VLOOKUP($CV$165,_Afg07,AZ285)*$D$74*IF($F$74<>\"\",$F$74,VLOOKUP($CV$165,_Afg07,Udbyttenr))+VLOOKUP($CV$167,_Afg07,AZ285)*$D$76*IF($F$76<>\"\",$F$76,VLOOKUP($CV$167,_Afg07,Udbyttenr))+VLOOKUP($CV$169,_Afg07,AZ285)*$D$78*IF($F$78<>\"\",$F$78,VLOOKUP($CV$169,_Afg07,Udbyttenr))+VLOOKUP($CV$171,_Afg07,AZ285)*$D$80*IF($F$80<>\"\",$F$80,VLOOKUP($CV$171,_Afg07,Udbyttenr)))/($D$82*VLOOKUP($R$340,_Afg07,Udbyttenr))","v":{"$error":"#DIV/0!"}},{"$f":"(VLOOKUP($CV$159,_Afg07,BA285)*$D$68*VLOOKUP($CV$159,_Afg07,Halmnr)+VLOOKUP($CV$161,_Afg07,BA285)*$D$70*VLOOKUP($CV$161,_Afg07,Halmnr)+VLOOKUP($CV$163,_Afg07,BA285)*$D$72*VLOOKUP($CV$163,_Afg07,Halmnr)+VLOOKUP($CV$165,_Afg07,BA285)*$D$74*VLOOKUP($CV$165,_Afg07,Halmnr)+VLOOKUP($CV$167,_Afg07,BA285)*$D$76*VLOOKUP($CV$167,_Afg07,Halmnr)+VLOOKUP($CV$169,_Afg07,BA285)*$D$78*VLOOKUP($CV$169,_Afg07,Halmnr)+VLOOKUP($CV$171,_Afg07,BA285)*$D$80*VLOOKUP($CV$171,_Afg07,Halmnr))/($D$82*VLOOKUP($R$340,_Afg07,Halmnr))","v":{"$error":"#DIV/0!"}},{"$f":"(VLOOKUP($CV$159,_Afg07,BB285)*$D$68*IF($F$68<>\"\",$F$68,VLOOKUP($CV$159,_Afg07,Udbyttenr))+VLOOKUP($CV$161,_Afg07,BB285)*$D$70*IF($F$70<>\"\",$F$70,VLOOKUP($CV$161,_Afg07,Udbyttenr))+VLOOKUP($CV$163,_Afg07,BB285)*$D$72*IF($F$72<>\"\",$F$72,VLOOKUP($CV$163,_Afg07,Udbyttenr))+VLOOKUP($CV$165,_Afg07,BB285)*$D$74*IF($F$74<>\"\",$F$74,VLOOKUP($CV$165,_Afg07,Udbyttenr))+VLOOKUP($CV$167,_Afg07,BB285)*$D$76*IF($F$76<>\"\",$F$76,VLOOKUP($CV$167,_Afg07,Udbyttenr))+VLOOKUP($CV$169,_Afg07,BB285)*$D$78*IF($F$78<>\"\",$F$78,VLOOKUP($CV$169,_Afg07,Udbyttenr))+VLOOKUP($CV$171,_Afg07,BB285)*$D$80*IF($F$80<>\"\",$F$80,VLOOKUP($CV$171,_Afg07,Udbyttenr)))/($D$82*VLOOKUP($R$340,_Afg07,Udbyttenr))","v":{"$error":"#DIV/0!"}},"Sædskifte 1",{"$f":"(VLOOKUP($CV$159,_Afg07,BD285)*$D$68+VLOOKUP($CV$161,_Afg07,BD285)*$D$70+VLOOKUP($CV$163,_Afg07,BD285)*$D$72+VLOOKUP($CV$165,_Afg07,BD285)*$D$74+VLOOKUP($CV$167,_Afg07,BD285)*$D$76+VLOOKUP($CV$169,_Afg07,BD285)*$D$78+VLOOKUP($CV$171,_Afg07,BD285)*$D$80)/$D$82","v":{"$error":"#DIV/0!"}},{"$error":"#DIV/0!"},{"$error":"#DIV/0!"},{"$error":"#DIV/0!"},{"$error":"#DIV/0!"},{"$error":"#DIV/0!"},{"$error":"#DIV/0!"},{"$error":"#DIV/0!"},{"$error":"#DIV/0!"},{"$error":"#DIV/0!"},{"$f":"(IF(AND(VLOOKUP($CV$159,_Afg07,$BU$285)=1,$CY$5=4),0,VLOOKUP($CV$159,_Afg07,BN285)*$D$68*IF($F$68<>\"\",$F$68,VLOOKUP($CV$159,_Afg07,Udbyttenr)))+IF(AND(VLOOKUP($CV$161,_Afg07,$BU$285)=1,$CY$5=4),0,VLOOKUP($CV$161,_Afg07,BN285)*$D$70*IF($F$70<>\"\",$F$70,VLOOKUP($CV$161,_Afg07,Udbyttenr)))+IF(AND(VLOOKUP($CV$163,_Afg07,$BU$285)=1,$CY$5=4),0,VLOOKUP($CV$163,_Afg07,BN285)*$D$72*IF($F$72<>\"\",$F$72,VLOOKUP($CV$163,_Afg07,Udbyttenr)))+IF(AND(VLOOKUP($CV$165,_Afg07,$BU$285)=1,$CY$5=4),0,VLOOKUP($CV$165,_Afg07,BN285)*$D$74*IF($F$74<>\"\",$F$74,VLOOKUP($CV$165,_Afg07,Udbyttenr)))+IF(AND(VLOOKUP($CV$167,_Afg07,$BU$285)=1,$CY$5=4),0,VLOOKUP($CV$167,_Afg07,BN285)*$D$76*IF($F$76<>\"\",$F$76,VLOOKUP($CV$167,_Afg07,Udbyttenr)))+IF(AND(VLOOKUP($CV$169,_Afg07,$BU$285)=1,$CY$5=4),0,VLOOKUP($CV$169,_Afg07,BN285)*$D$78*IF($F$78<>\"\",$F$78,VLOOKUP($CV$169,_Afg07,Udbyttenr)))+IF(AND(VLOOKUP($CV$171,_Afg07,$BU$285)=1,$CY$5=4),0,VLOOKUP($CV$171,_Afg07,BN285)*$D$80*IF($F$80<>\"\",$F$80,VLOOKUP($CV$171,_Afg07,Udbyttenr))))/($D$82*VLOOKUP($R$340,_Afg07,Udbyttenr))","v":{"$error":"#DIV/0!"}},{"$f":"(IF(AND(VLOOKUP($CV$159,_Afg07,$BU$285)=1,$CY$5=4),0,VLOOKUP($CV$159,_Afg07,BO285)*$D$68*IF($F$68<>\"\",$F$68,VLOOKUP($CV$159,_Afg07,Udbyttenr)))+IF(AND(VLOOKUP($CV$161,_Afg07,$BU$285)=1,$CY$5=4),0,VLOOKUP($CV$161,_Afg07,BO285)*$D$70*IF($F$70<>\"\",$F$70,VLOOKUP($CV$161,_Afg07,Udbyttenr)))+IF(AND(VLOOKUP($CV$163,_Afg07,$BU$285)=1,$CY$5=4),0,VLOOKUP($CV$163,_Afg07,BO285)*$D$72*IF($F$72<>\"\",$F$72,VLOOKUP($CV$163,_Afg07,Udbyttenr)))+IF(AND(VLOOKUP($CV$165,_Afg07,$BU$285)=1,$CY$5=4),0,VLOOKUP($CV$165,_Afg07,BO285)*$D$74*IF($F$74<>\"\",$F$74,VLOOKUP($CV$165,_Afg07,Udbyttenr)))+IF(AND(VLOOKUP($CV$167,_Afg07,$BU$285)=1,$CY$5=4),0,VLOOKUP($CV$167,_Afg07,BO285)*$D$76*IF($F$76<>\"\",$F$76,VLOOKUP($CV$167,_Afg07,Udbyttenr)))+IF(AND(VLOOKUP($CV$169,_Afg07,$BU$285)=1,$CY$5=4),0,VLOOKUP($CV$169,_Afg07,BO285)*$D$78*IF($F$78<>\"\",$F$78,VLOOKUP($CV$169,_Afg07,Udbyttenr)))+IF(AND(VLOOKUP($CV$171,_Afg07,$BU$285)=1,$CY$5=4),0,VLOOKUP($CV$171,_Afg07,BO285)*$D$80*IF($F$80<>\"\",$F$80,VLOOKUP($CV$171,_Afg07,Udbyttenr))))/($D$82*VLOOKUP($R$340,_Afg07,Udbyttenr))","v":{"$error":"#DIV/0!"}},{"$f":"(IF(AND(VLOOKUP($CV$159,_Afg07,$BU$285)=1,$CY$5=4),0,VLOOKUP($CV$159,_Afg07,BP285)*$D$68*IF($F$68<>\"\",$F$68,VLOOKUP($CV$159,_Afg07,Udbyttenr)))+IF(AND(VLOOKUP($CV$161,_Afg07,$BU$285)=1,$CY$5=4),0,VLOOKUP($CV$161,_Afg07,BP285)*$D$70*IF($F$70<>\"\",$F$70,VLOOKUP($CV$161,_Afg07,Udbyttenr)))+IF(AND(VLOOKUP($CV$163,_Afg07,$BU$285)=1,$CY$5=4),0,VLOOKUP($CV$163,_Afg07,BP285)*$D$72*IF($F$72<>\"\",$F$72,VLOOKUP($CV$163,_Afg07,Udbyttenr)))+IF(AND(VLOOKUP($CV$165,_Afg07,$BU$285)=1,$CY$5=4),0,VLOOKUP($CV$165,_Afg07,BP285)*$D$74*IF($F$74<>\"\",$F$74,VLOOKUP($CV$165,_Afg07,Udbyttenr)))+IF(AND(VLOOKUP($CV$167,_Afg07,$BU$285)=1,$CY$5=4),0,VLOOKUP($CV$167,_Afg07,BP285)*$D$76*IF($F$76<>\"\",$F$76,VLOOKUP($CV$167,_Afg07,Udbyttenr)))+IF(AND(VLOOKUP($CV$169,_Afg07,$BU$285)=1,$CY$5=4),0,VLOOKUP($CV$169,_Afg07,BP285)*$D$78*IF($F$78<>\"\",$F$78,VLOOKUP($CV$169,_Afg07,Udbyttenr)))+IF(AND(VLOOKUP($CV$171,_Afg07,$BU$285)=1,$CY$5=4),0,VLOOKUP($CV$171,_Afg07,BP285)*$D$80*IF($F$80<>\"\",$F$80,VLOOKUP($CV$171,_Afg07,Udbyttenr))))/($D$82*VLOOKUP($R$340,_Afg07,Udbyttenr))","v":{"$error":"#DIV/0!"}},{"$f":"(IF(VLOOKUP($CV$159,_Afg07,$BU$285)=1,VLOOKUP($CV$159,_Afg07,BQ285)*$D$68*IF($F$68<>\"\",$F$68,VLOOKUP($CV$159,_Afg07,Udbyttenr)),0)+IF(VLOOKUP($CV$161,_Afg07,$BU$285)=1,VLOOKUP($CV$161,_Afg07,BQ285)*$D$70*IF($F$70<>\"\",$F$70,VLOOKUP($CV$161,_Afg07,Udbyttenr)),0)+IF(VLOOKUP($CV$163,_Afg07,$BU$285)=1,VLOOKUP($CV$163,_Afg07,BQ285)*$D$72*IF($F$72<>\"\",$F$72,VLOOKUP($CV$163,_Afg07,Udbyttenr)),0)+IF(VLOOKUP($CV$165,_Afg07,$BU$285)=1,VLOOKUP($CV$165,_Afg07,BQ285)*$D$74*IF($F$74<>\"\",$F$74,VLOOKUP($CV$165,_Afg07,Udbyttenr)),0)+IF(VLOOKUP($CV$167,_Afg07,$BU$285)=1,VLOOKUP($CV$167,_Afg07,BQ285)*$D$76*IF($F$76<>\"\",$F$76,VLOOKUP($CV$167,_Afg07,Udbyttenr)),0)+IF(VLOOKUP($CV$169,_Afg07,$BU$285)=1,VLOOKUP($CV$169,_Afg07,BQ285)*$D$78*IF($F$78<>\"\",$F$78,VLOOKUP($CV$169,_Afg07,Udbyttenr)),0)+IF(VLOOKUP($CV$171,_Afg07,$BU$285)=1,VLOOKUP($CV$171,_Afg07,BQ285)*$D$80*IF($F$80<>\"\",$F$80,VLOOKUP($CV$171,_Afg07,Udbyttenr)),0))/($CY$173)","v":{"$error":"#DIV/0!"}},{"$f":"(IF(VLOOKUP($CV$159,_Afg07,$BU$285)=1,VLOOKUP($CV$159,_Afg07,BR285)*$D$68*IF($F$68<>\"\",$F$68,VLOOKUP($CV$159,_Afg07,Udbyttenr)),0)+IF(VLOOKUP($CV$161,_Afg07,$BU$285)=1,VLOOKUP($CV$161,_Afg07,BR285)*$D$70*IF($F$70<>\"\",$F$70,VLOOKUP($CV$161,_Afg07,Udbyttenr)),0)+IF(VLOOKUP($CV$163,_Afg07,$BU$285)=1,VLOOKUP($CV$163,_Afg07,BR285)*$D$72*IF($F$72<>\"\",$F$72,VLOOKUP($CV$163,_Afg07,Udbyttenr)),0)+IF(VLOOKUP($CV$165,_Afg07,$BU$285)=1,VLOOKUP($CV$165,_Afg07,BR285)*$D$74*IF($F$74<>\"\",$F$74,VLOOKUP($CV$165,_Afg07,Udbyttenr)),0)+IF(VLOOKUP($CV$167,_Afg07,$BU$285)=1,VLOOKUP($CV$167,_Afg07,BR285)*$D$76*IF($F$76<>\"\",$F$76,VLOOKUP($CV$167,_Afg07,Udbyttenr)),0)+IF(VLOOKUP($CV$169,_Afg07,$BU$285)=1,VLOOKUP($CV$169,_Afg07,BR285)*$D$78*IF($F$78<>\"\",$F$78,VLOOKUP($CV$169,_Afg07,Udbyttenr)),0)+IF(VLOOKUP($CV$171,_Afg07,$BU$285)=1,VLOOKUP($CV$171,_Afg07,BR285)*$D$80*IF($F$80<>\"\",$F$80,VLOOKUP($CV$171,_Afg07,Udbyttenr)),0))/($CY$173)","v":{"$error":"#DIV/0!"}},{"$f":"(IF(VLOOKUP($CV$159,_Afg07,$BU$285)=1,VLOOKUP($CV$159,_Afg07,BS285)*$D$68*IF($F$68<>\"\",$F$68,VLOOKUP($CV$159,_Afg07,Udbyttenr)),0)+IF(VLOOKUP($CV$161,_Afg07,$BU$285)=1,VLOOKUP($CV$161,_Afg07,BS285)*$D$70*IF($F$70<>\"\",$F$70,VLOOKUP($CV$161,_Afg07,Udbyttenr)),0)+IF(VLOOKUP($CV$163,_Afg07,$BU$285)=1,VLOOKUP($CV$163,_Afg07,BS285)*$D$72*IF($F$72<>\"\",$F$72,VLOOKUP($CV$163,_Afg07,Udbyttenr)),0)+IF(VLOOKUP($CV$165,_Afg07,$BU$285)=1,VLOOKUP($CV$165,_Afg07,BS285)*$D$74*IF($F$74<>\"\",$F$74,VLOOKUP($CV$165,_Afg07,Udbyttenr)),0)+IF(VLOOKUP($CV$167,_Afg07,$BU$285)=1,VLOOKUP($CV$167,_Afg07,BS285)*$D$76*IF($F$76<>\"\",$F$76,VLOOKUP($CV$167,_Afg07,Udbyttenr)),0)+IF(VLOOKUP($CV$169,_Afg07,$BU$285)=1,VLOOKUP($CV$169,_Afg07,BS285)*$D$78*IF($F$78<>\"\",$F$78,VLOOKUP($CV$169,_Afg07,Udbyttenr)),0)+IF(VLOOKUP($CV$171,_Afg07,$BU$285)=1,VLOOKUP($CV$171,_Afg07,BS285)*$D$80*IF($F$80<>\"\",$F$80,VLOOKUP($CV$171,_Afg07,Udbyttenr)),0))/($CY$173)","v":{"$error":"#DIV/0!"}},{"$f":"(IF(VLOOKUP($CV$159,_Afg07,$BU$285)=1,VLOOKUP($CV$159,_Afg07,BT285)*$D$68*IF($F$68<>\"\",$F$68,VLOOKUP($CV$159,_Afg07,Udbyttenr)),0)+IF(VLOOKUP($CV$161,_Afg07,$BU$285)=1,VLOOKUP($CV$161,_Afg07,BT285)*$D$70*IF($F$70<>\"\",$F$70,VLOOKUP($CV$161,_Afg07,Udbyttenr)),0)+IF(VLOOKUP($CV$163,_Afg07,$BU$285)=1,VLOOKUP($CV$163,_Afg07,BT285)*$D$72*IF($F$72<>\"\",$F$72,VLOOKUP($CV$163,_Afg07,Udbyttenr)),0)+IF(VLOOKUP($CV$165,_Afg07,$BU$285)=1,VLOOKUP($CV$165,_Afg07,BT285)*$D$74*IF($F$74<>\"\",$F$74,VLOOKUP($CV$165,_Afg07,Udbyttenr)),0)+IF(VLOOKUP($CV$167,_Afg07,$BU$285)=1,VLOOKUP($CV$167,_Afg07,BT285)*$D$76*IF($F$76<>\"\",$F$76,VLOOKUP($CV$167,_Afg07,Udbyttenr)),0)+IF(VLOOKUP($CV$169,_Afg07,$BU$285)=1,VLOOKUP($CV$169,_Afg07,BT285)*$D$78*IF($F$78<>\"\",$F$78,VLOOKUP($CV$169,_Afg07,Udbyttenr)),0)+IF(VLOOKUP($CV$171,_Afg07,$BU$285)=1,VLOOKUP($CV$171,_Afg07,BT285)*$D$80*IF($F$80<>\"\",$F$80,VLOOKUP($CV$171,_Afg07,Udbyttenr)),0))/($CY$173)","v":{"$error":"#DIV/0!"}},3,null,null,null,null,null,null,null,null,null,null,null,null,null,null,{"$f":"(VLOOKUP($CV$159,_Afg07,CJ285)*$D$68+VLOOKUP($CV$161,_Afg07,CJ285)*$D$70+VLOOKUP($CV$163,_Afg07,CJ285)*$D$72+VLOOKUP($CV$165,_Afg07,CJ285)*$D$74+VLOOKUP($CV$167,_Afg07,CJ285)*$D$76+VLOOKUP($CV$169,_Afg07,CJ285)*$D$78+VLOOKUP($CV$171,_Afg07,CJ285)*$D$80)/$D$82","v":{"$error":"#DIV/0!"}},null,null,{"$error":"#DIV/0!"},"Sædskifte 1"]
[null,null,null,null,null,null,null,null,null,null,null,null,null,null,null,null,null,54,"Sædskifte 2","hkg",{"$f":"(IF(I89<>\"\",I89,VLOOKUP($CV$160,_Afg07,U285))*$D$89*IF($F$89<>\"\",$F$89,VLOOKUP($CV$160,_Afg07,Udbyttenr))+IF(I91<>\"\",I91,VLOOKUP($CV$162,_Afg07,U285))*$D$91*IF($F$91<>\"\",$F$91,VLOOKUP($CV$162,_Afg07,Udbyttenr))+IF(I93<>\"\",I93,VLOOKUP($CV$164,_Afg07,U285))*$D$93*IF($F$93<>\"\",$F$93,VLOOKUP($CV$164,_Afg07,Udbyttenr))+IF(I95<>\"\",I95,VLOOKUP($CV$166,_Afg07,U285))*$D$95*IF($F$95<>\"\",$F$95,VLOOKUP($CV$166,_Afg07,Udbyttenr))+IF(I97<>\"\",I97,VLOOKUP($CV$168,_Afg07,U285))*$D$97*IF($F$97<>\"\",$F$97,VLOOKUP($CV$168,_Afg07,Udbyttenr))+IF(I99<>\"\",I99,VLOOKUP($CV$170,_Afg07,U285))*$D$99*IF($F$99<>\"\",$F$99,VLOOKUP($CV$170,_Afg07,Udbyttenr))+IF(I101<>\"\",I101,VLOOKUP($CV$172,_Afg07,U285))*$D$101*IF($F$101<>\"\",$F$101,VLOOKUP($CV$172,_Afg07,Udbyttenr)))/($D$103*VLOOKUP($R$341,_Afg07,Udbyttenr))","v":{"$error":"#DIV/0!"}},{"$f":"(IF($F$89<>\"\",$F$89,VLOOKUP($CV$160,_Afg07,V285))*$D$89+IF($F$91<>\"\",$F$91,VLOOKUP($CV$162,_Afg07,V285))*$D$91+IF($F$93<>\"\",$F$93,VLOOKUP($CV$164,_Afg07,V285))*$D$93+IF($F$95<>\"\",$F$95,VLOOKUP($CV$166,_Afg07,V285))*$D$95+IF($F$97<>\"\",$F$97,VLOOKUP($CV$168,_Afg07,V285))*$D$97+IF($F$99<>\"\",$F$99,VLOOKUP($CV$170,_Afg07,V285))*$D$99+IF($F$101<>\"\",$F$101,VLOOKUP($CV$172,_Afg07,V285))*$D$101)/$D$103","v":{"$error":"#DIV/0!"}},{"$f":"(IF($F$89<>\"\",$F$89,VLOOKUP($CV$160,_Afg07,W285))*$D$89+IF($F$91<>\"\",$F$91,VLOOKUP($CV$162,_Afg07,W285))*$D$91+IF($F$93<>\"\",$F$93,VLOOKUP($CV$164,_Afg07,W285))*$D$93+IF($F$95<>\"\",$F$95,VLOOKUP($CV$166,_Afg07,W285))*$D$95+IF($F$97<>\"\",$F$97,VLOOKUP($CV$168,_Afg07,W285))*$D$97+IF($F$99<>\"\",$F$99,VLOOKUP($CV$170,_Afg07,W285))*$D$99+IF($F$101<>\"\",$F$101,VLOOKUP($CV$172,_Afg07,W285))*$D$101)/$D$103","v":{"$error":"#DIV/0!"}},{"$f":"(IF($F$89<>\"\",$F$89,VLOOKUP($CV$160,_Afg07,X285))*$D$89+IF($F$91<>\"\",$F$91,VLOOKUP($CV$162,_Afg07,X285))*$D$91+IF($F$93<>\"\",$F$93,VLOOKUP($CV$164,_Afg07,X285))*$D$93+IF($F$95<>\"\",$F$95,VLOOKUP($CV$166,_Afg07,X285))*$D$95+IF($F$97<>\"\",$F$97,VLOOKUP($CV$168,_Afg07,X285))*$D$97+IF($F$99<>\"\",$F$99,VLOOKUP($CV$170,_Afg07,X285))*$D$99+IF($F$101<>\"\",$F$101,VLOOKUP($CV$172,_Afg07,X285))*$D$101)/$D$103","v":{"$error":"#DIV/0!"}},{"$f":"(IF($F$89<>\"\",$F$89,VLOOKUP($CV$160,_Afg07,Y285))*$D$89+IF($F$91<>\"\",$F$91,VLOOKUP($CV$162,_Afg07,Y285))*$D$91+IF($F$93<>\"\",$F$93,VLOOKUP($CV$164,_Afg07,Y285))*$D$93+IF($F$95<>\"\",$F$95,VLOOKUP($CV$166,_Afg07,Y285))*$D$95+IF($F$97<>\"\",$F$97,VLOOKUP($CV$168,_Afg07,Y285))*$D$97+IF($F$99<>\"\",$F$99,VLOOKUP($CV$170,_Afg07,Y285))*$D$99+IF($F$101<>\"\",$F$101,VLOOKUP($CV$172,_Afg07,Y285))*$D$101)/$D$103","v":{"$error":"#DIV/0!"}},{"$f":"(IF($F$89<>\"\",$F$89,VLOOKUP($CV$160,_Afg07,Z285))*$D$89+IF($F$91<>\"\",$F$91,VLOOKUP($CV$162,_Afg07,Z285))*$D$91+IF($F$93<>\"\",$F$93,VLOOKUP($CV$164,_Afg07,Z285))*$D$93+IF($F$95<>\"\",$F$95,VLOOKUP($CV$166,_Afg07,Z285))*$D$95+IF($F$97<>\"\",$F$97,VLOOKUP($CV$168,_Afg07,Z285))*$D$97+IF($F$99<>\"\",$F$99,VLOOKUP($CV$170,_Afg07,Z285))*$D$99+IF($F$101<>\"\",$F$101,VLOOKUP($CV$172,_Afg07,Z285))*$D$101)/$D$103","v":{"$error":"#DIV/0!"}},{"$f":"(VLOOKUP($CV$160,_Afg07,AA285)*$D$89+VLOOKUP($CV$162,_Afg07,AA285)*$D$91+VLOOKUP($CV$164,_Afg07,AA285)*$D$93+VLOOKUP($CV$166,_Afg07,AA285)*$D$95+VLOOKUP($CV$168,_Afg07,AA285)*$D$97+VLOOKUP($CV$170,_Afg07,AA285)*$D$99+VLOOKUP($CV$172,_Afg07,AA285)*$D$101)/$D$103","v":{"$error":"#DIV/0!"}},{"$error":"#DIV/0!"},{"$error":"#DIV/0!"},{"$error":"#DIV/0!"},{"$error":"#DIV/0!"},{"$error":"#DIV/0!"},{"$error":"#DIV/0!"},{"$error":"#DIV/0!"},{"$error":"#DIV/0!"},{"$error":"#DIV/0!"},{"$error":"#DIV/0!"},{"$error":"#DIV/0!"},{"$error":"#DIV/0!"},{"$error":"#DIV/0!"},{"$error":"#DIV/0!"},{"$error":"#DIV/0!"},{"$error":"#DIV/0!"},{"$error":"#DIV/0!"},{"$error":"#DIV/0!"},{"$error":"#DIV/0!"},{"$error":"#DIV/0!"},{"$error":"#DIV/0!"},{"$f":"(VLOOKUP($CV$160,_Afg07,AW285)*$D$89*IF($F$89<>\"\",$F$89,VLOOKUP($CV$160,_Afg07,Udbyttenr))+VLOOKUP($CV$162,_Afg07,AW285)*$D$91*IF($F$91<>\"\",$F$91,VLOOKUP($CV$162,_Afg07,Udbyttenr))+VLOOKUP($CV$164,_Afg07,AW285)*$D$93*IF($F$93<>\"\",$F$93,VLOOKUP($CV$164,_Afg07,Udbyttenr))+VLOOKUP($CV$166,_Afg07,AW285)*$D$95*IF($F$95<>\"\",$F$95,VLOOKUP($CV$166,_Afg07,Udbyttenr))+VLOOKUP($CV$168,_Afg07,AW285)*$D$97*IF($F$97<>\"\",$F$97,VLOOKUP($CV$168,_Afg07,Udbyttenr))+VLOOKUP($CV$170,_Afg07,AW285)*$D$99*IF($F$99<>\"\",$F$99,VLOOKUP($CV$170,_Afg07,Udbyttenr))+VLOOKUP($CV$172,_Afg07,AW285)*$D$101*IF($F$101<>\"\",$F$101,VLOOKUP($CV$172,_Afg07,Udbyttenr)))/($D$103*VLOOKUP($R$341,_Afg07,Udbyttenr))","v":{"$error":"#DIV/0!"}},{"$f":"(VLOOKUP($CV$160,_Afg07,AX285)*$D$89*VLOOKUP($CV$160,_Afg07,Halmnr)+VLOOKUP($CV$162,_Afg07,AX285)*$D$91*VLOOKUP($CV$162,_Afg07,Halmnr)+VLOOKUP($CV$164,_Afg07,AX285)*$D$93*VLOOKUP($CV$164,_Afg07,Halmnr)+VLOOKUP($CV$166,_Afg07,AX285)*$D$95*VLOOKUP($CV$166,_Afg07,Halmnr)+VLOOKUP($CV$168,_Afg07,AX285)*$D$97*VLOOKUP($CV$168,_Afg07,Halmnr)+VLOOKUP($CV$170,_Afg07,AX285)*$D$99*VLOOKUP($CV$170,_Afg07,Halmnr)+VLOOKUP($CV$172,_Afg07,AX285)*$D$101*VLOOKUP($CV$172,_Afg07,Halmnr))/($D$103*VLOOKUP($R$341,_Afg07,Halmnr))","v":{"$error":"#DIV/0!"}},{"$f":"(VLOOKUP($CV$160,_Afg07,AY285)*$D$89+VLOOKUP($CV$162,_Afg07,AY285)*$D$91+VLOOKUP($CV$164,_Afg07,AY285)*$D$93+VLOOKUP($CV$166,_Afg07,AY285)*$D$95+VLOOKUP($CV$168,_Afg07,AY285)*$D$97+VLOOKUP($CV$170,_Afg07,AY285)*$D$99+VLOOKUP($CV$172,_Afg07,AY285)*$D$101)/$D$103","v":{"$error":"#DIV/0!"}},{"$f":"(VLOOKUP($CV$160,_Afg07,AZ285)*$D$89*IF($F$89<>\"\",$F$89,VLOOKUP($CV$160,_Afg07,Udbyttenr))+VLOOKUP($CV$162,_Afg07,AZ285)*$D$91*IF($F$91<>\"\",$F$91,VLOOKUP($CV$162,_Afg07,Udbyttenr))+VLOOKUP($CV$164,_Afg07,AZ285)*$D$93*IF($F$93<>\"\",$F$93,VLOOKUP($CV$164,_Afg07,Udbyttenr))+VLOOKUP($CV$166,_Afg07,AZ285)*$D$95*IF($F$95<>\"\",$F$95,VLOOKUP($CV$166,_Afg07,Udbyttenr))+VLOOKUP($CV$168,_Afg07,AZ285)*$D$97*IF($F$97<>\"\",$F$97,VLOOKUP($CV$168,_Afg07,Udbyttenr))+VLOOKUP($CV$170,_Afg07,AZ285)*$D$99*IF($F$99<>\"\",$F$99,VLOOKUP($CV$170,_Afg07,Udbyttenr))+VLOOKUP($CV$172,_Afg07,AZ285)*$D$101*IF($F$101<>\"\",$F$101,VLOOKUP($CV$172,_Afg07,Udbyttenr)))/($D$103*VLOOKUP($R$341,_Afg07,Udbyttenr))","v":{"$error":"#DIV/0!"}},{"$f":"(VLOOKUP($CV$160,_Afg07,BA285)*$D$89*VLOOKUP($CV$160,_Afg07,Halmnr)+VLOOKUP($CV$162,_Afg07,BA285)*$D$91*VLOOKUP($CV$162,_Afg07,Halmnr)+VLOOKUP($CV$164,_Afg07,BA285)*$D$93*VLOOKUP($CV$164,_Afg07,Halmnr)+VLOOKUP($CV$166,_Afg07,BA285)*$D$95*VLOOKUP($CV$166,_Afg07,Halmnr)+VLOOKUP($CV$168,_Afg07,BA285)*$D$97*VLOOKUP($CV$168,_Afg07,Halmnr)+VLOOKUP($CV$170,_Afg07,BA285)*$D$99*VLOOKUP($CV$170,_Afg07,Halmnr)+VLOOKUP($CV$172,_Afg07,BA285)*$D$101*VLOOKUP($CV$172,_Afg07,Halmnr))/($D$103*VLOOKUP($R$341,_Afg07,Halmnr))","v":{"$error":"#DIV/0!"}},{"$f":"(VLOOKUP($CV$160,_Afg07,BB285)*$D$89*IF($F$89<>\"\",$F$89,VLOOKUP($CV$160,_Afg07,Udbyttenr))+VLOOKUP($CV$162,_Afg07,BB285)*$D$91*IF($F$91<>\"\",$F$91,VLOOKUP($CV$162,_Afg07,Udbyttenr))+VLOOKUP($CV$164,_Afg07,BB285)*$D$93*IF($F$93<>\"\",$F$93,VLOOKUP($CV$164,_Afg07,Udbyttenr))+VLOOKUP($CV$166,_Afg07,BB285)*$D$95*IF($F$95<>\"\",$F$95,VLOOKUP($CV$166,_Afg07,Udbyttenr))+VLOOKUP($CV$168,_Afg07,BB285)*$D$97*IF($F$97<>\"\",$F$97,VLOOKUP($CV$168,_Afg07,Udbyttenr))+VLOOKUP($CV$170,_Afg07,BB285)*$D$99*IF($F$99<>\"\",$F$99,VLOOKUP($CV$170,_Afg07,Udbyttenr))+VLOOKUP($CV$172,_Afg07,BB285)*$D$101*IF($F$101<>\"\",$F$101,VLOOKUP($CV$172,_Afg07,Udbyttenr)))/($D$103*VLOOKUP($R$341,_Afg07,Udbyttenr))","v":{"$error":"#DIV/0!"}},"Sædskifte 2",{"$f":"(VLOOKUP($CV$160,_Afg07,BD285)*$D$89+VLOOKUP($CV$162,_Afg07,BD285)*$D$91+VLOOKUP($CV$164,_Afg07,BD285)*$D$93+VLOOKUP($CV$166,_Afg07,BD285)*$D$95+VLOOKUP($CV$168,_Afg07,BD285)*$D$97+VLOOKUP($CV$170,_Afg07,BD285)*$D$99+VLOOKUP($CV$172,_Afg07,BD285)*$D$101)/$D$103","v":{"$error":"#DIV/0!"}},{"$error":"#DIV/0!"},{"$error":"#DIV/0!"},{"$error":"#DIV/0!"},{"$error":"#DIV/0!"},{"$error":"#DIV/0!"},{"$error":"#DIV/0!"},{"$error":"#DIV/0!"},{"$error":"#DIV/0!"},{"$error":"#DIV/0!"},{"$f":"(IF(AND(VLOOKUP($CV$160,_Afg07,$BU$285)=1,$CY$5=4),0,VLOOKUP($CV$160,_Afg07,BN285)*$D$89*IF($F$89<>\"\",$F$89,VLOOKUP($CV$160,_Afg07,Udbyttenr)))+IF(AND(VLOOKUP($CV$162,_Afg07,$BU$285)=1,$CY$5=4),0,VLOOKUP($CV$162,_Afg07,BN285)*$D$91*IF($F$91<>\"\",$F$91,VLOOKUP($CV$162,_Afg07,Udbyttenr)))+IF(AND(VLOOKUP($CV$164,_Afg07,$BU$285)=1,$CY$5=4),0,VLOOKUP($CV$164,_Afg07,BN285)*$D$93*IF($F$93<>\"\",$F$93,VLOOKUP($CV$164,_Afg07,Udbyttenr)))+IF(AND(VLOOKUP($CV$166,_Afg07,$BU$285)=1,$CY$5=4),0,VLOOKUP($CV$166,_Afg07,BN285)*$D$95*IF($F$95<>\"\",$F$95,VLOOKUP($CV$166,_Afg07,Udbyttenr)))+IF(AND(VLOOKUP($CV$168,_Afg07,$BU$285)=1,$CY$5=4),0,VLOOKUP($CV$168,_Afg07,BN285)*$D$97*IF($F$97<>\"\",$F$97,VLOOKUP($CV$168,_Afg07,Udbyttenr)))+IF(AND(VLOOKUP($CV$170,_Afg07,$BU$285)=1,$CY$5=4),0,VLOOKUP($CV$170,_Afg07,BN285)*$D$99*IF($F$99<>\"\",$F$99,VLOOKUP($CV$170,_Afg07,Udbyttenr)))+IF(AND(VLOOKUP($CV$172,_Afg07,$BU$285)=1,$CY$5=4),0,VLOOKUP($CV$172,_Afg07,BN285)*$D$101*IF($F$101<>\"\",$F$101,VLOOKUP($CV$172,_Afg07,Udbyttenr))))/($D$103*VLOOKUP($R$341,_Afg07,Udbyttenr))","v":{"$error":"#DIV/0!"}},{"$f":"(IF(AND(VLOOKUP($CV$160,_Afg07,$BU$285)=1,$CY$5=4),0,VLOOKUP($CV$160,_Afg07,BO285)*$D$89*IF($F$89<>\"\",$F$89,VLOOKUP($CV$160,_Afg07,Udbyttenr)))+IF(AND(VLOOKUP($CV$162,_Afg07,$BU$285)=1,$CY$5=4),0,VLOOKUP($CV$162,_Afg07,BO285)*$D$91*IF($F$91<>\"\",$F$91,VLOOKUP($CV$162,_Afg07,Udbyttenr)))+IF(AND(VLOOKUP($CV$164,_Afg07,$BU$285)=1,$CY$5=4),0,VLOOKUP($CV$164,_Afg07,BO285)*$D$93*IF($F$93<>\"\",$F$93,VLOOKUP($CV$164,_Afg07,Udbyttenr)))+IF(AND(VLOOKUP($CV$166,_Afg07,$BU$285)=1,$CY$5=4),0,VLOOKUP($CV$166,_Afg07,BO285)*$D$95*IF($F$95<>\"\",$F$95,VLOOKUP($CV$166,_Afg07,Udbyttenr)))+IF(AND(VLOOKUP($CV$168,_Afg07,$BU$285)=1,$CY$5=4),0,VLOOKUP($CV$168,_Afg07,BO285)*$D$97*IF($F$97<>\"\",$F$97,VLOOKUP($CV$168,_Afg07,Udbyttenr)))+IF(AND(VLOOKUP($CV$170,_Afg07,$BU$285)=1,$CY$5=4),0,VLOOKUP($CV$170,_Afg07,BO285)*$D$99*IF($F$99<>\"\",$F$99,VLOOKUP($CV$170,_Afg07,Udbyttenr)))+IF(AND(VLOOKUP($CV$172,_Afg07,$BU$285)=1,$CY$5=4),0,VLOOKUP($CV$172,_Afg07,BO285)*$D$101*IF($F$101<>\"\",$F$101,VLOOKUP($CV$172,_Afg07,Udbyttenr))))/($D$103*VLOOKUP($R$341,_Afg07,Udbyttenr))","v":{"$error":"#DIV/0!"}},{"$f":"(IF(AND(VLOOKUP($CV$160,_Afg07,$BU$285)=1,$CY$5=4),0,VLOOKUP($CV$160,_Afg07,BP285)*$D$89*IF($F$89<>\"\",$F$89,VLOOKUP($CV$160,_Afg07,Udbyttenr)))+IF(AND(VLOOKUP($CV$162,_Afg07,$BU$285)=1,$CY$5=4),0,VLOOKUP($CV$162,_Afg07,BP285)*$D$91*IF($F$91<>\"\",$F$91,VLOOKUP($CV$162,_Afg07,Udbyttenr)))+IF(AND(VLOOKUP($CV$164,_Afg07,$BU$285)=1,$CY$5=4),0,VLOOKUP($CV$164,_Afg07,BP285)*$D$93*IF($F$93<>\"\",$F$93,VLOOKUP($CV$164,_Afg07,Udbyttenr)))+IF(AND(VLOOKUP($CV$166,_Afg07,$BU$285)=1,$CY$5=4),0,VLOOKUP($CV$166,_Afg07,BP285)*$D$95*IF($F$95<>\"\",$F$95,VLOOKUP($CV$166,_Afg07,Udbyttenr)))+IF(AND(VLOOKUP($CV$168,_Afg07,$BU$285)=1,$CY$5=4),0,VLOOKUP($CV$168,_Afg07,BP285)*$D$97*IF($F$97<>\"\",$F$97,VLOOKUP($CV$168,_Afg07,Udbyttenr)))+IF(AND(VLOOKUP($CV$170,_Afg07,$BU$285)=1,$CY$5=4),0,VLOOKUP($CV$170,_Afg07,BP285)*$D$99*IF($F$99<>\"\",$F$99,VLOOKUP($CV$170,_Afg07,Udbyttenr)))+IF(AND(VLOOKUP($CV$172,_Afg07,$BU$285)=1,$CY$5=4),0,VLOOKUP($CV$172,_Afg07,BP285)*$D$101*IF($F$101<>\"\",$F$101,VLOOKUP($CV$172,_Afg07,Udbyttenr))))/($D$103*VLOOKUP($R$341,_Afg07,Udbyttenr))","v":{"$error":"#DIV/0!"}},{"$f":"(IF(VLOOKUP($CV$160,_Afg07,$BU$285)=1,VLOOKUP($CV$160,_Afg07,BQ285)*$D$89*IF($F$89<>\"\",$F$89,VLOOKUP($CV$160,_Afg07,Udbyttenr)),0)+IF(VLOOKUP($CV$162,_Afg07,$BU$285)=1,VLOOKUP($CV$162,_Afg07,BQ285)*$D$91*IF($F$91<>\"\",$F$91,VLOOKUP($CV$162,_Afg07,Udbyttenr)),0)+IF(VLOOKUP($CV$164,_Afg07,$BU$285)=1,VLOOKUP($CV$164,_Afg07,BQ285)*$D$93*IF($F$93<>\"\",$F$93,VLOOKUP($CV$164,_Afg07,Udbyttenr)),0)+IF(VLOOKUP($CV$166,_Afg07,$BU$285)=1,VLOOKUP($CV$166,_Afg07,BQ285)*$D$95*IF($F$95<>\"\",$F$95,VLOOKUP($CV$166,_Afg07,Udbyttenr)),0)+IF(VLOOKUP($CV$168,_Afg07,$BU$285)=1,VLOOKUP($CV$168,_Afg07,BQ285)*$D$97*IF($F$97<>\"\",$F$97,VLOOKUP($CV$168,_Afg07,Udbyttenr)),0)+IF(VLOOKUP($CV$170,_Afg07,$BU$285)=1,VLOOKUP($CV$170,_Afg07,BQ285)*$D$99*IF($F$99<>\"\",$F$99,VLOOKUP($CV$170,_Afg07,Udbyttenr)),0)+IF(VLOOKUP($CV$172,_Afg07,$BU$285)=1,VLOOKUP($CV$172,_Afg07,BQ285)*$D$101*IF($F$101<>\"\",$F$101,VLOOKUP($CV$172,_Afg07,Udbyttenr)),0))/($CY$174)","v":{"$error":"#DIV/0!"}},{"$f":"(IF(VLOOKUP($CV$160,_Afg07,$BU$285)=1,VLOOKUP($CV$160,_Afg07,BR285)*$D$89*IF($F$89<>\"\",$F$89,VLOOKUP($CV$160,_Afg07,Udbyttenr)),0)+IF(VLOOKUP($CV$162,_Afg07,$BU$285)=1,VLOOKUP($CV$162,_Afg07,BR285)*$D$91*IF($F$91<>\"\",$F$91,VLOOKUP($CV$162,_Afg07,Udbyttenr)),0)+IF(VLOOKUP($CV$164,_Afg07,$BU$285)=1,VLOOKUP($CV$164,_Afg07,BR285)*$D$93*IF($F$93<>\"\",$F$93,VLOOKUP($CV$164,_Afg07,Udbyttenr)),0)+IF(VLOOKUP($CV$166,_Afg07,$BU$285)=1,VLOOKUP($CV$166,_Afg07,BR285)*$D$95*IF($F$95<>\"\",$F$95,VLOOKUP($CV$166,_Afg07,Udbyttenr)),0)+IF(VLOOKUP($CV$168,_Afg07,$BU$285)=1,VLOOKUP($CV$168,_Afg07,BR285)*$D$97*IF($F$97<>\"\",$F$97,VLOOKUP($CV$168,_Afg07,Udbyttenr)),0)+IF(VLOOKUP($CV$170,_Afg07,$BU$285)=1,VLOOKUP($CV$170,_Afg07,BR285)*$D$99*IF($F$99<>\"\",$F$99,VLOOKUP($CV$170,_Afg07,Udbyttenr)),0)+IF(VLOOKUP($CV$172,_Afg07,$BU$285)=1,VLOOKUP($CV$172,_Afg07,BR285)*$D$101*IF($F$101<>\"\",$F$101,VLOOKUP($CV$172,_Afg07,Udbyttenr)),0))/($CY$174)","v":{"$error":"#DIV/0!"}},{"$f":"(IF(VLOOKUP($CV$160,_Afg07,$BU$285)=1,VLOOKUP($CV$160,_Afg07,BS285)*$D$89*IF($F$89<>\"\",$F$89,VLOOKUP($CV$160,_Afg07,Udbyttenr)),0)+IF(VLOOKUP($CV$162,_Afg07,$BU$285)=1,VLOOKUP($CV$162,_Afg07,BS285)*$D$91*IF($F$91<>\"\",$F$91,VLOOKUP($CV$162,_Afg07,Udbyttenr)),0)+IF(VLOOKUP($CV$164,_Afg07,$BU$285)=1,VLOOKUP($CV$164,_Afg07,BS285)*$D$93*IF($F$93<>\"\",$F$93,VLOOKUP($CV$164,_Afg07,Udbyttenr)),0)+IF(VLOOKUP($CV$166,_Afg07,$BU$285)=1,VLOOKUP($CV$166,_Afg07,BS285)*$D$95*IF($F$95<>\"\",$F$95,VLOOKUP($CV$166,_Afg07,Udbyttenr)),0)+IF(VLOOKUP($CV$168,_Afg07,$BU$285)=1,VLOOKUP($CV$168,_Afg07,BS285)*$D$97*IF($F$97<>\"\",$F$97,VLOOKUP($CV$168,_Afg07,Udbyttenr)),0)+IF(VLOOKUP($CV$170,_Afg07,$BU$285)=1,VLOOKUP($CV$170,_Afg07,BS285)*$D$99*IF($F$99<>\"\",$F$99,VLOOKUP($CV$170,_Afg07,Udbyttenr)),0)+IF(VLOOKUP($CV$172,_Afg07,$BU$285)=1,VLOOKUP($CV$172,_Afg07,BS285)*$D$101*IF($F$101<>\"\",$F$101,VLOOKUP($CV$172,_Afg07,Udbyttenr)),0))/($CY$174)","v":{"$error":"#DIV/0!"}},{"$f":"(IF(VLOOKUP($CV$160,_Afg07,$BU$285)=1,VLOOKUP($CV$160,_Afg07,BT285)*$D$89*IF($F$89<>\"\",$F$89,VLOOKUP($CV$160,_Afg07,Udbyttenr)),0)+IF(VLOOKUP($CV$162,_Afg07,$BU$285)=1,VLOOKUP($CV$162,_Afg07,BT285)*$D$91*IF($F$91<>\"\",$F$91,VLOOKUP($CV$162,_Afg07,Udbyttenr)),0)+IF(VLOOKUP($CV$164,_Afg07,$BU$285)=1,VLOOKUP($CV$164,_Afg07,BT285)*$D$93*IF($F$93<>\"\",$F$93,VLOOKUP($CV$164,_Afg07,Udbyttenr)),0)+IF(VLOOKUP($CV$166,_Afg07,$BU$285)=1,VLOOKUP($CV$166,_Afg07,BT285)*$D$95*IF($F$95<>\"\",$F$95,VLOOKUP($CV$166,_Afg07,Udbyttenr)),0)+IF(VLOOKUP($CV$168,_Afg07,$BU$285)=1,VLOOKUP($CV$168,_Afg07,BT285)*$D$97*IF($F$97<>\"\",$F$97,VLOOKUP($CV$168,_Afg07,Udbyttenr)),0)+IF(VLOOKUP($CV$170,_Afg07,$BU$285)=1,VLOOKUP($CV$170,_Afg07,BT285)*$D$99*IF($F$99<>\"\",$F$99,VLOOKUP($CV$170,_Afg07,Udbyttenr)),0)+IF(VLOOKUP($CV$172,_Afg07,$BU$285)=1,VLOOKUP($CV$172,_Afg07,BT285)*$D$101*IF($F$101<>\"\",$F$101,VLOOKUP($CV$172,_Afg07,Udbyttenr)),0))/($CY$174)","v":{"$error":"#DIV/0!"}},4,null,null,null,null,null,null,null,null,null,null,null,null,null,null,{"$f":"(VLOOKUP($CV$160,_Afg07,CJ285)*$D$89+VLOOKUP($CV$162,_Afg07,CJ285)*$D$91+VLOOKUP($CV$164,_Afg07,CJ285)*$D$93+VLOOKUP($CV$166,_Afg07,CJ285)*$D$95+VLOOKUP($CV$168,_Afg07,CJ285)*$D$97+VLOOKUP($CV$170,_Afg07,CJ285)*$D$99+VLOOKUP($CV$172,_Afg07,CJ285)*$D$101)/$D$103","v":{"$error":"#DIV/0!"}},null,null,{"$error":"#DIV/0!"},"Sædskifte 2"]
[]
[null,null,null,null,null,null,null,null,null,null,null,null,null,null,null,null,null,null,null,null,"Udbytte","Hektar",null,null,null,null,"Hektar",null,null,null,null,"Hektar",null,null,null,null,"Hektar","Hektar","Hektar","Hektar",null,"Hektar",null,null,null,null,"Hektar","Hektar","Udbytte","Halm","Hektar","Udbytte","Halm","Udbytte",null,"Hektarrelateret",null,null,null,null,"Hektar",null,null,null,null,"Udbytte","Udbytte",null,"Udbytterelateret, men skal kun regnes for korn"]
[null,null,null,null,null,null,null,null,null,null,null,null,null,null,null,null,null,1,2,3,4,5,6,7,8,9,10,11,12,13,14,15,16,17,18,19,20,21,22,23,24,25,26,27,28,29,30,31,32,33,34,35,36,37,38,39,40,41,42,43,44,45,46,47,48,49,50,51,52,53,54,55,56,null,null,null,null,null,null,null,null,null,null,null,null,null,null,null,null,null,null,57]
[null,null,null,null,null,null,null,null,null,null,null,null,null,null,null,null,null,1,null,null,null,null,null,null,null,null,{"$f":"(IF(VLOOKUP($CV$159,_Afg07,$BU$285)=1,VLOOKUP($CV$159,_Afg07,AA285)*$D$68,0)+IF(VLOOKUP($CV$161,_Afg07,$BU$285)=1,VLOOKUP($CV$161,_Afg07,AA285)*$D$70,0)+IF(VLOOKUP($CV$163,_Afg07,$BU$285)=1,VLOOKUP($CV$163,_Afg07,AA285)*$D$72,0)+IF(VLOOKUP($CV$165,_Afg07,$BU$285)=1,VLOOKUP($CV$165,_Afg07,AA285)*$D$74,0)+IF(VLOOKUP($CV$167,_Afg07,$BU$285)=1,VLOOKUP($CV$167,_Afg07,AA285)*$D$76,0)+IF(VLOOKUP($CV$169,_Afg07,$BU$285)=1,VLOOKUP($CV$169,_Afg07,AA285)*$D$78,0)+IF(VLOOKUP($CV$171,_Afg07,$BU$285)=1,VLOOKUP($CV$171,_Afg07,AA285)*$D$80,0))/($CZ$173)","v":{"$error":"#DIV/0!"}},{"$f":"(IF(VLOOKUP($CV$159,_Afg07,$BU$285)=1,VLOOKUP($CV$159,_Afg07,AB285)*$D$68,0)+IF(VLOOKUP($CV$161,_Afg07,$BU$285)=1,VLOOKUP($CV$161,_Afg07,AB285)*$D$70,0)+IF(VLOOKUP($CV$163,_Afg07,$BU$285)=1,VLOOKUP($CV$163,_Afg07,AB285)*$D$72,0)+IF(VLOOKUP($CV$165,_Afg07,$BU$285)=1,VLOOKUP($CV$165,_Afg07,AB285)*$D$74,0)+IF(VLOOKUP($CV$167,_Afg07,$BU$285)=1,VLOOKUP($CV$167,_Afg07,AB285)*$D$76,0)+IF(VLOOKUP($CV$169,_Afg07,$BU$285)=1,VLOOKUP($CV$169,_Afg07,AB285)*$D$78,0)+IF(VLOOKUP($CV$171,_Afg07,$BU$285)=1,VLOOKUP($CV$171,_Afg07,AB285)*$D$80,0))/($CZ$173)","v":{"$error":"#DIV/0!"}},{"$f":"(IF(VLOOKUP($CV$159,_Afg07,$BU$285)=1,VLOOKUP($CV$159,_Afg07,AC285)*$D$68,0)+IF(VLOOKUP($CV$161,_Afg07,$BU$285)=1,VLOOKUP($CV$161,_Afg07,AC285)*$D$70,0)+IF(VLOOKUP($CV$163,_Afg07,$BU$285)=1,VLOOKUP($CV$163,_Afg07,AC285)*$D$72,0)+IF(VLOOKUP($CV$165,_Afg07,$BU$285)=1,VLOOKUP($CV$165,_Afg07,AC285)*$D$74,0)+IF(VLOOKUP($CV$167,_Afg07,$BU$285)=1,VLOOKUP($CV$167,_Afg07,AC285)*$D$76,0)+IF(VLOOKUP($CV$169,_Afg07,$BU$285)=1,VLOOKUP($CV$169,_Afg07,AC285)*$D$78,0)+IF(VLOOKUP($CV$171,_Afg07,$BU$285)=1,VLOOKUP($CV$171,_Afg07,AC285)*$D$80,0))/($CZ$173)","v":{"$error":"#DIV/0!"}},{"$f":"(IF(VLOOKUP($CV$159,_Afg07,$BU$285)=1,VLOOKUP($CV$159,_Afg07,AD285)*$D$68,0)+IF(VLOOKUP($CV$161,_Afg07,$BU$285)=1,VLOOKUP($CV$161,_Afg07,AD285)*$D$70,0)+IF(VLOOKUP($CV$163,_Afg07,$BU$285)=1,VLOOKUP($CV$163,_Afg07,AD285)*$D$72,0)+IF(VLOOKUP($CV$165,_Afg07,$BU$285)=1,VLOOKUP($CV$165,_Afg07,AD285)*$D$74,0)+IF(VLOOKUP($CV$167,_Afg07,$BU$285)=1,VLOOKUP($CV$167,_Afg07,AD285)*$D$76,0)+IF(VLOOKUP($CV$169,_Afg07,$BU$285)=1,VLOOKUP($CV$169,_Afg07,AD285)*$D$78,0)+IF(VLOOKUP($CV$171,_Afg07,$BU$285)=1,VLOOKUP($CV$171,_Afg07,AD285)*$D$80,0))/($CZ$173)","v":{"$error":"#DIV/0!"}},{"$f":"(IF(VLOOKUP($CV$159,_Afg07,$BU$285)=1,VLOOKUP($CV$159,_Afg07,AE285)*$D$68,0)+IF(VLOOKUP($CV$161,_Afg07,$BU$285)=1,VLOOKUP($CV$161,_Afg07,AE285)*$D$70,0)+IF(VLOOKUP($CV$163,_Afg07,$BU$285)=1,VLOOKUP($CV$163,_Afg07,AE285)*$D$72,0)+IF(VLOOKUP($CV$165,_Afg07,$BU$285)=1,VLOOKUP($CV$165,_Afg07,AE285)*$D$74,0)+IF(VLOOKUP($CV$167,_Afg07,$BU$285)=1,VLOOKUP($CV$167,_Afg07,AE285)*$D$76,0)+IF(VLOOKUP($CV$169,_Afg07,$BU$285)=1,VLOOKUP($CV$169,_Afg07,AE285)*$D$78,0)+IF(VLOOKUP($CV$171,_Afg07,$BU$285)=1,VLOOKUP($CV$171,_Afg07,AE285)*$D$80,0))/($CZ$173)","v":{"$error":"#DIV/0!"}},null,null,null,null,null,null,{"$f":"(IF(VLOOKUP($CV$159,_Afg07,$BU$285)=1,VLOOKUP($CV$159,_Afg07,AL285)*$D$68,0)+IF(VLOOKUP($CV$161,_Afg07,$BU$285)=1,VLOOKUP($CV$161,_Afg07,AL285)*$D$70,0)+IF(VLOOKUP($CV$163,_Afg07,$BU$285)=1,VLOOKUP($CV$163,_Afg07,AL285)*$D$72,0)+IF(VLOOKUP($CV$165,_Afg07,$BU$285)=1,VLOOKUP($CV$165,_Afg07,AL285)*$D$74,0)+IF(VLOOKUP($CV$167,_Afg07,$BU$285)=1,VLOOKUP($CV$167,_Afg07,AL285)*$D$76,0)+IF(VLOOKUP($CV$169,_Afg07,$BU$285)=1,VLOOKUP($CV$169,_Afg07,AL285)*$D$78,0)+IF(VLOOKUP($CV$171,_Afg07,$BU$285)=1,VLOOKUP($CV$171,_Afg07,AL285)*$D$80,0))/($CZ$173)","v":{"$error":"#DIV/0!"}},{"$f":"(IF(VLOOKUP($CV$159,_Afg07,$BU$285)=1,VLOOKUP($CV$159,_Afg07,AM285)*$D$68,0)+IF(VLOOKUP($CV$161,_Afg07,$BU$285)=1,VLOOKUP($CV$161,_Afg07,AM285)*$D$70,0)+IF(VLOOKUP($CV$163,_Afg07,$BU$285)=1,VLOOKUP($CV$163,_Afg07,AM285)*$D$72,0)+IF(VLOOKUP($CV$165,_Afg07,$BU$285)=1,VLOOKUP($CV$165,_Afg07,AM285)*$D$74,0)+IF(VLOOKUP($CV$167,_Afg07,$BU$285)=1,VLOOKUP($CV$167,_Afg07,AM285)*$D$76,0)+IF(VLOOKUP($CV$169,_Afg07,$BU$285)=1,VLOOKUP($CV$169,_Afg07,AM285)*$D$78,0)+IF(VLOOKUP($CV$171,_Afg07,$BU$285)=1,VLOOKUP($CV$171,_Afg07,AM285)*$D$80,0))/($CZ$173)","v":{"$error":"#DIV/0!"}},{"$f":"(IF(VLOOKUP($CV$159,_Afg07,$BU$285)=1,VLOOKUP($CV$159,_Afg07,AN285)*$D$68,0)+IF(VLOOKUP($CV$161,_Afg07,$BU$285)=1,VLOOKUP($CV$161,_Afg07,AN285)*$D$70,0)+IF(VLOOKUP($CV$163,_Afg07,$BU$285)=1,VLOOKUP($CV$163,_Afg07,AN285)*$D$72,0)+IF(VLOOKUP($CV$165,_Afg07,$BU$285)=1,VLOOKUP($CV$165,_Afg07,AN285)*$D$74,0)+IF(VLOOKUP($CV$167,_Afg07,$BU$285)=1,VLOOKUP($CV$167,_Afg07,AN285)*$D$76,0)+IF(VLOOKUP($CV$169,_Afg07,$BU$285)=1,VLOOKUP($CV$169,_Afg07,AN285)*$D$78,0)+IF(VLOOKUP($CV$171,_Afg07,$BU$285)=1,VLOOKUP($CV$171,_Afg07,AN285)*$D$80,0))/($CZ$173)","v":{"$error":"#DIV/0!"}},null,{"$f":"(IF(VLOOKUP($CV$159,_Afg07,$BU$285)=1,VLOOKUP($CV$159,_Afg07,AP285)*$D$68,0)+IF(VLOOKUP($CV$161,_Afg07,$BU$285)=1,VLOOKUP($CV$161,_Afg07,AP285)*$D$70,0)+IF(VLOOKUP($CV$163,_Afg07,$BU$285)=1,VLOOKUP($CV$163,_Afg07,AP285)*$D$72,0)+IF(VLOOKUP($CV$165,_Afg07,$BU$285)=1,VLOOKUP($CV$165,_Afg07,AP285)*$D$74,0)+IF(VLOOKUP($CV$167,_Afg07,$BU$285)=1,VLOOKUP($CV$167,_Afg07,AP285)*$D$76,0)+IF(VLOOKUP($CV$169,_Afg07,$BU$285)=1,VLOOKUP($CV$169,_Afg07,AP285)*$D$78,0)+IF(VLOOKUP($CV$171,_Afg07,$BU$285)=1,VLOOKUP($CV$171,_Afg07,AP285)*$D$80,0))/($CZ$173)","v":{"$error":"#DIV/0!"}},{"$error":"#DIV/0!"},{"$error":"#DIV/0!"},{"$error":"#DIV/0!"},{"$error":"#DIV/0!"},{"$error":"#DIV/0!"},{"$error":"#DIV/0!"},{"$f":"(IF(VLOOKUP($CV$159,_Afg07,$BU$285)=1,VLOOKUP($CV$159,_Afg07,AW285)*$D$68*IF($F$68<>\"\",$F$68,VLOOKUP($CV$159,_Afg07,Udbyttenr)),0)+IF(VLOOKUP($CV$161,_Afg07,$BU$285)=1,VLOOKUP($CV$161,_Afg07,AW285)*$D$70*IF($F$70<>\"\",$F$70,VLOOKUP($CV$161,_Afg07,Udbyttenr)),0)+IF(VLOOKUP($CV$163,_Afg07,$BU$285)=1,VLOOKUP($CV$163,_Afg07,AW285)*$D$72*IF($F$72<>\"\",$F$72,VLOOKUP($CV$163,_Afg07,Udbyttenr)),0)+IF(VLOOKUP($CV$165,_Afg07,$BU$285)=1,VLOOKUP($CV$165,_Afg07,AW285)*$D$74*IF($F$74<>\"\",$F$74,VLOOKUP($CV$165,_Afg07,Udbyttenr)),0)+IF(VLOOKUP($CV$167,_Afg07,$BU$285)=1,VLOOKUP($CV$167,_Afg07,AW285)*$D$76*IF($F$76<>\"\",$F$76,VLOOKUP($CV$167,_Afg07,Udbyttenr)),0)+IF(VLOOKUP($CV$169,_Afg07,$BU$285)=1,VLOOKUP($CV$169,_Afg07,AW285)*$D$78*IF($F$78<>\"\",$F$78,VLOOKUP($CV$169,_Afg07,Udbyttenr)),0)+IF(VLOOKUP($CV$171,_Afg07,$BU$285)=1,VLOOKUP($CV$171,_Afg07,AW285)*$D$80*IF($F$80<>\"\",$F$80,VLOOKUP($CV$171,_Afg07,Udbyttenr)),0))/($CY$173)","v":{"$error":"#DIV/0!"}},{"$f":"(IF(VLOOKUP($CV$159,_Afg07,$BU$285)=1,VLOOKUP($CV$159,_Afg07,AX285)*$D$68*VLOOKUP($CV$159,_Afg07,Halmnr),0)+IF(VLOOKUP($CV$161,_Afg07,$BU$285)=1,VLOOKUP($CV$161,_Afg07,AX285)*$D$70*VLOOKUP($CV$161,_Afg07,Halmnr),0)+IF(VLOOKUP($CV$163,_Afg07,$BU$285)=1,VLOOKUP($CV$163,_Afg07,AX285)*$D$72*VLOOKUP($CV$163,_Afg07,Halmnr),0)+IF(VLOOKUP($CV$165,_Afg07,$BU$285)=1,VLOOKUP($CV$165,_Afg07,AX285)*$D$74*VLOOKUP($CV$165,_Afg07,Halmnr),0)+IF(VLOOKUP($CV$167,_Afg07,$BU$285)=1,VLOOKUP($CV$167,_Afg07,AX285)*$D$76*VLOOKUP($CV$167,_Afg07,Halmnr),0)+IF(VLOOKUP($CV$169,_Afg07,$BU$285)=1,VLOOKUP($CV$169,_Afg07,AX285)*$D$78*VLOOKUP($CV$169,_Afg07,Halmnr),0)+IF(VLOOKUP($CV$171,_Afg07,$BU$285)=1,VLOOKUP($CV$171,_Afg07,AX285)*$D$80*VLOOKUP($CV$171,_Afg07,Halmnr),0))/($DC$173)","v":{"$error":"#DIV/0!"}},{"$f":"(IF(VLOOKUP($CV$159,_Afg07,$BU$285)=1,VLOOKUP($CV$159,_Afg07,AY285)*$D$68,0)+IF(VLOOKUP($CV$161,_Afg07,$BU$285)=1,VLOOKUP($CV$161,_Afg07,AY285)*$D$70,0)+IF(VLOOKUP($CV$163,_Afg07,$BU$285)=1,VLOOKUP($CV$163,_Afg07,AY285)*$D$72,0)+IF(VLOOKUP($CV$165,_Afg07,$BU$285)=1,VLOOKUP($CV$165,_Afg07,AY285)*$D$74,0)+IF(VLOOKUP($CV$167,_Afg07,$BU$285)=1,VLOOKUP($CV$167,_Afg07,AY285)*$D$76,0)+IF(VLOOKUP($CV$169,_Afg07,$BU$285)=1,VLOOKUP($CV$169,_Afg07,AY285)*$D$78,0)+IF(VLOOKUP($CV$171,_Afg07,$BU$285)=1,VLOOKUP($CV$171,_Afg07,AY285)*$D$80,0))/($CZ$173)","v":{"$error":"#DIV/0!"}},{"$f":"(IF(VLOOKUP($CV$159,_Afg07,$BU$285)=1,VLOOKUP($CV$159,_Afg07,AZ285)*$D$68*IF($F$68<>\"\",$F$68,VLOOKUP($CV$159,_Afg07,Udbyttenr)),0)+IF(VLOOKUP($CV$161,_Afg07,$BU$285)=1,VLOOKUP($CV$161,_Afg07,AZ285)*$D$70*IF($F$70<>\"\",$F$70,VLOOKUP($CV$161,_Afg07,Udbyttenr)),0)+IF(VLOOKUP($CV$163,_Afg07,$BU$285)=1,VLOOKUP($CV$163,_Afg07,AZ285)*$D$72*IF($F$72<>\"\",$F$72,VLOOKUP($CV$163,_Afg07,Udbyttenr)),0)+IF(VLOOKUP($CV$165,_Afg07,$BU$285)=1,VLOOKUP($CV$165,_Afg07,AZ285)*$D$74*IF($F$74<>\"\",$F$74,VLOOKUP($CV$165,_Afg07,Udbyttenr)),0)+IF(VLOOKUP($CV$167,_Afg07,$BU$285)=1,VLOOKUP($CV$167,_Afg07,AZ285)*$D$76*IF($F$76<>\"\",$F$76,VLOOKUP($CV$167,_Afg07,Udbyttenr)),0)+IF(VLOOKUP($CV$169,_Afg07,$BU$285)=1,VLOOKUP($CV$169,_Afg07,AZ285)*$D$78*IF($F$78<>\"\",$F$78,VLOOKUP($CV$169,_Afg07,Udbyttenr)),0)+IF(VLOOKUP($CV$171,_Afg07,$BU$285)=1,VLOOKUP($CV$171,_Afg07,AZ285)*$D$80*IF($F$80<>\"\",$F$80,VLOOKUP($CV$171,_Afg07,Udbyttenr)),0))/($CY$173)","v":{"$error":"#DIV/0!"}},{"$f":"(IF(VLOOKUP($CV$159,_Afg07,$BU$285)=1,VLOOKUP($CV$159,_Afg07,BA285)*$D$68*VLOOKUP($CV$159,_Afg07,Halmnr),0)+IF(VLOOKUP($CV$161,_Afg07,$BU$285)=1,VLOOKUP($CV$161,_Afg07,BA285)*$D$70*VLOOKUP($CV$161,_Afg07,Halmnr),0)+IF(VLOOKUP($CV$163,_Afg07,$BU$285)=1,VLOOKUP($CV$163,_Afg07,BA285)*$D$72*VLOOKUP($CV$163,_Afg07,Halmnr),0)+IF(VLOOKUP($CV$165,_Afg07,$BU$285)=1,VLOOKUP($CV$165,_Afg07,BA285)*$D$74*VLOOKUP($CV$165,_Afg07,Halmnr),0)+IF(VLOOKUP($CV$167,_Afg07,$BU$285)=1,VLOOKUP($CV$167,_Afg07,BA285)*$D$76*VLOOKUP($CV$167,_Afg07,Halmnr),0)+IF(VLOOKUP($CV$169,_Afg07,$BU$285)=1,VLOOKUP($CV$169,_Afg07,BA285)*$D$78*VLOOKUP($CV$169,_Afg07,Halmnr),0)+IF(VLOOKUP($CV$171,_Afg07,$BU$285)=1,VLOOKUP($CV$171,_Afg07,BA285)*$D$80*VLOOKUP($CV$171,_Afg07,Halmnr),0))/($DC$173)","v":{"$error":"#DIV/0!"}},{"$f":"(IF(VLOOKUP($CV$159,_Afg07,$BU$285)=1,VLOOKUP($CV$159,_Afg07,BB285)*$D$68*IF($F$68<>\"\",$F$68,VLOOKUP($CV$159,_Afg07,Udbyttenr)),0)+IF(VLOOKUP($CV$161,_Afg07,$BU$285)=1,VLOOKUP($CV$161,_Afg07,BB285)*$D$70*IF($F$70<>\"\",$F$70,VLOOKUP($CV$161,_Afg07,Udbyttenr)),0)+IF(VLOOKUP($CV$163,_Afg07,$BU$285)=1,VLOOKUP($CV$163,_Afg07,BB285)*$D$72*IF($F$72<>\"\",$F$72,VLOOKUP($CV$163,_Afg07,Udbyttenr)),0)+IF(VLOOKUP($CV$165,_Afg07,$BU$285)=1,VLOOKUP($CV$165,_Afg07,BB285)*$D$74*IF($F$74<>\"\",$F$74,VLOOKUP($CV$165,_Afg07,Udbyttenr)),0)+IF(VLOOKUP($CV$167,_Afg07,$BU$285)=1,VLOOKUP($CV$167,_Afg07,BB285)*$D$76*IF($F$76<>\"\",$F$76,VLOOKUP($CV$167,_Afg07,Udbyttenr)),0)+IF(VLOOKUP($CV$169,_Afg07,$BU$285)=1,VLOOKUP($CV$169,_Afg07,BB285)*$D$78*IF($F$78<>\"\",$F$78,VLOOKUP($CV$169,_Afg07,Udbyttenr)),0)+IF(VLOOKUP($CV$171,_Afg07,$BU$285)=1,VLOOKUP($CV$171,_Afg07,BB285)*$D$80*IF($F$80<>\"\",$F$80,VLOOKUP($CV$171,_Afg07,Udbyttenr)),0))/($CY$173)","v":{"$error":"#DIV/0!"}},null,{"$f":"(IF(VLOOKUP($CV$159,_Afg07,$BU$285)=1,VLOOKUP($CV$159,_Afg07,BD285)*$D$68,0)+IF(VLOOKUP($CV$161,_Afg07,$BU$285)=1,VLOOKUP($CV$161,_Afg07,BD285)*$D$70,0)+IF(VLOOKUP($CV$163,_Afg07,$BU$285)=1,VLOOKUP($CV$163,_Afg07,BD285)*$D$72,0)+IF(VLOOKUP($CV$165,_Afg07,$BU$285)=1,VLOOKUP($CV$165,_Afg07,BD285)*$D$74,0)+IF(VLOOKUP($CV$167,_Afg07,$BU$285)=1,VLOOKUP($CV$167,_Afg07,BD285)*$D$76,0)+IF(VLOOKUP($CV$169,_Afg07,$BU$285)=1,VLOOKUP($CV$169,_Afg07,BD285)*$D$78,0)+IF(VLOOKUP($CV$171,_Afg07,$BU$285)=1,VLOOKUP($CV$171,_Afg07,BD285)*$D$80,0))/($CZ$173)","v":{"$error":"#DIV/0!"}},{"$error":"#DIV/0!"},{"$error":"#DIV/0!"},{"$error":"#DIV/0!"},{"$error":"#DIV/0!"},{"$error":"#DIV/0!"},{"$error":"#DIV/0!"},{"$error":"#DIV/0!"},{"$error":"#DIV/0!"},{"$error":"#DIV/0!"},{"$f":"(IF(VLOOKUP($CV$159,_Afg07,$BU$285)=1,VLOOKUP($CV$159,_Afg07,BN285)*$D$68*IF($F$68<>\"\",$F$68,VLOOKUP($CV$159,_Afg07,Udbyttenr)),0)+IF(VLOOKUP($CV$161,_Afg07,$BU$285)=1,VLOOKUP($CV$161,_Afg07,BN285)*$D$70*IF($F$70<>\"\",$F$70,VLOOKUP($CV$161,_Afg07,Udbyttenr)),0)+IF(VLOOKUP($CV$163,_Afg07,$BU$285)=1,VLOOKUP($CV$163,_Afg07,BN285)*$D$72*IF($F$72<>\"\",$F$72,VLOOKUP($CV$163,_Afg07,Udbyttenr)),0)+IF(VLOOKUP($CV$165,_Afg07,$BU$285)=1,VLOOKUP($CV$165,_Afg07,BN285)*$D$74*IF($F$74<>\"\",$F$74,VLOOKUP($CV$165,_Afg07,Udbyttenr)),0)+IF(VLOOKUP($CV$167,_Afg07,$BU$285)=1,VLOOKUP($CV$167,_Afg07,BN285)*$D$76*IF($F$76<>\"\",$F$76,VLOOKUP($CV$167,_Afg07,Udbyttenr)),0)+IF(VLOOKUP($CV$169,_Afg07,$BU$285)=1,VLOOKUP($CV$169,_Afg07,BN285)*$D$78*IF($F$78<>\"\",$F$78,VLOOKUP($CV$169,_Afg07,Udbyttenr)),0)+IF(VLOOKUP($CV$171,_Afg07,$BU$285)=1,VLOOKUP($CV$171,_Afg07,BN285)*$D$80*IF($F$80<>\"\",$F$80,VLOOKUP($CV$171,_Afg07,Udbyttenr)),0))/($CY$173)","v":{"$error":"#DIV/0!"}},{"$f":"(IF(VLOOKUP($CV$159,_Afg07,$BU$285)=1,VLOOKUP($CV$159,_Afg07,BO285)*$D$68*IF($F$68<>\"\",$F$68,VLOOKUP($CV$159,_Afg07,Udbyttenr)),0)+IF(VLOOKUP($CV$161,_Afg07,$BU$285)=1,VLOOKUP($CV$161,_Afg07,BO285)*$D$70*IF($F$70<>\"\",$F$70,VLOOKUP($CV$161,_Afg07,Udbyttenr)),0)+IF(VLOOKUP($CV$163,_Afg07,$BU$285)=1,VLOOKUP($CV$163,_Afg07,BO285)*$D$72*IF($F$72<>\"\",$F$72,VLOOKUP($CV$163,_Afg07,Udbyttenr)),0)+IF(VLOOKUP($CV$165,_Afg07,$BU$285)=1,VLOOKUP($CV$165,_Afg07,BO285)*$D$74*IF($F$74<>\"\",$F$74,VLOOKUP($CV$165,_Afg07,Udbyttenr)),0)+IF(VLOOKUP($CV$167,_Afg07,$BU$285)=1,VLOOKUP($CV$167,_Afg07,BO285)*$D$76*IF($F$76<>\"\",$F$76,VLOOKUP($CV$167,_Afg07,Udbyttenr)),0)+IF(VLOOKUP($CV$169,_Afg07,$BU$285)=1,VLOOKUP($CV$169,_Afg07,BO285)*$D$78*IF($F$78<>\"\",$F$78,VLOOKUP($CV$169,_Afg07,Udbyttenr)),0)+IF(VLOOKUP($CV$171,_Afg07,$BU$285)=1,VLOOKUP($CV$171,_Afg07,BO285)*$D$80*IF($F$80<>\"\",$F$80,VLOOKUP($CV$171,_Afg07,Udbyttenr)),0))/($CY$173)","v":{"$error":"#DIV/0!"}},null,{"$f":"(IF(VLOOKUP($CV$159,_Afg07,$BU$285)=1,VLOOKUP($CV$159,_Afg07,BQ285)*$D$68*IF($F$68<>\"\",$F$68,VLOOKUP($CV$159,_Afg07,Udbyttenr)),0)+IF(VLOOKUP($CV$161,_Afg07,$BU$285)=1,VLOOKUP($CV$161,_Afg07,BQ285)*$D$70*IF($F$70<>\"\",$F$70,VLOOKUP($CV$161,_Afg07,Udbyttenr)),0)+IF(VLOOKUP($CV$163,_Afg07,$BU$285)=1,VLOOKUP($CV$163,_Afg07,BQ285)*$D$72*IF($F$72<>\"\",$F$72,VLOOKUP($CV$163,_Afg07,Udbyttenr)),0)+IF(VLOOKUP($CV$165,_Afg07,$BU$285)=1,VLOOKUP($CV$165,_Afg07,BQ285)*$D$74*IF($F$74<>\"\",$F$74,VLOOKUP($CV$165,_Afg07,Udbyttenr)),0)+IF(VLOOKUP($CV$167,_Afg07,$BU$285)=1,VLOOKUP($CV$167,_Afg07,BQ285)*$D$76*IF($F$76<>\"\",$F$76,VLOOKUP($CV$167,_Afg07,Udbyttenr)),0)+IF(VLOOKUP($CV$169,_Afg07,$BU$285)=1,VLOOKUP($CV$169,_Afg07,BQ285)*$D$78*IF($F$78<>\"\",$F$78,VLOOKUP($CV$169,_Afg07,Udbyttenr)),0)+IF(VLOOKUP($CV$171,_Afg07,$BU$285)=1,VLOOKUP($CV$171,_Afg07,BQ285)*$D$80*IF($F$80<>\"\",$F$80,VLOOKUP($CV$171,_Afg07,Udbyttenr)),0))/($CY$173)","v":{"$error":"#DIV/0!"}},{"$f":"(IF(VLOOKUP($CV$159,_Afg07,$BU$285)=1,VLOOKUP($CV$159,_Afg07,BR285)*$D$68*IF($F$68<>\"\",$F$68,VLOOKUP($CV$159,_Afg07,Udbyttenr)),0)+IF(VLOOKUP($CV$161,_Afg07,$BU$285)=1,VLOOKUP($CV$161,_Afg07,BR285)*$D$70*IF($F$70<>\"\",$F$70,VLOOKUP($CV$161,_Afg07,Udbyttenr)),0)+IF(VLOOKUP($CV$163,_Afg07,$BU$285)=1,VLOOKUP($CV$163,_Afg07,BR285)*$D$72*IF($F$72<>\"\",$F$72,VLOOKUP($CV$163,_Afg07,Udbyttenr)),0)+IF(VLOOKUP($CV$165,_Afg07,$BU$285)=1,VLOOKUP($CV$165,_Afg07,BR285)*$D$74*IF($F$74<>\"\",$F$74,VLOOKUP($CV$165,_Afg07,Udbyttenr)),0)+IF(VLOOKUP($CV$167,_Afg07,$BU$285)=1,VLOOKUP($CV$167,_Afg07,BR285)*$D$76*IF($F$76<>\"\",$F$76,VLOOKUP($CV$167,_Afg07,Udbyttenr)),0)+IF(VLOOKUP($CV$169,_Afg07,$BU$285)=1,VLOOKUP($CV$169,_Afg07,BR285)*$D$78*IF($F$78<>\"\",$F$78,VLOOKUP($CV$169,_Afg07,Udbyttenr)),0)+IF(VLOOKUP($CV$171,_Afg07,$BU$285)=1,VLOOKUP($CV$171,_Afg07,BR285)*$D$80*IF($F$80<>\"\",$F$80,VLOOKUP($CV$171,_Afg07,Udbyttenr)),0))/($CY$173)","v":{"$error":"#DIV/0!"}},{"$f":"(IF(VLOOKUP($CV$159,_Afg07,$BU$285)=1,VLOOKUP($CV$159,_Afg07,BS285)*$D$68*IF($F$68<>\"\",$F$68,VLOOKUP($CV$159,_Afg07,Udbyttenr)),0)+IF(VLOOKUP($CV$161,_Afg07,$BU$285)=1,VLOOKUP($CV$161,_Afg07,BS285)*$D$70*IF($F$70<>\"\",$F$70,VLOOKUP($CV$161,_Afg07,Udbyttenr)),0)+IF(VLOOKUP($CV$163,_Afg07,$BU$285)=1,VLOOKUP($CV$163,_Afg07,BS285)*$D$72*IF($F$72<>\"\",$F$72,VLOOKUP($CV$163,_Afg07,Udbyttenr)),0)+IF(VLOOKUP($CV$165,_Afg07,$BU$285)=1,VLOOKUP($CV$165,_Afg07,BS285)*$D$74*IF($F$74<>\"\",$F$74,VLOOKUP($CV$165,_Afg07,Udbyttenr)),0)+IF(VLOOKUP($CV$167,_Afg07,$BU$285)=1,VLOOKUP($CV$167,_Afg07,BS285)*$D$76*IF($F$76<>\"\",$F$76,VLOOKUP($CV$167,_Afg07,Udbyttenr)),0)+IF(VLOOKUP($CV$169,_Afg07,$BU$285)=1,VLOOKUP($CV$169,_Afg07,BS285)*$D$78*IF($F$78<>\"\",$F$78,VLOOKUP($CV$169,_Afg07,Udbyttenr)),0)+IF(VLOOKUP($CV$171,_Afg07,$BU$285)=1,VLOOKUP($CV$171,_Afg07,BS285)*$D$80*IF($F$80<>\"\",$F$80,VLOOKUP($CV$171,_Afg07,Udbyttenr)),0))/($CY$173)","v":{"$error":"#DIV/0!"}},{"$f":"(IF(VLOOKUP($CV$159,_Afg07,$BU$285)=1,VLOOKUP($CV$159,_Afg07,BT285)*$D$68*IF($F$68<>\"\",$F$68,VLOOKUP($CV$159,_Afg07,Udbyttenr)),0)+IF(VLOOKUP($CV$161,_Afg07,$BU$285)=1,VLOOKUP($CV$161,_Afg07,BT285)*$D$70*IF($F$70<>\"\",$F$70,VLOOKUP($CV$161,_Afg07,Udbyttenr)),0)+IF(VLOOKUP($CV$163,_Afg07,$BU$285)=1,VLOOKUP($CV$163,_Afg07,BT285)*$D$72*IF($F$72<>\"\",$F$72,VLOOKUP($CV$163,_Afg07,Udbyttenr)),0)+IF(VLOOKUP($CV$165,_Afg07,$BU$285)=1,VLOOKUP($CV$165,_Afg07,BT285)*$D$74*IF($F$74<>\"\",$F$74,VLOOKUP($CV$165,_Afg07,Udbyttenr)),0)+IF(VLOOKUP($CV$167,_Afg07,$BU$285)=1,VLOOKUP($CV$167,_Afg07,BT285)*$D$76*IF($F$76<>\"\",$F$76,VLOOKUP($CV$167,_Afg07,Udbyttenr)),0)+IF(VLOOKUP($CV$169,_Afg07,$BU$285)=1,VLOOKUP($CV$169,_Afg07,BT285)*$D$78*IF($F$78<>\"\",$F$78,VLOOKUP($CV$169,_Afg07,Udbyttenr)),0)+IF(VLOOKUP($CV$171,_Afg07,$BU$285)=1,VLOOKUP($CV$171,_Afg07,BT285)*$D$80*IF($F$80<>\"\",$F$80,VLOOKUP($CV$171,_Afg07,Udbyttenr)),0))/($CY$173)","v":{"$error":"#DIV/0!"}},null,null,null,null,null,null,null,null,null,null,null,null,null,null,null,{"$f":"(VLOOKUP($CV$159,_Afg07,CJ290)*$D$68+VLOOKUP($CV$161,_Afg07,CJ290)*$D$70+VLOOKUP($CV$163,_Afg07,CJ290)*$D$72+VLOOKUP($CV$165,_Afg07,CJ290)*$D$74+VLOOKUP($CV$167,_Afg07,CJ290)*$D$76+VLOOKUP($CV$169,_Afg07,CJ290)*$D$78+VLOOKUP($CV$171,_Afg07,CJ290)*$D$80)/$D$82","v":{"$error":"#DIV/0!"}}]
[null,null,null,null,null,null,null,null,null,null,null,null,null,null,null,null,null,2,null,null,null,null,null,null,null,null,{"$f":"(IF(VLOOKUP($CV$160,_Afg07,$BU$285)=1,VLOOKUP($CV$160,_Afg07,AA285)*$D$89,0)+IF(VLOOKUP($CV$162,_Afg07,$BU$285)=1,VLOOKUP($CV$162,_Afg07,AA285)*$D$91,0)+IF(VLOOKUP($CV$164,_Afg07,$BU$285)=1,VLOOKUP($CV$164,_Afg07,AA285)*$D$93,0)+IF(VLOOKUP($CV$166,_Afg07,$BU$285)=1,VLOOKUP($CV$166,_Afg07,AA285)*$D$95,0)+IF(VLOOKUP($CV$168,_Afg07,$BU$285)=1,VLOOKUP($CV$168,_Afg07,AA285)*$D$97,0)+IF(VLOOKUP($CV$170,_Afg07,$BU$285)=1,VLOOKUP($CV$170,_Afg07,AA285)*$D$99,0)+IF(VLOOKUP($CV$172,_Afg07,$BU$285)=1,VLOOKUP($CV$172,_Afg07,AA285)*$D$101,0))/($CZ$174)","v":{"$error":"#DIV/0!"}},{"$f":"(IF(VLOOKUP($CV$160,_Afg07,$BU$285)=1,VLOOKUP($CV$160,_Afg07,AB285)*$D$89,0)+IF(VLOOKUP($CV$162,_Afg07,$BU$285)=1,VLOOKUP($CV$162,_Afg07,AB285)*$D$91,0)+IF(VLOOKUP($CV$164,_Afg07,$BU$285)=1,VLOOKUP($CV$164,_Afg07,AB285)*$D$93,0)+IF(VLOOKUP($CV$166,_Afg07,$BU$285)=1,VLOOKUP($CV$166,_Afg07,AB285)*$D$95,0)+IF(VLOOKUP($CV$168,_Afg07,$BU$285)=1,VLOOKUP($CV$168,_Afg07,AB285)*$D$97,0)+IF(VLOOKUP($CV$170,_Afg07,$BU$285)=1,VLOOKUP($CV$170,_Afg07,AB285)*$D$99,0)+IF(VLOOKUP($CV$172,_Afg07,$BU$285)=1,VLOOKUP($CV$172,_Afg07,AB285)*$D$101,0))/($CZ$174)","v":{"$error":"#DIV/0!"}},{"$f":"(IF(VLOOKUP($CV$160,_Afg07,$BU$285)=1,VLOOKUP($CV$160,_Afg07,AC285)*$D$89,0)+IF(VLOOKUP($CV$162,_Afg07,$BU$285)=1,VLOOKUP($CV$162,_Afg07,AC285)*$D$91,0)+IF(VLOOKUP($CV$164,_Afg07,$BU$285)=1,VLOOKUP($CV$164,_Afg07,AC285)*$D$93,0)+IF(VLOOKUP($CV$166,_Afg07,$BU$285)=1,VLOOKUP($CV$166,_Afg07,AC285)*$D$95,0)+IF(VLOOKUP($CV$168,_Afg07,$BU$285)=1,VLOOKUP($CV$168,_Afg07,AC285)*$D$97,0)+IF(VLOOKUP($CV$170,_Afg07,$BU$285)=1,VLOOKUP($CV$170,_Afg07,AC285)*$D$99,0)+IF(VLOOKUP($CV$172,_Afg07,$BU$285)=1,VLOOKUP($CV$172,_Afg07,AC285)*$D$101,0))/($CZ$174)","v":{"$error":"#DIV/0!"}},{"$f":"(IF(VLOOKUP($CV$160,_Afg07,$BU$285)=1,VLOOKUP($CV$160,_Afg07,AD285)*$D$89,0)+IF(VLOOKUP($CV$162,_Afg07,$BU$285)=1,VLOOKUP($CV$162,_Afg07,AD285)*$D$91,0)+IF(VLOOKUP($CV$164,_Afg07,$BU$285)=1,VLOOKUP($CV$164,_Afg07,AD285)*$D$93,0)+IF(VLOOKUP($CV$166,_Afg07,$BU$285)=1,VLOOKUP($CV$166,_Afg07,AD285)*$D$95,0)+IF(VLOOKUP($CV$168,_Afg07,$BU$285)=1,VLOOKUP($CV$168,_Afg07,AD285)*$D$97,0)+IF(VLOOKUP($CV$170,_Afg07,$BU$285)=1,VLOOKUP($CV$170,_Afg07,AD285)*$D$99,0)+IF(VLOOKUP($CV$172,_Afg07,$BU$285)=1,VLOOKUP($CV$172,_Afg07,AD285)*$D$101,0))/($CZ$174)","v":{"$error":"#DIV/0!"}},{"$f":"(IF(VLOOKUP($CV$160,_Afg07,$BU$285)=1,VLOOKUP($CV$160,_Afg07,AE285)*$D$89,0)+IF(VLOOKUP($CV$162,_Afg07,$BU$285)=1,VLOOKUP($CV$162,_Afg07,AE285)*$D$91,0)+IF(VLOOKUP($CV$164,_Afg07,$BU$285)=1,VLOOKUP($CV$164,_Afg07,AE285)*$D$93,0)+IF(VLOOKUP($CV$166,_Afg07,$BU$285)=1,VLOOKUP($CV$166,_Afg07,AE285)*$D$95,0)+IF(VLOOKUP($CV$168,_Afg07,$BU$285)=1,VLOOKUP($CV$168,_Afg07,AE285)*$D$97,0)+IF(VLOOKUP($CV$170,_Afg07,$BU$285)=1,VLOOKUP($CV$170,_Afg07,AE285)*$D$99,0)+IF(VLOOKUP($CV$172,_Afg07,$BU$285)=1,VLOOKUP($CV$172,_Afg07,AE285)*$D$101,0))/($CZ$174)","v":{"$error":"#DIV/0!"}},null,null,null,null,null,null,{"$f":"(IF(VLOOKUP($CV$160,_Afg07,$BU$285)=1,VLOOKUP($CV$160,_Afg07,AL285)*$D$89,0)+IF(VLOOKUP($CV$162,_Afg07,$BU$285)=1,VLOOKUP($CV$162,_Afg07,AL285)*$D$91,0)+IF(VLOOKUP($CV$164,_Afg07,$BU$285)=1,VLOOKUP($CV$164,_Afg07,AL285)*$D$93,0)+IF(VLOOKUP($CV$166,_Afg07,$BU$285)=1,VLOOKUP($CV$166,_Afg07,AL285)*$D$95,0)+IF(VLOOKUP($CV$168,_Afg07,$BU$285)=1,VLOOKUP($CV$168,_Afg07,AL285)*$D$97,0)+IF(VLOOKUP($CV$170,_Afg07,$BU$285)=1,VLOOKUP($CV$170,_Afg07,AL285)*$D$99,0)+IF(VLOOKUP($CV$172,_Afg07,$BU$285)=1,VLOOKUP($CV$172,_Afg07,AL285)*$D$101,0))/($CZ$174)","v":{"$error":"#DIV/0!"}},{"$f":"(IF(VLOOKUP($CV$160,_Afg07,$BU$285)=1,VLOOKUP($CV$160,_Afg07,AM285)*$D$89,0)+IF(VLOOKUP($CV$162,_Afg07,$BU$285)=1,VLOOKUP($CV$162,_Afg07,AM285)*$D$91,0)+IF(VLOOKUP($CV$164,_Afg07,$BU$285)=1,VLOOKUP($CV$164,_Afg07,AM285)*$D$93,0)+IF(VLOOKUP($CV$166,_Afg07,$BU$285)=1,VLOOKUP($CV$166,_Afg07,AM285)*$D$95,0)+IF(VLOOKUP($CV$168,_Afg07,$BU$285)=1,VLOOKUP($CV$168,_Afg07,AM285)*$D$97,0)+IF(VLOOKUP($CV$170,_Afg07,$BU$285)=1,VLOOKUP($CV$170,_Afg07,AM285)*$D$99,0)+IF(VLOOKUP($CV$172,_Afg07,$BU$285)=1,VLOOKUP($CV$172,_Afg07,AM285)*$D$101,0))/($CZ$174)","v":{"$error":"#DIV/0!"}},{"$f":"(IF(VLOOKUP($CV$160,_Afg07,$BU$285)=1,VLOOKUP($CV$160,_Afg07,AN285)*$D$89,0)+IF(VLOOKUP($CV$162,_Afg07,$BU$285)=1,VLOOKUP($CV$162,_Afg07,AN285)*$D$91,0)+IF(VLOOKUP($CV$164,_Afg07,$BU$285)=1,VLOOKUP($CV$164,_Afg07,AN285)*$D$93,0)+IF(VLOOKUP($CV$166,_Afg07,$BU$285)=1,VLOOKUP($CV$166,_Afg07,AN285)*$D$95,0)+IF(VLOOKUP($CV$168,_Afg07,$BU$285)=1,VLOOKUP($CV$168,_Afg07,AN285)*$D$97,0)+IF(VLOOKUP($CV$170,_Afg07,$BU$285)=1,VLOOKUP($CV$170,_Afg07,AN285)*$D$99,0)+IF(VLOOKUP($CV$172,_Afg07,$BU$285)=1,VLOOKUP($CV$172,_Afg07,AN285)*$D$101,0))/($CZ$174)","v":{"$error":"#DIV/0!"}},null,{"$f":"(IF(VLOOKUP($CV$160,_Afg07,$BU$285)=1,VLOOKUP($CV$160,_Afg07,AP285)*$D$89,0)+IF(VLOOKUP($CV$162,_Afg07,$BU$285)=1,VLOOKUP($CV$162,_Afg07,AP285)*$D$91,0)+IF(VLOOKUP($CV$164,_Afg07,$BU$285)=1,VLOOKUP($CV$164,_Afg07,AP285)*$D$93,0)+IF(VLOOKUP($CV$166,_Afg07,$BU$285)=1,VLOOKUP($CV$166,_Afg07,AP285)*$D$95,0)+IF(VLOOKUP($CV$168,_Afg07,$BU$285)=1,VLOOKUP($CV$168,_Afg07,AP285)*$D$97,0)+IF(VLOOKUP($CV$170,_Afg07,$BU$285)=1,VLOOKUP($CV$170,_Afg07,AP285)*$D$99,0)+IF(VLOOKUP($CV$172,_Afg07,$BU$285)=1,VLOOKUP($CV$172,_Afg07,AP285)*$D$101,0))/($CZ$174)","v":{"$error":"#DIV/0!"}},{"$error":"#DIV/0!"},{"$error":"#DIV/0!"},{"$error":"#DIV/0!"},{"$error":"#DIV/0!"},{"$error":"#DIV/0!"},{"$error":"#DIV/0!"},{"$f":"(IF(VLOOKUP($CV$160,_Afg07,$BU$285)=1,VLOOKUP($CV$160,_Afg07,AW285)*$D$89*IF($F$89<>\"\",$F$89,VLOOKUP($CV$160,_Afg07,Udbyttenr)),0)+IF(VLOOKUP($CV$162,_Afg07,$BU$285)=1,VLOOKUP($CV$162,_Afg07,AW285)*$D$91*IF($F$91<>\"\",$F$91,VLOOKUP($CV$162,_Afg07,Udbyttenr)),0)+IF(VLOOKUP($CV$164,_Afg07,$BU$285)=1,VLOOKUP($CV$164,_Afg07,AW285)*$D$93*IF($F$93<>\"\",$F$93,VLOOKUP($CV$164,_Afg07,Udbyttenr)),0)+IF(VLOOKUP($CV$166,_Afg07,$BU$285)=1,VLOOKUP($CV$166,_Afg07,AW285)*$D$95*IF($F$95<>\"\",$F$95,VLOOKUP($CV$166,_Afg07,Udbyttenr)),0)+IF(VLOOKUP($CV$168,_Afg07,$BU$285)=1,VLOOKUP($CV$168,_Afg07,AW285)*$D$97*IF($F$97<>\"\",$F$97,VLOOKUP($CV$168,_Afg07,Udbyttenr)),0)+IF(VLOOKUP($CV$170,_Afg07,$BU$285)=1,VLOOKUP($CV$170,_Afg07,AW285)*$D$99*IF($F$99<>\"\",$F$99,VLOOKUP($CV$170,_Afg07,Udbyttenr)),0)+IF(VLOOKUP($CV$172,_Afg07,$BU$285)=1,VLOOKUP($CV$172,_Afg07,AW285)*$D$101*IF($F$101<>\"\",$F$101,VLOOKUP($CV$172,_Afg07,Udbyttenr)),0))/($CY$174)","v":{"$error":"#DIV/0!"}},{"$f":"(IF(VLOOKUP($CV$160,_Afg07,$BU$285)=1,VLOOKUP($CV$160,_Afg07,AX285)*$D$89*VLOOKUP($CV$160,_Afg07,Halmnr),0)+IF(VLOOKUP($CV$162,_Afg07,$BU$285)=1,VLOOKUP($CV$162,_Afg07,AX285)*$D$91*VLOOKUP($CV$162,_Afg07,Halmnr),0)+IF(VLOOKUP($CV$164,_Afg07,$BU$285)=1,VLOOKUP($CV$164,_Afg07,AX285)*$D$93*VLOOKUP($CV$164,_Afg07,Halmnr),0)+IF(VLOOKUP($CV$166,_Afg07,$BU$285)=1,VLOOKUP($CV$166,_Afg07,AX285)*$D$95*VLOOKUP($CV$166,_Afg07,Halmnr),0)+IF(VLOOKUP($CV$168,_Afg07,$BU$285)=1,VLOOKUP($CV$168,_Afg07,AX285)*$D$97*VLOOKUP($CV$168,_Afg07,Halmnr),0)+IF(VLOOKUP($CV$170,_Afg07,$BU$285)=1,VLOOKUP($CV$170,_Afg07,AX285)*$D$99*VLOOKUP($CV$170,_Afg07,Halmnr),0)+IF(VLOOKUP($CV$172,_Afg07,$BU$285)=1,VLOOKUP($CV$172,_Afg07,AX285)*$D$101*VLOOKUP($CV$172,_Afg07,Halmnr),0))/($DC$174)","v":{"$error":"#DIV/0!"}},{"$f":"(IF(VLOOKUP($CV$160,_Afg07,$BU$285)=1,VLOOKUP($CV$160,_Afg07,AY285)*$D$89,0)+IF(VLOOKUP($CV$162,_Afg07,$BU$285)=1,VLOOKUP($CV$162,_Afg07,AY285)*$D$91,0)+IF(VLOOKUP($CV$164,_Afg07,$BU$285)=1,VLOOKUP($CV$164,_Afg07,AY285)*$D$93,0)+IF(VLOOKUP($CV$166,_Afg07,$BU$285)=1,VLOOKUP($CV$166,_Afg07,AY285)*$D$95,0)+IF(VLOOKUP($CV$168,_Afg07,$BU$285)=1,VLOOKUP($CV$168,_Afg07,AY285)*$D$97,0)+IF(VLOOKUP($CV$170,_Afg07,$BU$285)=1,VLOOKUP($CV$170,_Afg07,AY285)*$D$99,0)+IF(VLOOKUP($CV$172,_Afg07,$BU$285)=1,VLOOKUP($CV$172,_Afg07,AY285)*$D$101,0))/($CZ$174)","v":{"$error":"#DIV/0!"}},{"$f":"(IF(VLOOKUP($CV$160,_Afg07,$BU$285)=1,VLOOKUP($CV$160,_Afg07,AZ285)*$D$89*IF($F$89<>\"\",$F$89,VLOOKUP($CV$160,_Afg07,Udbyttenr)),0)+IF(VLOOKUP($CV$162,_Afg07,$BU$285)=1,VLOOKUP($CV$162,_Afg07,AZ285)*$D$91*IF($F$91<>\"\",$F$91,VLOOKUP($CV$162,_Afg07,Udbyttenr)),0)+IF(VLOOKUP($CV$164,_Afg07,$BU$285)=1,VLOOKUP($CV$164,_Afg07,AZ285)*$D$93*IF($F$93<>\"\",$F$93,VLOOKUP($CV$164,_Afg07,Udbyttenr)),0)+IF(VLOOKUP($CV$166,_Afg07,$BU$285)=1,VLOOKUP($CV$166,_Afg07,AZ285)*$D$95*IF($F$95<>\"\",$F$95,VLOOKUP($CV$166,_Afg07,Udbyttenr)),0)+IF(VLOOKUP($CV$168,_Afg07,$BU$285)=1,VLOOKUP($CV$168,_Afg07,AZ285)*$D$97*IF($F$97<>\"\",$F$97,VLOOKUP($CV$168,_Afg07,Udbyttenr)),0)+IF(VLOOKUP($CV$170,_Afg07,$BU$285)=1,VLOOKUP($CV$170,_Afg07,AZ285)*$D$99*IF($F$99<>\"\",$F$99,VLOOKUP($CV$170,_Afg07,Udbyttenr)),0)+IF(VLOOKUP($CV$172,_Afg07,$BU$285)=1,VLOOKUP($CV$172,_Afg07,AZ285)*$D$101*IF($F$101<>\"\",$F$101,VLOOKUP($CV$172,_Afg07,Udbyttenr)),0))/($CY$174)","v":{"$error":"#DIV/0!"}},{"$f":"(IF(VLOOKUP($CV$160,_Afg07,$BU$285)=1,VLOOKUP($CV$160,_Afg07,BA285)*$D$89*VLOOKUP($CV$160,_Afg07,Halmnr),0)+IF(VLOOKUP($CV$162,_Afg07,$BU$285)=1,VLOOKUP($CV$162,_Afg07,BA285)*$D$91*VLOOKUP($CV$162,_Afg07,Halmnr),0)+IF(VLOOKUP($CV$164,_Afg07,$BU$285)=1,VLOOKUP($CV$164,_Afg07,BA285)*$D$93*VLOOKUP($CV$164,_Afg07,Halmnr),0)+IF(VLOOKUP($CV$166,_Afg07,$BU$285)=1,VLOOKUP($CV$166,_Afg07,BA285)*$D$95*VLOOKUP($CV$166,_Afg07,Halmnr),0)+IF(VLOOKUP($CV$168,_Afg07,$BU$285)=1,VLOOKUP($CV$168,_Afg07,BA285)*$D$97*VLOOKUP($CV$168,_Afg07,Halmnr),0)+IF(VLOOKUP($CV$170,_Afg07,$BU$285)=1,VLOOKUP($CV$170,_Afg07,BA285)*$D$99*VLOOKUP($CV$170,_Afg07,Halmnr),0)+IF(VLOOKUP($CV$172,_Afg07,$BU$285)=1,VLOOKUP($CV$172,_Afg07,BA285)*$D$101*VLOOKUP($CV$172,_Afg07,Halmnr),0))/($DC$174)","v":{"$error":"#DIV/0!"}},{"$f":"(IF(VLOOKUP($CV$160,_Afg07,$BU$285)=1,VLOOKUP($CV$160,_Afg07,BB285)*$D$89*IF($F$89<>\"\",$F$89,VLOOKUP($CV$160,_Afg07,Udbyttenr)),0)+IF(VLOOKUP($CV$162,_Afg07,$BU$285)=1,VLOOKUP($CV$162,_Afg07,BB285)*$D$91*IF($F$91<>\"\",$F$91,VLOOKUP($CV$162,_Afg07,Udbyttenr)),0)+IF(VLOOKUP($CV$164,_Afg07,$BU$285)=1,VLOOKUP($CV$164,_Afg07,BB285)*$D$93*IF($F$93<>\"\",$F$93,VLOOKUP($CV$164,_Afg07,Udbyttenr)),0)+IF(VLOOKUP($CV$166,_Afg07,$BU$285)=1,VLOOKUP($CV$166,_Afg07,BB285)*$D$95*IF($F$95<>\"\",$F$95,VLOOKUP($CV$166,_Afg07,Udbyttenr)),0)+IF(VLOOKUP($CV$168,_Afg07,$BU$285)=1,VLOOKUP($CV$168,_Afg07,BB285)*$D$97*IF($F$97<>\"\",$F$97,VLOOKUP($CV$168,_Afg07,Udbyttenr)),0)+IF(VLOOKUP($CV$170,_Afg07,$BU$285)=1,VLOOKUP($CV$170,_Afg07,BB285)*$D$99*IF($F$99<>\"\",$F$99,VLOOKUP($CV$170,_Afg07,Udbyttenr)),0)+IF(VLOOKUP($CV$172,_Afg07,$BU$285)=1,VLOOKUP($CV$172,_Afg07,BB285)*$D$101*IF($F$101<>\"\",$F$101,VLOOKUP($CV$172,_Afg07,Udbyttenr)),0))/($CY$174)","v":{"$error":"#DIV/0!"}},null,{"$f":"(IF(VLOOKUP($CV$160,_Afg07,$BU$285)=1,VLOOKUP($CV$160,_Afg07,BD285)*$D$89,0)+IF(VLOOKUP($CV$162,_Afg07,$BU$285)=1,VLOOKUP($CV$162,_Afg07,BD285)*$D$91,0)+IF(VLOOKUP($CV$164,_Afg07,$BU$285)=1,VLOOKUP($CV$164,_Afg07,BD285)*$D$93,0)+IF(VLOOKUP($CV$166,_Afg07,$BU$285)=1,VLOOKUP($CV$166,_Afg07,BD285)*$D$95,0)+IF(VLOOKUP($CV$168,_Afg07,$BU$285)=1,VLOOKUP($CV$168,_Afg07,BD285)*$D$97,0)+IF(VLOOKUP($CV$170,_Afg07,$BU$285)=1,VLOOKUP($CV$170,_Afg07,BD285)*$D$99,0)+IF(VLOOKUP($CV$172,_Afg07,$BU$285)=1,VLOOKUP($CV$172,_Afg07,BD285)*$D$101,0))/($CZ$174)","v":{"$error":"#DIV/0!"}},{"$error":"#DIV/0!"},{"$error":"#DIV/0!"},{"$error":"#DIV/0!"},{"$error":"#DIV/0!"},{"$error":"#DIV/0!"},{"$error":"#DIV/0!"},{"$error":"#DIV/0!"},{"$error":"#DIV/0!"},{"$error":"#DIV/0!"},{"$f":"(IF(VLOOKUP($CV$160,_Afg07,$BU$285)=1,VLOOKUP($CV$160,_Afg07,BN285)*$D$89*IF($F$89<>\"\",$F$89,VLOOKUP($CV$160,_Afg07,Udbyttenr)),0)+IF(VLOOKUP($CV$162,_Afg07,$BU$285)=1,VLOOKUP($CV$162,_Afg07,BN285)*$D$91*IF($F$91<>\"\",$F$91,VLOOKUP($CV$162,_Afg07,Udbyttenr)),0)+IF(VLOOKUP($CV$164,_Afg07,$BU$285)=1,VLOOKUP($CV$164,_Afg07,BN285)*$D$93*IF($F$93<>\"\",$F$93,VLOOKUP($CV$164,_Afg07,Udbyttenr)),0)+IF(VLOOKUP($CV$166,_Afg07,$BU$285)=1,VLOOKUP($CV$166,_Afg07,BN285)*$D$95*IF($F$95<>\"\",$F$95,VLOOKUP($CV$166,_Afg07,Udbyttenr)),0)+IF(VLOOKUP($CV$168,_Afg07,$BU$285)=1,VLOOKUP($CV$168,_Afg07,BN285)*$D$97*IF($F$97<>\"\",$F$97,VLOOKUP($CV$168,_Afg07,Udbyttenr)),0)+IF(VLOOKUP($CV$170,_Afg07,$BU$285)=1,VLOOKUP($CV$170,_Afg07,BN285)*$D$99*IF($F$99<>\"\",$F$99,VLOOKUP($CV$170,_Afg07,Udbyttenr)),0)+IF(VLOOKUP($CV$172,_Afg07,$BU$285)=1,VLOOKUP($CV$172,_Afg07,BN285)*$D$101*IF($F$101<>\"\",$F$101,VLOOKUP($CV$172,_Afg07,Udbyttenr)),0))/($CY$174)","v":{"$error":"#DIV/0!"}},{"$f":"(IF(VLOOKUP($CV$160,_Afg07,$BU$285)=1,VLOOKUP($CV$160,_Afg07,BO285)*$D$89*IF($F$89<>\"\",$F$89,VLOOKUP($CV$160,_Afg07,Udbyttenr)),0)+IF(VLOOKUP($CV$162,_Afg07,$BU$285)=1,VLOOKUP($CV$162,_Afg07,BO285)*$D$91*IF($F$91<>\"\",$F$91,VLOOKUP($CV$162,_Afg07,Udbyttenr)),0)+IF(VLOOKUP($CV$164,_Afg07,$BU$285)=1,VLOOKUP($CV$164,_Afg07,BO285)*$D$93*IF($F$93<>\"\",$F$93,VLOOKUP($CV$164,_Afg07,Udbyttenr)),0)+IF(VLOOKUP($CV$166,_Afg07,$BU$285)=1,VLOOKUP($CV$166,_Afg07,BO285)*$D$95*IF($F$95<>\"\",$F$95,VLOOKUP($CV$166,_Afg07,Udbyttenr)),0)+IF(VLOOKUP($CV$168,_Afg07,$BU$285)=1,VLOOKUP($CV$168,_Afg07,BO285)*$D$97*IF($F$97<>\"\",$F$97,VLOOKUP($CV$168,_Afg07,Udbyttenr)),0)+IF(VLOOKUP($CV$170,_Afg07,$BU$285)=1,VLOOKUP($CV$170,_Afg07,BO285)*$D$99*IF($F$99<>\"\",$F$99,VLOOKUP($CV$170,_Afg07,Udbyttenr)),0)+IF(VLOOKUP($CV$172,_Afg07,$BU$285)=1,VLOOKUP($CV$172,_Afg07,BO285)*$D$101*IF($F$101<>\"\",$F$101,VLOOKUP($CV$172,_Afg07,Udbyttenr)),0))/($CY$174)","v":{"$error":"#DIV/0!"}},null,{"$f":"(IF(VLOOKUP($CV$160,_Afg07,$BU$285)=1,VLOOKUP($CV$160,_Afg07,BQ285)*$D$89*IF($F$89<>\"\",$F$89,VLOOKUP($CV$160,_Afg07,Udbyttenr)),0)+IF(VLOOKUP($CV$162,_Afg07,$BU$285)=1,VLOOKUP($CV$162,_Afg07,BQ285)*$D$91*IF($F$91<>\"\",$F$91,VLOOKUP($CV$162,_Afg07,Udbyttenr)),0)+IF(VLOOKUP($CV$164,_Afg07,$BU$285)=1,VLOOKUP($CV$164,_Afg07,BQ285)*$D$93*IF($F$93<>\"\",$F$93,VLOOKUP($CV$164,_Afg07,Udbyttenr)),0)+IF(VLOOKUP($CV$166,_Afg07,$BU$285)=1,VLOOKUP($CV$166,_Afg07,BQ285)*$D$95*IF($F$95<>\"\",$F$95,VLOOKUP($CV$166,_Afg07,Udbyttenr)),0)+IF(VLOOKUP($CV$168,_Afg07,$BU$285)=1,VLOOKUP($CV$168,_Afg07,BQ285)*$D$97*IF($F$97<>\"\",$F$97,VLOOKUP($CV$168,_Afg07,Udbyttenr)),0)+IF(VLOOKUP($CV$170,_Afg07,$BU$285)=1,VLOOKUP($CV$170,_Afg07,BQ285)*$D$99*IF($F$99<>\"\",$F$99,VLOOKUP($CV$170,_Afg07,Udbyttenr)),0)+IF(VLOOKUP($CV$172,_Afg07,$BU$285)=1,VLOOKUP($CV$172,_Afg07,BQ285)*$D$101*IF($F$101<>\"\",$F$101,VLOOKUP($CV$172,_Afg07,Udbyttenr)),0))/($CY$174)","v":{"$error":"#DIV/0!"}},{"$f":"(IF(VLOOKUP($CV$160,_Afg07,$BU$285)=1,VLOOKUP($CV$160,_Afg07,BR285)*$D$89*IF($F$89<>\"\",$F$89,VLOOKUP($CV$160,_Afg07,Udbyttenr)),0)+IF(VLOOKUP($CV$162,_Afg07,$BU$285)=1,VLOOKUP($CV$162,_Afg07,BR285)*$D$91*IF($F$91<>\"\",$F$91,VLOOKUP($CV$162,_Afg07,Udbyttenr)),0)+IF(VLOOKUP($CV$164,_Afg07,$BU$285)=1,VLOOKUP($CV$164,_Afg07,BR285)*$D$93*IF($F$93<>\"\",$F$93,VLOOKUP($CV$164,_Afg07,Udbyttenr)),0)+IF(VLOOKUP($CV$166,_Afg07,$BU$285)=1,VLOOKUP($CV$166,_Afg07,BR285)*$D$95*IF($F$95<>\"\",$F$95,VLOOKUP($CV$166,_Afg07,Udbyttenr)),0)+IF(VLOOKUP($CV$168,_Afg07,$BU$285)=1,VLOOKUP($CV$168,_Afg07,BR285)*$D$97*IF($F$97<>\"\",$F$97,VLOOKUP($CV$168,_Afg07,Udbyttenr)),0)+IF(VLOOKUP($CV$170,_Afg07,$BU$285)=1,VLOOKUP($CV$170,_Afg07,BR285)*$D$99*IF($F$99<>\"\",$F$99,VLOOKUP($CV$170,_Afg07,Udbyttenr)),0)+IF(VLOOKUP($CV$172,_Afg07,$BU$285)=1,VLOOKUP($CV$172,_Afg07,BR285)*$D$101*IF($F$101<>\"\",$F$101,VLOOKUP($CV$172,_Afg07,Udbyttenr)),0))/($CY$174)","v":{"$error":"#DIV/0!"}},{"$f":"(IF(VLOOKUP($CV$160,_Afg07,$BU$285)=1,VLOOKUP($CV$160,_Afg07,BS285)*$D$89*IF($F$89<>\"\",$F$89,VLOOKUP($CV$160,_Afg07,Udbyttenr)),0)+IF(VLOOKUP($CV$162,_Afg07,$BU$285)=1,VLOOKUP($CV$162,_Afg07,BS285)*$D$91*IF($F$91<>\"\",$F$91,VLOOKUP($CV$162,_Afg07,Udbyttenr)),0)+IF(VLOOKUP($CV$164,_Afg07,$BU$285)=1,VLOOKUP($CV$164,_Afg07,BS285)*$D$93*IF($F$93<>\"\",$F$93,VLOOKUP($CV$164,_Afg07,Udbyttenr)),0)+IF(VLOOKUP($CV$166,_Afg07,$BU$285)=1,VLOOKUP($CV$166,_Afg07,BS285)*$D$95*IF($F$95<>\"\",$F$95,VLOOKUP($CV$166,_Afg07,Udbyttenr)),0)+IF(VLOOKUP($CV$168,_Afg07,$BU$285)=1,VLOOKUP($CV$168,_Afg07,BS285)*$D$97*IF($F$97<>\"\",$F$97,VLOOKUP($CV$168,_Afg07,Udbyttenr)),0)+IF(VLOOKUP($CV$170,_Afg07,$BU$285)=1,VLOOKUP($CV$170,_Afg07,BS285)*$D$99*IF($F$99<>\"\",$F$99,VLOOKUP($CV$170,_Afg07,Udbyttenr)),0)+IF(VLOOKUP($CV$172,_Afg07,$BU$285)=1,VLOOKUP($CV$172,_Afg07,BS285)*$D$101*IF($F$101<>\"\",$F$101,VLOOKUP($CV$172,_Afg07,Udbyttenr)),0))/($CY$174)","v":{"$error":"#DIV/0!"}},{"$f":"(IF(VLOOKUP($CV$160,_Afg07,$BU$285)=1,VLOOKUP($CV$160,_Afg07,BT285)*$D$89*IF($F$89<>\"\",$F$89,VLOOKUP($CV$160,_Afg07,Udbyttenr)),0)+IF(VLOOKUP($CV$162,_Afg07,$BU$285)=1,VLOOKUP($CV$162,_Afg07,BT285)*$D$91*IF($F$91<>\"\",$F$91,VLOOKUP($CV$162,_Afg07,Udbyttenr)),0)+IF(VLOOKUP($CV$164,_Afg07,$BU$285)=1,VLOOKUP($CV$164,_Afg07,BT285)*$D$93*IF($F$93<>\"\",$F$93,VLOOKUP($CV$164,_Afg07,Udbyttenr)),0)+IF(VLOOKUP($CV$166,_Afg07,$BU$285)=1,VLOOKUP($CV$166,_Afg07,BT285)*$D$95*IF($F$95<>\"\",$F$95,VLOOKUP($CV$166,_Afg07,Udbyttenr)),0)+IF(VLOOKUP($CV$168,_Afg07,$BU$285)=1,VLOOKUP($CV$168,_Afg07,BT285)*$D$97*IF($F$97<>\"\",$F$97,VLOOKUP($CV$168,_Afg07,Udbyttenr)),0)+IF(VLOOKUP($CV$170,_Afg07,$BU$285)=1,VLOOKUP($CV$170,_Afg07,BT285)*$D$99*IF($F$99<>\"\",$F$99,VLOOKUP($CV$170,_Afg07,Udbyttenr)),0)+IF(VLOOKUP($CV$172,_Afg07,$BU$285)=1,VLOOKUP($CV$172,_Afg07,BT285)*$D$101*IF($F$101<>\"\",$F$101,VLOOKUP($CV$172,_Afg07,Udbyttenr)),0))/($CY$174)","v":{"$error":"#DIV/0!"}},null,null,null,null,null,null,null,null,null,null,null,null,null,null,null,{"$f":"(VLOOKUP($CV$160,_Afg07,CJ290)*$D$89+VLOOKUP($CV$162,_Afg07,CJ290)*$D$91+VLOOKUP($CV$164,_Afg07,CJ290)*$D$93+VLOOKUP($CV$166,_Afg07,CJ290)*$D$95+VLOOKUP($CV$168,_Afg07,CJ290)*$D$97+VLOOKUP($CV$170,_Afg07,CJ290)*$D$99+VLOOKUP($CV$172,_Afg07,CJ290)*$D$101)/$D$103","v":{"$error":"#DIV/0!"}}]
[]
[]
[null,null,null,null,null,null,null,null,null,null,null,null,null,null,null,null,null,null,"Den samlede økonomi for hele markbruget (alle ha i sædskifterne) er beregnet ud fra de samme tal, som vises på side 1. "]
[]
[]
[]
[]
[]
[]
[]
[]
[]
[]
[]
[null,null,null,null,null,null,null,null,null,null,null,null,null,null,null,null,null,null,{"$f":"IF(AND(C239>C240,C234=\"\"),\"Foderbehov er større end foder produceret; men du har angivet, at bedriften er kornsælger.\",IF(AND(C240>C239,C234<>\"\"),\"Foder produceret er større end foderbehov; men du har angivet, at bedriften er kornkøber.\",\"\"))","v":""}]
[]
[]
[]
[]
[]
[]
[]
[]
[]
[]
[]
[]
[]
[]
[]
[]
[null,"Bemærk at nedenstående beregninger tager ikke hensyn til \"egen afgrøde\""]
[]
[]
[null,"Foderbehov"]
[]
[null,null,null,"Besætning",null,null,"Vægtinterval",null,null,null," Foderforbrug",null,null,null,null,null,null,null,null,null,null,null,null,null,null,null,null,null,null,null,null,null,null,null,null,null,null,null,null,null,null,null,null,null,null,null,null,null,null,null,null,null,null,null,null,null,null,null,null,null,null,null,null,null,null,null,null,null,null,null,null,null,null,null,null,null,null,null,null,null,null,null,null,null,null,null,null,null,null,null,null,null,null,null,null,null,null,null,null,null,null,null,"Foderforbrug_FE","Korn-FE"]
[]
[null,"Søer m. smågrise",null,null,"årssøer",null,null,null,null,null,{"$f":"IF(M385<>\"\",\"\",1482)","v":1482},{"$f":"IF(K385<>\"\",\"FE\",\"\")","v":"FE"},null,"FE",null,null,null,null,"Du kan beregne besætningens foderbehov (korn) i foderenheder. Resultatet bliver vist på udskriften side 2, så man kan vurdere, om bedriften er netto kornkøber eller kornsælger.",null,null,null,null,null,null,null,null,null,null,null,null,null,null,null,null,null,null,null,null,null,null,null,null,null,null,null,null,null,null,null,null,null,null,null,null,null,null,null,null,null,null,null,null,null,null,null,null,null,null,null,null,null,null,null,null,null,null,null,null,null,null,null,null,null,null,null,null,null,null,null,null,null,null,null,null,null,null,null,null,81,"%",null,{"$f":"D385*IF(M385<>\"\",M385,K385)","v":0},{"$f":"CY385*CV385*0.01","v":0}]
[]
[null,"Smågrise",null,null,"stk.",null,7,"kg",32,"kg",{"$f":"IF(M387<>\"\",\"\",1.98)","v":1.98},{"$f":"IF(K387<>\"\",\"Fesv\",\"\")","v":"Fesv"},null,"Fesv",null,null,null,null,null,null,null,null,null,null,null,null,null,null,null,null,null,null,null,null,null,null,null,null,null,null,null,null,null,null,null,null,null,null,null,null,null,null,null,null,null,null,null,null,null,null,null,null,null,null,null,null,null,null,null,null,null,null,null,null,null,null,null,null,null,null,null,null,null,null,null,null,null,null,null,null,null,null,null,null,null,null,null,null,null,68,"%",null,{"$f":"D387*(I387-G387)*IF(M387<>\"\",M387,K387)","v":0},{"$f":"CY387*CV387*0.01","v":0}]
[]
[null,"Slagtesvin",null,null,"stk.",null,32,"kg",107,"kg",{"$f":"IF(M389<>\"\",\"\",2.83)","v":2.83},{"$f":"IF(K389<>\"\",\"Fesv\",\"\")","v":"Fesv"},null,"Fesv",null,null,null,null,null,null,null,null,null,null,null,null,null,null,null,null,null,null,null,null,null,null,null,null,null,null,null,null,null,null,null,null,null,null,null,null,null,null,null,null,null,null,null,null,null,null,null,null,null,null,null,null,null,null,null,null,null,null,null,null,null,null,null,null,null,null,null,null,null,null,null,null,null,null,null,null,null,null,null,null,null,null,null,null,null,78,"%",null,{"$f":"D389*(I389-G389)*IF(M389<>\"\",M389,K389)","v":0},{"$f":"CY389*CV389*0.01","v":0}]
[]
[null,"Foderbehov (korn)",{"$f":"IF(CZ385+CZ387+CZ389=0,0,CZ385+CZ387+CZ389)","v":0},null,"Fesv i alt"]
[]
[]
[null,"Bemærk at nedenstående beregninger tager ikke hensyn til \"egen afgrøde\""]
[null,"Tidsforbrug til jordbearbejdning, såning og høst"]
[null,null,null,null,null,null,null,null,null,null,null,null,null,null,null,null,null,null,"Der kan beregnes tidsforbrug (netto) og arbejdsprofil for forskellige sædskifter og forskellige bedriftsstørrelser.\nAngivelse af om der pløjes eller harves mv. anvendes kun til beregning af tidsforbrug.\nDet har ingen indflydelse på de økonomiske beregninger. Tidsforbrug beregnes for 'Sædskifte 1' og 'Sædskifte 2'."]
[]
[null,"Sædskifte 1",null,null,"Harvning",null," Såbeds-",null,"Glyphosat"]
[null,null," Pløjning",null,"e. høst",null," harvning",null,"før såning"]
[]
[null,{"$f":"IF(CV159=1,\"\",VLOOKUP(CV159,_Afg07,2))","v":""}]
[]
[null,{"$f":"IF(CV161=1,\"\",VLOOKUP(CV161,_Afg07,2))","v":""}]
[]
[null,{"$f":"IF(CV163=1,\"\",VLOOKUP(CV163,_Afg07,2))","v":""}]
[]
[null,{"$f":"IF(CV165=1,\"\",VLOOKUP(CV165,_Afg07,2))","v":""}]
[]
[null,{"$f":"IF(CV167=1,\"\",VLOOKUP(CV167,_Afg07,2))","v":""}]
[]
[null,{"$f":"IF(CV169=1,\"\",VLOOKUP(CV169,_Afg07,2))","v":""}]
[]
[null,{"$f":"IF(CV171=1,\"\",VLOOKUP(CV171,_Afg07,2))","v":""}]
[]
[]
[null,"Sædskifte 2",null,null,"Harvning",null," Såbeds-",null,"Glyphosat"]
[null,null," Pløjning",null,"e. høst",null," harvning",null,"før såning"]
[]
[null,{"$f":"IF(CV160=1,\"\",VLOOKUP(CV160,_Afg07,2))","v":""}]
[]
[null,{"$f":"IF(CV162=1,\"\",VLOOKUP(CV162,_Afg07,2))","v":""}]
[]
[null,{"$f":"IF(CV164=1,\"\",VLOOKUP(CV164,_Afg07,2))","v":""}]
[]
[null,{"$f":"IF(CV166=1,\"\",VLOOKUP(CV166,_Afg07,2))","v":""}]
[]
[null,{"$f":"IF(CV168=1,\"\",VLOOKUP(CV168,_Afg07,2))","v":""}]
[]
[null,{"$f":"IF(CV170=1,\"\",VLOOKUP(CV170,_Afg07,2))","v":""}]
[]
[null,{"$f":"IF(CV172=1,\"\",VLOOKUP(CV172,_Afg07,2))","v":""}]
[]
[]
[null,"Maskinkapaciteter",null,null,null,null,null,"Norm",null,null,"Egen\nkapacitet"]
[null,null,null,null,null,null,null,"kapacitet"]
[]
[null,"Plov",null,null,null,null,null,{"$f":"VLOOKUP(DO155,Plov,3)","v":1.6},"ha/time",null,null,"ha/time"]
[null,null,null,null,null,null,null,null,null,null,null,null,null,null,null,null,null,null,"Valg af maskintyper har kun betydning for beregning af tidsforbrug. Det har ingen indvirkning på de økonomiske beregninger.\nDu kan angive dine egne maskinkapaciteter. Ellers anvendes den valgte normkapacitet.\nI række 5 vælges om halmen nedmuldes eller bjærges."]
[null,"Stubharve",null,null,null,null,null,{"$f":"VLOOKUP(DQ155,Stubh,3)","v":2.7},"ha/time",null,null,"ha/time"]
[]
[null,"Såbedsharve",null,null,null,null,null,{"$f":"VLOOKUP(DS155,Såbedh,3)","v":4.7},"ha/time",null,null,"ha/time"]
[]
[null,"Marksprøjte",null,null,null,null,null,{"$f":"VLOOKUP(DU155,Sprøjte,3)","v":5.3},"ha/time",null,null,"ha/time"]
[]
[null,"Gødningsspreder",null,null,null,null,null,{"$f":"VLOOKUP(EE155,Spreder,4)","v":9},"ha/time",null,null,"ha/time"]
[]
[null,"Gyllevogn",null,null,null,null,null,{"$f":"VLOOKUP(EC155,Gylle,4)","v":60},"ton/time",null,null,"ton/time"]
[]
[null,"Såmaskine",null,null,null,null,null,{"$f":"VLOOKUP(DW155,Såmaskine,3)","v":2.9},"ha/time",null,null,"ha/time"]
[]
[null,"Enkornsåmaskine.",null,null,null,null,null,{"$f":"VLOOKUP(EG155,Enkorn,3)","v":2.6},"ha/time",null,null,"ha/time"]
[]
[null,"Kartoffellægger",null,null,null,null,null,{"$f":"VLOOKUP(EI155,Kartoffellægger,4)","v":0.7},"ha/time",null,null,"ha/time"]
[]
[null,"Mejetærsker",null,null,null,null,null,{"$f":"VLOOKUP(DY155,Mejetærsker,3)","v":1.9},"ha/time",null,null,"ha/time"]
[]
[null,"Halmpresser",null,null,null,null,null,{"$f":"VLOOKUP(EA155,Halmpresser,3)","v":5.3},"ha/time",null,null,"ha/time",{"$f":"VLOOKUP(EA155,Halmpresser,4)","v":3.2},"ha/time (transport)"]
[]
[null,"Kartoffeloptager",null,null,null,null,null,{"$f":"VLOOKUP(EK155,Kartoffeloptager,4)","v":0.8},"ha/time",null,null,"ha/time"]
[]
[null,"Roeoptager",null,null,null,null,null,{"$f":"VLOOKUP(EM155,Roeoptager,4)","v":1.3},"ha/time",null,null,"ha/time"]
[]
[]
[null,"Udskrift (side 3):"]
[]
[null,{"$f":"\"Tidsforbrug (netto) i markbruget \"&Aar","v":"Tidsforbrug (netto) i markbruget 2023"}]
[]
[null,"Nedenfor er beregnet tidsforbruget til jordbearbejdning, såning, gødskning, planteværn, høst og"]
[null,"halmbjærgning. Det er beregnet som netto tidsforbrug. Det vil sige, at klargøring, vedligehold",null,null,null,null,null,null,null,null,null,null,null,null,null,null,null,null,"Tidsforbrug til jordbearbejdning og såning er fordelt på 4 perioder:\nPløjning er fordelt på august (vinterraps), september (vintersæd) og vinter (vårsæd). Såning er fordelt på august (vinterraps), september (vintersæd) og forår (vårsæd). Såbedsharvning er fordelt på samme måde som såning. Harvning efter høst er fordelt efter høstperiode."]
[null,"reparationsarbejde, transporttid og ventetid ikke er indregnet."]
[]
[null,null,null,null,null,{"$f":"F217","v":""},null,{"$f":"I217","v":""}]
[null,"Tidsforbrug (netto) i alt",null,{"$f":"IF(ISERROR(D483+D499+D500+D501+D510),\"\",(D483+D499+D500+D501+D510))","v":""},{"$f":"IF(D473=\"\",\"\",\"timer\")","v":""},null,null,{"$f":"IF(ISERROR(H483+H499+H500+H501+H510),\"\",(H483+H499+H500+H501+H510))","v":""},{"$f":"IF(H473=\"\",\"\",\"timer\")","v":""}]
[null,"Tidsforbrug pr. ha (gns.)",null,{"$f":"IF(ISERROR(D473/D82),\"\",(D473/D82))","v":""},{"$f":"IF(D474=\"\",\"\",\"timer\")","v":""},null,null,{"$f":"IF(ISERROR(H473/D103),\"\",(H473/D103))","v":""},{"$f":"IF(H474=\"\",\"\",\"timer\")","v":""}]
[]
[null,"Tidsforbrug til jordbearbejdning og såning"]
[]
[null,null,null,null,null,{"$f":"F217","v":""},null,{"$f":"I217","v":""}]
[null,"Forår",null,{"$f":"IF($F$217=\"\",\"\",EC173+EF173+EI173+EQ173+ER173)","v":""},{"$f":"IF(D479=\"\",\"\",\"timer\")","v":""},null,null,{"$f":"IF($I$217=\"\",\"\",EC174+EF174+EI174+EQ174+ER174)","v":""},{"$f":"IF(H479=\"\",\"\",\"timer\")","v":""}]
[null,"August",null,{"$f":"IF($F$217=\"\",\"\",DX173+DZ173+EA173+ED173+EG173+EJ173)","v":""},{"$f":"IF(D480=\"\",\"\",\"timer\")","v":""},null,null,{"$f":"IF($I$217=\"\",\"\",DX174+DZ174+EA174+ED174+EG174+EJ174)","v":""},{"$f":"IF(H480=\"\",\"\",\"timer\")","v":""}]
[null,"September",null,{"$f":"IF($F$217=\"\",\"\",DY173+EE173+EH173+EK173)","v":""},{"$f":"IF(D481=\"\",\"\",\"timer\")","v":""},null,null,{"$f":"IF($I$217=\"\",\"\",DY174+EE174+EH174+EK174)","v":""},{"$f":"IF(H481=\"\",\"\",\"timer\")","v":""}]
[null,"Vinter",null,{"$f":"IF($F$217=\"\",\"\",DW173)","v":""},{"$f":"IF(D482=\"\",\"\",\"timer\")","v":""},null,null,{"$f":"IF($I$217=\"\",\"\",DW174)","v":""},{"$f":"IF(H482=\"\",\"\",\"timer\")","v":""}]
[null,"I alt",null,{"$f":"IF($F$217=\"\",\"\",D479+D480+D481+D482)","v":""},{"$f":"IF(D483=\"\",\"\",\"timer\")","v":""},null,null,{"$f":"IF($I$217=\"\",\"\",H479+H480+H481+H482)","v":""},{"$f":"IF(H483=\"\",\"\",\"timer\")","v":""}]
[]
[]
[]
[]
[]
[]
[]
[]
[]
[]
[]
[]
[null,"Tidsforbrug til gødskning og planteværn"]
[]
[null,null,null,null,null,{"$f":"F217","v":""},null,{"$f":"I217","v":""}]
[null,"Handelsgødning",null,{"$f":"IF($F$217=\"\",\"\",EV173)","v":""},{"$f":"IF(D499=\"\",\"\",\"timer\")","v":""},null,null,{"$f":"IF($I$217=\"\",\"\",EV174)","v":""},{"$f":"IF(H499=\"\",\"\",\"timer\")","v":""}]
[null,"Husdyrgødning",null,{"$f":"IF($F$217=\"\",\"\",EW173)","v":""},{"$f":"IF(D500=\"\",\"\",\"timer\")","v":""},null,null,{"$f":"IF($I$217=\"\",\"\",EW174)","v":""},{"$f":"IF(H500=\"\",\"\",\"timer\")","v":""}]
[null,"Planteværn",null,{"$f":"IF($F$217=\"\",\"\",EU173)","v":""},{"$f":"IF(D501=\"\",\"\",\"timer\")","v":""},null,null,{"$f":"IF($I$217=\"\",\"\",EU174)","v":""},{"$f":"IF(H501=\"\",\"\",\"timer\")","v":""}]
[]
[null,{"$f":"IF(HalmJa=1,\"Tidsforbrug til høst (mejetærskning, optagning og halmbjærgning)\",\"Tidsforbrug til høst (mejetærskning og optagning)\")","v":"Tidsforbrug til høst (mejetærskning, optagning og halmbjærgning)"}]
[]
[null,null,null,null,null,{"$f":"F217","v":""},null,{"$f":"I217","v":""}]
[null,"Juli",null,{"$f":"IF($F$217=\"\",\"\",EL173+EO173)","v":""},{"$f":"IF(D506=\"\",\"\",\"timer\")","v":""},null,null,{"$f":"IF($I$217=\"\",\"\",EL174+EO174)","v":""},{"$f":"IF(H506=\"\",\"\",\"timer\")","v":""},null,null,null,null,null,null,null,null,null,"Høst af afgrøder er fordelt på 4 perioder: \nHøst i juli omfatter vinterbyg, vinterraps og tidlig frøgræs.\nHøst i august omfatter kornafgrøderne (undtagen vinterbyg), vårraps og markært samt sildig frøgræs.\nHøst i september omfatter hestebønner og kartofler.\nHøst i oktober omfatter majs til modenhed.\nDer korrigeres automatisk for høstkapaciteten i de enkelte afgrøder (i forhold til vårbyg)."]
[null,"August",null,{"$f":"IF($F$217=\"\",\"\",EM173+EP173)","v":""},{"$f":"IF(D507=\"\",\"\",\"timer\")","v":""},null,null,{"$f":"IF($I$217=\"\",\"\",EM174+EP174)","v":""},{"$f":"IF(H507=\"\",\"\",\"timer\")","v":""}]
[null,"September",null,{"$f":"IF($F$217=\"\",\"\",ES173)","v":""},{"$f":"IF(D508=\"\",\"\",\"timer\")","v":""},null,null,{"$f":"IF($I$217=\"\",\"\",ES174)","v":""},{"$f":"IF(H508=\"\",\"\",\"timer\")","v":""}]
[null,"Oktober",null,{"$f":"IF($F$217=\"\",\"\",EN173+ET173)","v":""},{"$f":"IF(D509=\"\",\"\",\"timer\")","v":""},null,null,{"$f":"IF($I$217=\"\",\"\",EN174+ET174)","v":""},{"$f":"IF(H509=\"\",\"\",\"timer\")","v":""}]
[null,"I alt",null,{"$f":"IF($F$217=\"\",\"\",D506+D507+D509+D508)","v":""},{"$f":"IF(D510=\"\",\"\",\"timer\")","v":""},null,null,{"$f":"IF($I$217=\"\",\"\",H506+H507+H509+H508)","v":""},{"$f":"IF(H510=\"\",\"\",\"timer\")","v":""}]
[]
[]
[]
[]
[]
[]
[]
[]
[]
[]
[]
[]
[]
[]
[]
[]
[]
[]
[]
[]
[]
[]
[]
[]
[]
[]
[]
[]
[]
[]
[]
[]
[]
[]
[]
[]
[null,"Nix pille!"]
[]
[null,"Figuren",null,null,null,null,"Figur jordbearbejdning mv.",null,null,null,"Figur Høst"]
[null,"Afgrøde","DB I","DBII",null,null,null,{"$f":"F217","v":""},{"$f":"I217","v":""},null,null,{"$f":"F217","v":""},{"$f":"I217","v":""}]
[null,{"$f":"F151","v":"Vinterraps"},{"$f":"D167","v":11049.329904761904},{"$f":"D173","v":5911.3299047619039},null,null,"Forår",{"$f":"D479","v":""},{"$f":"H479","v":""},null,"Juli",{"$f":"D506","v":""},{"$f":"H506","v":""}]
[null,{"$f":"I151","v":"Vinterraps"},{"$f":"H167","v":12961.416304761904},{"$f":"H173","v":9864.3383103329343},null,null,"August",{"$f":"D480","v":""},{"$f":"H480","v":""},null,"August",{"$f":"D507","v":""},{"$f":"H507","v":""}]
[null,{"$f":"M151","v":"Vårbyg, foder"},{"$f":"L167","v":10436.043900000001},{"$f":"L173","v":{"$error":"#VALUE!"}},null,null,"September",{"$f":"D481","v":""},{"$f":"H481","v":""},null,"September",{"$f":"D508","v":""},{"$f":"H508","v":""}]
[null,{"$f":"R151","v":0},{"$f":"R167","v":0},{"$f":"R173","v":0},null,null,"Vinter",{"$f":"D482","v":""},{"$f":"H482","v":""},null,"Oktober",{"$f":"D509","v":""},{"$f":"H509","v":""}]
[]
[null,"N-tildeling korrigeret med Kg N/ha pga. ændret udbytte",null,{"$f":"IF(ISNUMBER(D142),(D142-D141)*VLOOKUP(CV139,_Afg07,72,FALSE),0)","v":0},null,null,null,{"$f":"IF(ISNUMBER(H142),(H142-H141)*VLOOKUP(CW139,_Afg07,72,FALSE),0)","v":0},null,null,null,{"$f":"IF(ISNUMBER(L142),(L142-L141)*VLOOKUP(CX139,_Afg07,72,FALSE),0)","v":0}]
[null,"Andel af husdyrgødning indenfor N-norm",null,{"$f":"IFERROR(IF(D559/D560>=1,1,D559/D560),1)","v":1},null,null,null,{"$f":"IFERROR(IF(H559/H560>=1,1,H559/H560),1)","v":1},null,null,null,{"$f":"IFERROR(IF(L559/L560>=1,1,L559/L560),1)","v":1}]
[null,"Beregning af gødningsomkostning"]
[null,"N gødningsbehov, kr",null,{"$f":"IF(Afgnr>1,VLOOKUP(Afgnr,_Afg07,Nnr)*Npris+D556*Npris,0)","v":2520},null,null,null,{"$f":"IF(Alt1nr>1,VLOOKUP(Alt1nr,_Afg07,Nnr)*Npris+H556*Npris,0)","v":2520},null,null,null,{"$f":"IF(Alt2nr>1,VLOOKUP(Alt2nr,_Afg07,Nnr)*Npris+L556*Npris,0)","v":1728}]
[null,"N i husdyrgødning, kr.",null,{"$f":"IF(Hdgnr>1,VLOOKUP(Hdgnr,_Hdg2,4)*Npris,0)","v":270},null,null,null,{"$f":"IF(Hdgnr>1,VLOOKUP(Hdgnr,_Hdg2,4)*Npris,0)","v":270},null,null,null,{"$f":"IF(Hdgnr>1,VLOOKUP(Hdgnr,_Hdg2,4)*Npris,0)","v":270}]
[null,"N gødningsomkostning, kr.",null,{"$f":"IF(D559-D560<0,0,D559-D560)","v":2250},null,null,null,{"$f":"IF(H559-H560<0,0,H559-H560)","v":2250},null,null,null,{"$f":"IF(L559-L560<0,0,L559-L560)","v":1458}]
[]
[null,"P startgødningsbehov1, kr.",null,{"$f":"IF(Afgnr>1,VLOOKUP(Afgnr,_Afg07,$AU$285)*Ppris,0)","v":0},null,null,null,{"$f":"IF(Alt1nr>1,VLOOKUP(Alt1nr,_Afg07,$AU$285)*Ppris,0)","v":0},null,null,null,{"$f":"IF(Alt2nr>1,VLOOKUP(Alt2nr,_Afg07,$AU$285)*Ppris,0)","v":0}]
[null,"P startgødningsbehov2, kr.",null,{"$f":"IF(Afgnr>1,VLOOKUP(Afgnr,_Afg07,$AV$285)*Ppris,0)","v":0},null,null,null,{"$f":"IF(Alt1nr>1,VLOOKUP(Alt1nr,_Afg07,$AV$285)*Ppris,0)","v":0},null,null,null,{"$f":"IF(Alt2nr>1,VLOOKUP(Alt2nr,_Afg07,$AV$285)*Ppris,0)","v":42.5}]
[null,"P-bortførsel-kerne, kr",null,{"$f":"IF(Afgnr>1,D152*VLOOKUP(Afgnr,_Afg07,$AW$285)*Ppris,0)","v":612.61200000000008},null,null,null,{"$f":"IF(Alt1nr>1,H152*VLOOKUP(Alt1nr,_Afg07,$AW$285)*Ppris,0)","v":612.61200000000008},null,null,null,{"$f":"IF(Alt2nr>1,L152*VLOOKUP(Alt2nr,_Afg07,$AW$285)*Ppris,0)","v":356.91500000000002}]
[null,"P-bortførsel-halm, kr.",null,{"$f":"IF(ISERROR(IF(AND(Afgnr>1,HalmJa=1),VLOOKUP(Afgnr,_Afg07,Halmnr)*VLOOKUP(Afgnr,_Afg07,$AX$285)*0.01*Ppris,0)),0,IF(AND(Afgnr>1,HalmJa=1),VLOOKUP(Afgnr,_Afg07,Halmnr)*VLOOKUP(Afgnr,_Afg07,$AX$285)*0.01*Ppris,0))","v":0},null,null,null,{"$f":"IF(ISERROR(IF(AND(Alt1nr>1,HalmJa=1),VLOOKUP(Alt1nr,_Afg07,Halmnr)*VLOOKUP(Alt1nr,_Afg07,$AX$285)*0.01*Ppris,0)),0,IF(AND(Alt1nr>1,HalmJa=1),VLOOKUP(Alt1nr,_Afg07,Halmnr)*VLOOKUP(Alt1nr,_Afg07,$AX$285)*0.01*Ppris,0))","v":0},null,null,null,{"$f":"IF(ISERROR(IF(AND(Alt2nr>1,HalmJa=1),VLOOKUP(Alt2nr,_Afg07,Halmnr)*VLOOKUP(Alt2nr,_Afg07,$AX$285)*0.01*Ppris,0)),0,IF(AND(Alt2nr>1,HalmJa=1),VLOOKUP(Alt2nr,_Afg07,Halmnr)*VLOOKUP(Alt2nr,_Afg07,$AX$285)*0.01*Ppris,0))","v":45.517500000000005}]
[null,"P i husdyrgødning, kr.",null,{"$f":"IF(Hdgnr>1,VLOOKUP(Hdgnr,_Hdg2,5)*Ppris,0)*D557","v":86.699999999999989},null,null,null,{"$f":"IF(Hdgnr>1,VLOOKUP(Hdgnr,_Hdg2,5)*Ppris,0)*H557","v":86.699999999999989},null,null,null,{"$f":"IF(Hdgnr>1,VLOOKUP(Hdgnr,_Hdg2,5)*Ppris,0)*L557","v":86.699999999999989}]
[null,"P gødningsomkostning, kr.",null,{"$f":"D563+IF((D564+D565+D566)>D567,(D564+D565+D566)-D567,0)","v":525.91200000000003},null,null,null,{"$f":"H563+IF((H564+H565+H566)>H567,(H564+H565+H566)-H567,0)","v":525.91200000000003},null,null,null,{"$f":"L563+IF((L564+L565+L566)>L567,(L564+L565+L566)-L567,0)","v":358.23250000000002}]
[]
[null,"K startgødningsbehov, kr.",null,{"$f":"IF(AND(Afgnr>1,OR(CV5=1,CV5=3)),VLOOKUP(Afgnr,_Afg07,$AY$285)*Kpris,0)","v":0},null,null,null,{"$f":"IF(AND(Alt1nr>1,OR(CV5=1,CV5=3)),VLOOKUP(Alt1nr,_Afg07,$AY$285)*Kpris,0)","v":0},null,null,null,{"$f":"IF(AND(Alt2nr>1,OR(CV5=1,CV5=3)),VLOOKUP(Alt2nr,_Afg07,$AY$285)*Kpris,0)","v":0}]
[null,"K-bortførsel-kerne, kr",null,{"$f":"IF(Afgnr>1,D152*VLOOKUP(Afgnr,_Afg07,$AZ$285)*Kpris,0)","v":720.72},null,null,null,{"$f":"IF(Alt1nr>1,H152*VLOOKUP(Alt1nr,_Afg07,$AZ$285)*Kpris,0)","v":720.72},null,null,null,{"$f":"IF(Alt2nr>1,L152*VLOOKUP(Alt2nr,_Afg07,$AZ$285)*Kpris,0)","v":311.61}]
[null,"K-bortførsel-halm, kr.",null,{"$f":"IF(ISERROR(IF(AND(Afgnr>1,HalmJa=1),VLOOKUP(Afgnr,_Afg07,Halmnr)*VLOOKUP(Afgnr,_Afg07,$BA$285)*0.01*Kpris,0)),0,IF(AND(Afgnr>1,HalmJa=1),VLOOKUP(Afgnr,_Afg07,Halmnr)*VLOOKUP(Afgnr,_Afg07,$BA$285)*0.01*Kpris,0))","v":0},null,null,null,{"$f":"IF(ISERROR(IF(AND(Alt1nr>1,HalmJa=1),VLOOKUP(Alt1nr,_Afg07,Halmnr)*VLOOKUP(Alt1nr,_Afg07,$BA$285)*0.01*Kpris,0)),0,IF(AND(Alt1nr>1,HalmJa=1),VLOOKUP(Alt1nr,_Afg07,Halmnr)*VLOOKUP(Alt1nr,_Afg07,$BA$285)*0.01*Kpris,0))","v":0},null,null,null,{"$f":"IF(ISERROR(IF(AND(Alt2nr>1,HalmJa=1),VLOOKUP(Alt2nr,_Afg07,Halmnr)*VLOOKUP(Alt2nr,_Afg07,$BA$285)*0.01*Kpris,0)),0,IF(AND(Alt2nr>1,HalmJa=1),VLOOKUP(Alt2nr,_Afg07,Halmnr)*VLOOKUP(Alt2nr,_Afg07,$BA$285)*0.01*Kpris,0))","v":428.40000000000003}]
[null,"K i husdyrgødning, kr.",null,{"$f":"IF(Hdgnr>1,VLOOKUP(Hdgnr,_Hdg2,6)*Kpris,0)*D557","v":241.2},null,null,null,{"$f":"IF(Hdgnr>1,VLOOKUP(Hdgnr,_Hdg2,6)*Kpris,0)*H557","v":241.2},null,null,null,{"$f":"IF(Hdgnr>1,VLOOKUP(Hdgnr,_Hdg2,6)*Kpris,0)*L557","v":241.2}]
[null,"K gødningsomkostning, kr.",null,{"$f":"D569+IF((D570+D571+D572)>D573,(D570+D571+D572)-D573,0)","v":479.52000000000004},null,null,null,{"$f":"H569+IF((H570+H571+H572)>H573,(H570+H571+H572)-H573,0)","v":479.52000000000004},null,null,null,{"$f":"L569+IF((L570+L571+L572)>L573,(L570+L571+L572)-L573,0)","v":498.81}]
[]
[null,"Gødning i alt, kr",null,{"$f":"IF(ISERROR(D561+D568+D574),0,(D561+D568+D574))","v":3255.4320000000002},null,null,null,{"$f":"IF(ISERROR(H561+H568+H574),0,(H561+H568+H574))","v":3255.4320000000002},null,null,null,{"$f":"IF(ISERROR(L561+L568+L574),0,(L561+L568+L574))","v":2315.0425}]
[]
[null,"Udgifter foderkorn"]
[null,"Udsæd",null,{"$f":"IF(Afgnr>1,IF(VLOOKUP(Afgnr,_Afg07,$BU$285)=1,VLOOKUP(Afgnr,_Afg07,$AL$285),IF(VLOOKUP(Afgnr,_Afg07,$BU$285)=3,VLOOKUP(1,Foderkorn,$AL$285),IF(VLOOKUP(Afgnr,_Afg07,$BU$285)=4,VLOOKUP(2,Foderkorn,$AL$285),0))),0)","v":0},null,null,null,{"$f":"IF(Alt1nr>1,IF(VLOOKUP(Alt1nr,_Afg07,$BU$285)=1,VLOOKUP(Alt1nr,_Afg07,$AL$285),IF(VLOOKUP(Alt1nr,_Afg07,$BU$285)=3,VLOOKUP(1,Foderkorn,$AL$285),IF(VLOOKUP(Alt1nr,_Afg07,$BU$285)=4,VLOOKUP(2,Foderkorn,$AL$285),0))),0)","v":0},null,null,null,{"$f":"IF(Alt2nr>1,IF(VLOOKUP(Alt2nr,_Afg07,$BU$285)=1,VLOOKUP(Alt1nr,_Afg07,$AL$285),IF(VLOOKUP(Alt2nr,_Afg07,$BU$285)=3,VLOOKUP(1,Foderkorn,$AL$285),IF(VLOOKUP(Alt2nr,_Afg07,$BU$285)=4,VLOOKUP(2,Foderkorn,$AL$285),0))),0)","v":550}]
[null,"Planteværn",null,{"$f":"IF(Afgnr>1,IF(VLOOKUP(Afgnr,_Afg07,$BU$285)=1,VLOOKUP(Afgnr,_Afg07,$AM$285),IF(VLOOKUP(Afgnr,_Afg07,$BU$285)=3,VLOOKUP(1,Foderkorn,$AM$285),IF(VLOOKUP(Afgnr,_Afg07,$BU$285)=4,VLOOKUP(2,Foderkorn,$AM$285),0))),0)","v":0},null,null,null,{"$f":"IF(Alt1nr>1,IF(VLOOKUP(Alt1nr,_Afg07,$BU$285)=1,VLOOKUP(Alt1nr,_Afg07,$AM$285),IF(VLOOKUP(Alt1nr,_Afg07,$BU$285)=3,VLOOKUP(1,Foderkorn,$AM$285),IF(VLOOKUP(Alt1nr,_Afg07,$BU$285)=4,VLOOKUP(2,Foderkorn,$AM$285),0))),0)","v":0},null,null,null,{"$f":"IF(Alt2nr>1,IF(VLOOKUP(Alt2nr,_Afg07,$BU$285)=1,VLOOKUP(Alt2nr,_Afg07,$AM$285),IF(VLOOKUP(Alt2nr,_Afg07,$BU$285)=3,VLOOKUP(1,Foderkorn,$AM$285),IF(VLOOKUP(Alt2nr,_Afg07,$BU$285)=4,VLOOKUP(2,Foderkorn,$AM$285),0))),0)","v":340}]
[]
[null,"N gødningsbehov, kr (foderkorn)",null,{"$f":"IF(Afgnr>1,IF(VLOOKUP(Afgnr,_Afg07,$BU$285)=1,VLOOKUP(Afgnr,_Afg07,Nnr)*Npris,IF(VLOOKUP(Afgnr,_Afg07,$BU$285)=3,VLOOKUP(1,Foderkorn,Nnr)*Npris,IF(VLOOKUP(Afgnr,_Afg07,$BU$285)=4,VLOOKUP(2,Foderkorn,Nnr)*Npris,0))),0)","v":0},null,null,null,{"$f":"IF(Alt1nr>1,IF(VLOOKUP(Alt1nr,_Afg07,$BU$285)=1,VLOOKUP(Alt1nr,_Afg07,Nnr)*Npris,IF(VLOOKUP(Alt1nr,_Afg07,$BU$285)=3,VLOOKUP(1,Foderkorn,Nnr)*Npris,IF(VLOOKUP(Alt1nr,_Afg07,$BU$285)=4,VLOOKUP(2,Foderkorn,Nnr)*Npris,0))),0)","v":0},null,null,null,{"$f":"IF(Alt2nr>1,IF(VLOOKUP(Alt2nr,_Afg07,$BU$285)=1,VLOOKUP(Alt2nr,_Afg07,Nnr)*Npris,IF(VLOOKUP(Alt2nr,_Afg07,$BU$285)=3,VLOOKUP(1,Foderkorn,Nnr)*Npris,IF(VLOOKUP(Alt2nr,_Afg07,$BU$285)=4,VLOOKUP(2,Foderkorn,Nnr)*Npris,0))),0)","v":1728}]
[null,"N i husdyrgødning, kr.",null,{"$f":"IF(Hdgnr>1,VLOOKUP(Hdgnr,_Hdg2,4)*Npris,0)","v":270},null,null,null,{"$f":"IF(Hdgnr>1,VLOOKUP(Hdgnr,_Hdg2,4)*Npris,0)","v":270},null,null,null,{"$f":"IF(Hdgnr>1,VLOOKUP(Hdgnr,_Hdg2,4)*Npris,0)","v":270}]
[null,"N gødningsomkostning, kr.",null,{"$f":"IF(D582-D583<0,0,D582-D583)","v":0},null,null,null,{"$f":"IF(H582-H583<0,0,H582-H583)","v":0},null,null,null,{"$f":"IF(L582-L583<0,0,L582-L583)","v":1458}]
[]
[null,"P startgødningsbehov1, kr.",null,{"$f":"IF(Afgnr>1,IF(VLOOKUP(Afgnr,_Afg07,$BU$285)=1,VLOOKUP(Afgnr,_Afg07,$AU$285)*Ppris,IF(VLOOKUP(Afgnr,_Afg07,$BU$285)=3,VLOOKUP(1,Foderkorn,$AU$285)*Ppris,IF(VLOOKUP(Afgnr,_Afg07,$BU$285)=4,VLOOKUP(2,Foderkorn,$AU$285)*Ppris,0))),0)","v":0},null,null,null,{"$f":"IF(Alt1nr>1,IF(VLOOKUP(Alt1nr,_Afg07,$BU$285)=1,VLOOKUP(Alt1nr,_Afg07,$AU$285)*Ppris,IF(VLOOKUP(Alt1nr,_Afg07,$BU$285)=3,VLOOKUP(1,Foderkorn,$AU$285)*Ppris,IF(VLOOKUP(Alt1nr,_Afg07,$BU$285)=4,VLOOKUP(2,Foderkorn,$AU$285)*Ppris,0))),0)","v":0},null,null,null,{"$f":"IF(Alt2nr>1,IF(VLOOKUP(Alt2nr,_Afg07,$BU$285)=1,VLOOKUP(Alt2nr,_Afg07,$AU$285)*Ppris,IF(VLOOKUP(Alt2nr,_Afg07,$BU$285)=3,VLOOKUP(1,Foderkorn,$AU$285)*Ppris,IF(VLOOKUP(Alt2nr,_Afg07,$BU$285)=4,VLOOKUP(2,Foderkorn,$AU$285)*Ppris,0))),0)","v":0}]
[null,"P startgødningsbehov2, kr.",null,{"$f":"IF(Afgnr>1,IF(VLOOKUP(Afgnr,_Afg07,$BU$285)=1,VLOOKUP(Afgnr,_Afg07,$AV$285)*Ppris,IF(VLOOKUP(Afgnr,_Afg07,$BU$285)=3,VLOOKUP(1,Foderkorn,$AV$285)*Ppris,IF(VLOOKUP(Afgnr,_Afg07,$BU$285)=4,VLOOKUP(2,Foderkorn,$AV$285)*Ppris,0))),0)","v":0},null,null,null,{"$f":"IF(Alt1nr>1,IF(VLOOKUP(Alt1nr,_Afg07,$BU$285)=1,VLOOKUP(Alt1nr,_Afg07,$AV$285)*Ppris,IF(VLOOKUP(Alt1nr,_Afg07,$BU$285)=3,VLOOKUP(1,Foderkorn,$AV$285)*Ppris,IF(VLOOKUP(Alt1nr,_Afg07,$BU$285)=4,VLOOKUP(2,Foderkorn,$AV$285)*Ppris,0))),0)","v":0},null,null,null,{"$f":"IF(Alt2nr>1,IF(VLOOKUP(Alt2nr,_Afg07,$BU$285)=1,VLOOKUP(Alt2nr,_Afg07,$AV$285)*Ppris,IF(VLOOKUP(Alt2nr,_Afg07,$BU$285)=3,VLOOKUP(1,Foderkorn,$AV$285)*Ppris,IF(VLOOKUP(Alt2nr,_Afg07,$BU$285)=4,VLOOKUP(2,Foderkorn,$AV$285)*Ppris,0))),0)","v":42.5}]
[null,"P-bortførsel-kerne, kr",null,{"$f":"IF(Afgnr>1,IF(VLOOKUP(Afgnr,_Afg07,$BU$285)=1,D$152*VLOOKUP(Afgnr,_Afg07,$AW$285)*Ppris,IF(VLOOKUP(Afgnr,_Afg07,$BU$285)=3,$DB$173*VLOOKUP(1,Foderkorn,$AW$285)*Ppris,IF(VLOOKUP(Afgnr,_Afg07,$BU$285)=4,$DB$174*VLOOKUP(2,Foderkorn,$AW$285)*Ppris,0))),0)","v":0},null,null,null,{"$f":"IF(Alt1nr>1,IF(VLOOKUP(Alt1nr,_Afg07,$BU$285)=1,H$152*VLOOKUP(Alt1nr,_Afg07,$AW$285)*Ppris,IF(VLOOKUP(Alt1nr,_Afg07,$BU$285)=3,$DB$173*VLOOKUP(1,Foderkorn,$AW$285)*Ppris,IF(VLOOKUP(Alt1nr,_Afg07,$BU$285)=4,$DB$174*VLOOKUP(2,Foderkorn,$AW$285)*Ppris,0))),0)","v":0},null,null,null,{"$f":"IF(Alt2nr>1,IF(VLOOKUP(Alt2nr,_Afg07,$BU$285)=1,L$152*VLOOKUP(Alt2nr,_Afg07,$AW$285)*Ppris,IF(VLOOKUP(Alt2nr,_Afg07,$BU$285)=3,$DB$173*VLOOKUP(1,Foderkorn,$AW$285)*Ppris,IF(VLOOKUP(Alt2nr,_Afg07,$BU$285)=4,$DB$174*VLOOKUP(2,Foderkorn,$AW$285)*Ppris,0))),0)","v":356.91500000000002}]
[null,"P-bortførsel-halm, kr.",null,{"$f":"IF(AND(Afgnr>1,HalmJa=1),IF(VLOOKUP(Afgnr,_Afg07,$BU$285)=1,VLOOKUP(Afgnr,_Afg07,Halmnr)*VLOOKUP(Afgnr,_Afg07,$AX$285)*0.01*Ppris,IF(VLOOKUP(Afgnr,_Afg07,$BU$285)=3,VLOOKUP(1,Foderkorn,Halmnr)*VLOOKUP(1,Foderkorn,$AX$285)*0.01*Ppris,IF(VLOOKUP(Afgnr,_Afg07,$BU$285)=4,VLOOKUP(2,Foderkorn,Halmnr)*VLOOKUP(2,Foderkorn,$AX$285)*0.01*Ppris,0))),0)","v":0},null,null,null,{"$f":"IF(AND(Alt1nr>1,HalmJa=1),IF(VLOOKUP(Alt1nr,_Afg07,$BU$285)=1,VLOOKUP(Alt1nr,_Afg07,Halmnr)*VLOOKUP(Alt1nr,_Afg07,$AX$285)*0.01*Ppris,IF(VLOOKUP(Alt1nr,_Afg07,$BU$285)=3,VLOOKUP(1,Foderkorn,Halmnr)*VLOOKUP(1,Foderkorn,$AX$285)*0.01*Ppris,IF(VLOOKUP(Alt1nr,_Afg07,$BU$285)=4,VLOOKUP(2,Foderkorn,Halmnr)*VLOOKUP(2,Foderkorn,$AX$285)*0.01*Ppris,0))),0)","v":0},null,null,null,{"$f":"IF(AND(Alt2nr>1,HalmJa=1),IF(VLOOKUP(Alt2nr,_Afg07,$BU$285)=1,VLOOKUP(Alt2nr,_Afg07,Halmnr)*VLOOKUP(Alt2nr,_Afg07,$AX$285)*0.01*Ppris,IF(VLOOKUP(Alt2nr,_Afg07,$BU$285)=3,VLOOKUP(1,Foderkorn,Halmnr)*VLOOKUP(1,Foderkorn,$AX$285)*0.01*Ppris,IF(VLOOKUP(Alt2nr,_Afg07,$BU$285)=4,VLOOKUP(2,Foderkorn,Halmnr)*VLOOKUP(2,Foderkorn,$AX$285)*0.01*Ppris,0))),0)","v":45.517500000000005}]
[null,"P i husdyrgødning, kr.",null,{"$f":"IF(Hdgnr>1,VLOOKUP(Hdgnr,_Hdg2,5)*Ppris,0)","v":86.699999999999989},null,null,null,{"$f":"IF(Hdgnr>1,VLOOKUP(Hdgnr,_Hdg2,5)*Ppris,0)","v":86.699999999999989},null,null,null,{"$f":"IF(Hdgnr>1,VLOOKUP(Hdgnr,_Hdg2,5)*Ppris,0)","v":86.699999999999989}]
[null,"P gødningsomkostning, kr.",null,{"$f":"D586+IF((D587+D588+D589)>D590,(D587+D588+D589)-D590,0)","v":0},null,null,null,{"$f":"H586+IF((H587+H588+H589)>H590,(H587+H588+H589)-H590,0)","v":0},null,null,null,{"$f":"L586+IF((L587+L588+L589)>L590,(L587+L588+L589)-L590,0)","v":358.23250000000002}]
[]
[null,"K startgødningsbehov, kr.",null,{"$f":"IF(AND(Afgnr>1,OR($CV$5=1,$CV$5=3)),IF(VLOOKUP(Afgnr,_Afg07,$BU$285)=1,VLOOKUP(Afgnr,_Afg07,$AY$285)*Kpris,IF(VLOOKUP(Afgnr,_Afg07,$BU$285)=3,VLOOKUP(1,Foderkorn,$AY$285)*Kpris,IF(VLOOKUP(Afgnr,_Afg07,$BU$285)=4,VLOOKUP(2,Foderkorn,$AY$285)*Kpris,0))),0)","v":0},null,null,null,{"$f":"IF(AND(Alt1nr>1,OR($CV$5=1,$CV$5=3)),IF(VLOOKUP(Alt1nr,_Afg07,$BU$285)=1,VLOOKUP(Alt1nr,_Afg07,$AY$285)*Kpris,IF(VLOOKUP(Alt1nr,_Afg07,$BU$285)=3,VLOOKUP(1,Foderkorn,$AY$285)*Kpris,IF(VLOOKUP(Alt1nr,_Afg07,$BU$285)=4,VLOOKUP(2,Foderkorn,$AY$285)*Kpris,0))),0)","v":0},null,null,null,{"$f":"IF(AND(Alt2nr>1,OR($CV$5=1,$CV$5=3)),IF(VLOOKUP(Alt2nr,_Afg07,$BU$285)=1,VLOOKUP(Alt2nr,_Afg07,$AY$285)*Kpris,IF(VLOOKUP(Alt2nr,_Afg07,$BU$285)=3,VLOOKUP(1,Foderkorn,$AY$285)*Kpris,IF(VLOOKUP(Alt2nr,_Afg07,$BU$285)=4,VLOOKUP(2,Foderkorn,$AY$285)*Kpris,0))),0)","v":0}]
[null,"K-bortførsel-kerne, kr",null,{"$f":"IF(Afgnr>1,IF(VLOOKUP(Afgnr,_Afg07,$BU$285)=1,D$152*VLOOKUP(Afgnr,_Afg07,$AZ$285)*Kpris,IF(VLOOKUP(Afgnr,_Afg07,$BU$285)=3,$DB$173*VLOOKUP(1,Foderkorn,$AZ$285)*Kpris,IF(VLOOKUP(Afgnr,_Afg07,$BU$285)=4,$DB$174*VLOOKUP(2,Foderkorn,$AZ$285)*Kpris,0))),0)","v":0},null,null,null,{"$f":"IF(Alt1nr>1,IF(VLOOKUP(Alt1nr,_Afg07,$BU$285)=1,H$152*VLOOKUP(Alt1nr,_Afg07,$AZ$285)*Kpris,IF(VLOOKUP(Alt1nr,_Afg07,$BU$285)=3,$DB$173*VLOOKUP(1,Foderkorn,$AZ$285)*Kpris,IF(VLOOKUP(Alt1nr,_Afg07,$BU$285)=4,$DB$174*VLOOKUP(2,Foderkorn,$AZ$285)*Kpris,0))),0)","v":0},null,null,null,{"$f":"IF(Alt2nr>1,IF(VLOOKUP(Alt2nr,_Afg07,$BU$285)=1,L$152*VLOOKUP(Alt2nr,_Afg07,$AZ$285)*Kpris,IF(VLOOKUP(Alt2nr,_Afg07,$BU$285)=3,$DB$173*VLOOKUP(1,Foderkorn,$AZ$285)*Kpris,IF(VLOOKUP(Alt2nr,_Afg07,$BU$285)=4,$DB$174*VLOOKUP(2,Foderkorn,$AZ$285)*Kpris,0))),0)","v":311.61}]
[null,"K-bortførsel-halm, kr.",null,{"$f":"IF(AND(Afgnr>1,HalmJa=1),IF(VLOOKUP(Afgnr,_Afg07,$BU$285)=1,VLOOKUP(Afgnr,_Afg07,Halmnr)*VLOOKUP(Afgnr,_Afg07,$BA$285)*0.01*Kpris,IF(VLOOKUP(Afgnr,_Afg07,$BU$285)=3,VLOOKUP(1,Foderkorn,Halmnr)*VLOOKUP(1,Foderkorn,$BA$285)*0.01*Kpris,IF(VLOOKUP(Afgnr,_Afg07,$BU$285)=4,VLOOKUP(2,Foderkorn,Halmnr)*VLOOKUP(2,Foderkorn,$BA$285)*0.01*Kpris,0))),0)","v":0},null,null,null,{"$f":"IF(AND(Alt1nr>1,HalmJa=1),IF(VLOOKUP(Alt1nr,_Afg07,$BU$285)=1,VLOOKUP(Alt1nr,_Afg07,Halmnr)*VLOOKUP(Alt1nr,_Afg07,$BA$285)*0.01*Kpris,IF(VLOOKUP(Alt1nr,_Afg07,$BU$285)=3,VLOOKUP(1,Foderkorn,Halmnr)*VLOOKUP(1,Foderkorn,$BA$285)*0.01*Kpris,IF(VLOOKUP(Alt1nr,_Afg07,$BU$285)=4,VLOOKUP(2,Foderkorn,Halmnr)*VLOOKUP(2,Foderkorn,$BA$285)*0.01*Kpris,0))),0)","v":0},null,null,null,{"$f":"IF(AND(Alt2nr>1,HalmJa=1),IF(VLOOKUP(Alt2nr,_Afg07,$BU$285)=1,VLOOKUP(Alt2nr,_Afg07,Halmnr)*VLOOKUP(Alt2nr,_Afg07,$BA$285)*0.01*Kpris,IF(VLOOKUP(Alt2nr,_Afg07,$BU$285)=3,VLOOKUP(1,Foderkorn,Halmnr)*VLOOKUP(1,Foderkorn,$BA$285)*0.01*Kpris,IF(VLOOKUP(Alt2nr,_Afg07,$BU$285)=4,VLOOKUP(2,Foderkorn,Halmnr)*VLOOKUP(2,Foderkorn,$BA$285)*0.01*Kpris,0))),0)","v":428.40000000000003}]
[null,"K i husdyrgødning, kr.",null,{"$f":"IF(Hdgnr>1,VLOOKUP(Hdgnr,_Hdg2,6)*Kpris,0)","v":241.2},null,null,null,{"$f":"IF(Hdgnr>1,VLOOKUP(Hdgnr,_Hdg2,6)*Kpris,0)","v":241.2},null,null,null,{"$f":"IF(Hdgnr>1,VLOOKUP(Hdgnr,_Hdg2,6)*Kpris,0)","v":241.2}]
[null,"K gødningsomkostning, kr.",null,{"$f":"D592+IF((D593+D594+D595)>D596,(D593+D594+D595)-D596,0)","v":0},null,null,null,{"$f":"H592+IF((H593+H594+H595)>H596,(H593+H594+H595)-H596,0)","v":0},null,null,null,{"$f":"L592+IF((L593+L594+L595)>L596,(L593+L594+L595)-L596,0)","v":498.81}]
[]
[null,"Gødning i alt, kr",null,{"$f":"IF(ISERROR(D584+D591+D597),0,(D584+D591+D597))","v":0},null,null,null,{"$f":"IF(ISERROR(H584+H591+H597),0,(H584+H591+H597))","v":0},null,null,null,{"$f":"IF(ISERROR(L584+L591+L597),0,(L584+L591+L597))","v":2315.0425}]
[]
[null,"Diverse styk",null,{"$f":"IF(Afgnr>1,IF(VLOOKUP(Afgnr,_Afg07,$BU$285)=1,VLOOKUP(Afgnr,_Afg07,$AN$285)+D$152*VLOOKUP(Afgnr,_Afg07,$BB$285),IF(VLOOKUP(Afgnr,_Afg07,$BU$285)=3,VLOOKUP(1,Foderkorn,$AN$285)+$DB$173*VLOOKUP(1,Foderkorn,$BB$285),IF(VLOOKUP(Afgnr,_Afg07,$BU$285)=4,VLOOKUP(2,Foderkorn,$AN$285)+$DB$174*VLOOKUP(2,Foderkorn,$BB$285),0))),0)","v":0},null,null,null,{"$f":"IF(Alt1nr>1,IF(VLOOKUP(Alt1nr,_Afg07,$BU$285)=1,VLOOKUP(Alt1nr,_Afg07,$AN$285)+H$152*VLOOKUP(Alt1nr,_Afg07,$BB$285),IF(VLOOKUP(Alt1nr,_Afg07,$BU$285)=3,VLOOKUP(1,Foderkorn,$AN$285)+$DB$173*VLOOKUP(1,Foderkorn,$BB$285),IF(VLOOKUP(Alt1nr,_Afg07,$BU$285)=4,VLOOKUP(2,Foderkorn,$AN$285)+$DB$174*VLOOKUP(2,Foderkorn,$BB$285),0))),0)","v":0},null,null,null,{"$f":"IF(Alt2nr>1,IF(VLOOKUP(Alt2nr,_Afg07,$BU$285)=1,VLOOKUP(Alt2nr,_Afg07,$AN$285)+L$152*VLOOKUP(Alt2nr,_Afg07,$BB$285),IF(VLOOKUP(Alt2nr,_Afg07,$BU$285)=3,VLOOKUP(1,Foderkorn,$AN$285)+$DB$173*VLOOKUP(1,Foderkorn,$BB$285),IF(VLOOKUP(Alt2nr,_Afg07,$BU$285)=4,VLOOKUP(2,Foderkorn,$AN$285)+$DB$174*VLOOKUP(2,Foderkorn,$BB$285),0))),0)","v":0}]
[]
[null,"Maskiner og arbejde",null,{"$f":"IF(Afgnr>1,IF(VLOOKUP(Afgnr,_Afg07,$BU$285)=1,VLOOKUP(Afgnr,_Afg07,$CX$7),IF(VLOOKUP(Afgnr,_Afg07,$BU$285)=3,VLOOKUP(1,Foderkorn,$CX$7),IF(VLOOKUP(Afgnr,_Afg07,$BU$285)=4,VLOOKUP(2,Foderkorn,$CX$7),0))),0)","v":0},null,null,null,{"$f":"IF(Alt1nr>1,IF(VLOOKUP(Alt1nr,_Afg07,$BU$285)=1,VLOOKUP(Alt1nr,_Afg07,$CX$7),IF(VLOOKUP(Alt1nr,_Afg07,$BU$285)=3,VLOOKUP(1,Foderkorn,$CX$7),IF(VLOOKUP(Alt1nr,_Afg07,$BU$285)=4,VLOOKUP(2,Foderkorn,$CX$7),0))),0)","v":0},null,null,null,{"$f":"IF(Alt2nr>1,IF(VLOOKUP(Alt2nr,_Afg07,$BU$285)=1,VLOOKUP(Alt2nr,_Afg07,$CX$7),IF(VLOOKUP(Alt2nr,_Afg07,$BU$285)=3,VLOOKUP(1,Foderkorn,$CX$7),IF(VLOOKUP(Alt2nr,_Afg07,$BU$285)=4,VLOOKUP(2,Foderkorn,$CX$7),0))),0)","v":4579}]
[]
[null,"Tørring",null,{"$f":"IF(AND(Afgnr>1,$CY$5<>4),IF(VLOOKUP(Afgnr,_Afg07,$BU$285)=1,VLOOKUP(Afgnr,_Afg07,Tørrenr)*D$152,IF(VLOOKUP(Afgnr,_Afg07,$BU$285)=3,VLOOKUP(1,Foderkorn,Tørrenr)*$DB$173,IF(VLOOKUP(Afgnr,_Afg07,$BU$285)=4,VLOOKUP(2,Foderkorn,Tørrenr)*$DB$174,))),0)","v":0},null,null,null,{"$f":"IF(AND(Alt1nr>1,$CY$5<>4),IF(VLOOKUP(Alt1nr,_Afg07,$BU$285)=1,VLOOKUP(Alt1nr,_Afg07,Tørrenr)*H$152,IF(VLOOKUP(Alt1nr,_Afg07,$BU$285)=3,VLOOKUP(1,Foderkorn,Tørrenr)*$DB$173,IF(VLOOKUP(Alt1nr,_Afg07,$BU$285)=4,VLOOKUP(2,Foderkorn,Tørrenr)*$DB$174,))),0)","v":0},null,null,null,{"$f":"IF(AND(Alt2nr>1,$CY$5<>4),IF(VLOOKUP(Alt2nr,_Afg07,$BU$285)=1,VLOOKUP(Alt2nr,_Afg07,Tørrenr)*L$152,IF(VLOOKUP(Alt2nr,_Afg07,$BU$285)=3,VLOOKUP(1,Foderkorn,Tørrenr)*$DB$173,IF(VLOOKUP(Alt2nr,_Afg07,$BU$285)=4,VLOOKUP(2,Foderkorn,Tørrenr)*$DB$174,))),0)","v":780}]
[]
[null,"Alle omkostninger, foderkorn",null,{"$f":"D579+D580+D599+D601+D603+D605","v":0},null,null,null,{"$f":"H579+H580+H599+H601+H603+H605","v":0},null,null,null,{"$f":"L579+L580+L599+L601+L603+L605","v":8564.0424999999996}]

{"sheet":"Ark2","index":2,"n_rows":373,"n_cols":50,"rows_kept":373,"cut":false,"hidden":false,"merged":[[76,11,77,16],[81,11,82,16],[61,11,62,16],[66,11,67,16],[40,11,41,16],[45,11,46,16],[200,7,202,12],[122,11,123,16],[158,6,158,7],[146,9,146,10],[160,6,160,7],[53,2,53,8],[210,7,212,12],[96,0,97,1],[107,0,109,0],[112,0,114,0],[117,0,119,0],[122,0,124,0],[71,11,72,16],[117,11,118,16],[148,9,148,10],[127,11,128,16],[132,11,133,16],[137,11,138,16],[158,9,158,10],[146,6,146,7],[148,6,148,7],[150,6,150,7],[152,6,152,7],[154,6,154,7],[156,6,156,7],[156,9,156,10],[150,9,150,10],[152,9,152,10],[154,9,154,10],[99,2,99,8],[0,0,0,16],[5,18,18,26],[195,7,197,12],[71,0,73,0],[76,0,78,0],[81,0,83,0],[86,0,88,0],[91,0,93,0],[50,0,51,1],[4,0,5,1],[15,0,17,0],[20,0,22,0],[61,0,63,0],[15,11,16,16],[20,11,21,16],[25,11,26,16],[30,11,31,16],[35,11,36,16],[25,0,27,0],[30,0,32,0],[35,0,37,0],[40,0,42,0],[45,0,47,0],[7,2,7,8],[372,7,372,8],[364,10,364,11],[366,10,366,11],[368,10,368,11],[370,10,370,11],[372,10,372,11],[362,10,362,11],[362,7,362,8],[364,7,364,8],[366,7,366,8],[368,7,368,8],[370,7,370,8],[362,4,362,5],[364,4,364,5],[366,4,366,5],[368,4,368,5],[370,4,370,5],[372,4,372,5],[127,0,129,0],[132,0,134,0],[137,0,139,0],[185,0,187,0],[190,0,192,0],[195,0,197,0],[200,0,202,0],[205,0,207,0],[180,2,180,8],[190,7,192,12],[210,0,212,0],[215,0,217,0],[228,0,230,0],[233,0,235,0],[238,0,240,0],[313,6,313,7],[215,7,217,12],[228,7,230,12],[317,6,317,7],[317,9,317,10],[301,7,303,12],[291,7,293,12],[276,7,278,12],[281,7,283,12],[286,7,288,12],[296,7,298,12],[233,7,235,12],[238,7,240,12],[266,2,266,8],[243,7,245,12],[248,7,250,12],[253,7,255,12],[258,7,260,12],[271,7,273,12],[61,18,62,26],[315,6,315,7],[315,9,315,10],[313,9,313,10],[276,0,278,0],[281,0,283,0],[286,0,288,0],[291,0,293,0],[296,0,298,0],[301,0,303,0],[243,0,245,0],[248,0,250,0],[253,0,255,0],[258,0,260,0],[271,0,273,0],[66,0,68,0],[223,2,223,8],[160,9,160,10],[185,7,187,12],[205,7,207,12],[86,11,87,16],[91,11,92,16],[107,11,108,16],[112,11,113,16],[342,9,342,10],[344,9,344,10],[327,6,327,7],[327,9,327,10],[319,9,319,10],[329,9,329,10],[340,9,340,10],[321,6,321,7],[323,6,323,7],[323,9,323,10],[325,6,325,7],[325,9,325,10],[321,9,321,10],[319,6,319,7]]}
["Sædskifteplan m. foderproduktion. Foderbehov (korn)."]
[]
["Bemærk at nedenstående beregninger tager ikke hensyn til \"Egen afgrøde\""]
[]
["Delsædskifte 1"]
[null,null,null,null,null,null,null,null,null,null,null,null,null,null,null,null,null,null,"Dette regneark kan anvendes til at udarbejde en sædskifteplan med op til 3 delsædskifter.\n\nFoderproduktionen (korn til svin) bliver beregnet ud fra sædskifteplanen.\n\nI regnearket kan man endvidere beregne foderbehovet (korn til svin). Foderbehovet fordeles på kornarter.\n\nDu kan angive både afgrøder og efterafgrøde.\nMan kan også dele arealet melem 2 afgrøder.\n"]
[]
[null,"Marker/ejendomme:",null,null,null,null,null,null,null,null,null,null,null,null,null,null,null,null,null,null,null,null,null,null,null,null,null,null,null,null,null,null,"Udbyttenr2"]
[]
[null,"Jordtype",null,null,null,null,null,null,null,null,null,null,null,null,null,null,null,null,null,null,null,null,null,null,null,null,null,null,null,null,null,4,{"$f":"IF(AF10=1,5,IF(AF10=2,6,IF(AF10=3,7,IF(AF10=4,8,IF(AF10=5,9,\"\")))))","v":8},"Areal",null,null,null,null,"Database"]
[null,null,null,null,null,null,null,null,null,null,null,null,null,null,null,null,null,null,null,null,null,null,null,null,null,null,null,null,null,null,null,null,null,"til fordeling","Fordelt_areal"]
[null,"Samlet areal",null,"ha",null,null,null,null,null,null,null,null,null,null,null,null,null,null,null,null,null,null,null,null,null,null,null,null,null,null,null,null,null,{"$f":"C12-AH50","v":0},{"$f":"Areal_fordel/Antal_skifter","v":{"$error":"#DIV/0!"}}]
[]
["Afgrødefølge",null,"  Areal",null,null,null," Udbytte pr. ha",null,null,null,null,"Kommentarer",null,null,null,null,null,null,null,null,null,null,null,null,null,null,null,null,null,null,null,null,"Antal","Areal","Efter-","Areal",null,null,"Afgnr","Areal","Udbyt_ha","Udbyt_alt","Efterafgrøde"]
[null,null,null,null,null,null,null,null,null,null,null,null,null,null,null,null,null,null,null,null,null,null,null,null,null,null,null,null,null,null,"Afgrødefølge",null,"skifter","indtastet","afgrøde","indtastet efterafgrøde"]
[1,null,{"$f":"IF(E16>0,\"\",IF(AND(AF16>1,AF18>1,AI16+AI18=0),Fordelt_areal/2,IF(AF16>1,Fordelt_areal,\"\")))","v":""},{"$f":"IF(C16<>\"\",\"ha\",\"\")","v":""},null,"ha",{"$f":"IF(I16<>\"\",\"\",IF(VLOOKUP(AF16,_Afg07,Udbyttenr2)=0,\"\",VLOOKUP(AF16,_Afg07,Udbyttenr2)))","v":""},{"$f":"IF(G16=\"\",\"\",IF(AF16>1,IF(VLOOKUP(AF16,_Afg07,3)<>\"\",VLOOKUP(AF16,_Afg07,3),\"\"),\"\"))","v":""},null,"hkg",null,null,null,null,null,null,null,null,null,null,null,null,null,null,null,null,null,null,null,null,{"$f":"A16","v":1},1,{"$f":"IF(AND(AF16>1,AH16=0),1,0)","v":0},{"$f":"IF(AND(E16<>\"\",VLOOKUP(AF16,_Afg07,3)<>\"\"),E16,0)","v":0},{"$f":"IF(AND(AF16>1,VLOOKUP(AF16,_Afg07,3)=\"\"),1,0)","v":0},{"$f":"IF(AND(E16<>\"\",AF16>1,VLOOKUP(AF16,_Afg07,3)=\"\"),E16,0)","v":0},null,null,{"$f":"AF16","v":1},{"$f":"IF(E16<>\"\",E16,C16)","v":""},{"$f":"IF(I16<>\"\",I16,G16)","v":""},{"$f":"IF(ISERROR(AN16*AO16),0,AN16*AO16)","v":0},{"$f":"AI16","v":0}]
[null,null,null,null,null,null,null,null,null,null,null,null,null,null,null,null,null,null,null,null,null,null,null,null,null,null,null,null,null,null,null,null,null,null,null,null,null,null,{"$f":"AF17","v":0},{"$f":"IF(E17<>\"\",E17,C17)","v":0},{"$f":"IF(I17<>\"\",I17,G17)","v":0},{"$f":"IF(ISERROR(AN17*AO17),0,AN17*AO17)","v":0},{"$f":"AI17","v":0}]
[null,null,{"$f":"IF(E18>0,\"\",IF(E16>0,\"\",IF(AND(AF18>1,AI16+AI18=0),Fordelt_areal/2,IF(AF18>1,Fordelt_areal,\"\"))))","v":""},{"$f":"IF(C18<>\"\",\"ha\",\"\")","v":""},null,"ha",{"$f":"IF(I18<>\"\",\"\",IF(VLOOKUP(AF18,_Afg07,Udbyttenr2)=0,\"\",VLOOKUP(AF18,_Afg07,Udbyttenr2)))","v":""},{"$f":"IF(G18=\"\",\"\",IF(AF18>1,IF(VLOOKUP(AF18,_Afg07,3)<>\"\",VLOOKUP(AF18,_Afg07,3),\"\"),\"\"))","v":""},null,"hkg",null,null,null,null,null,null,null,null,null,null,null,null,null,null,null,null,null,null,null,null,null,1,null,{"$f":"IF(AND(E18<>\"\",VLOOKUP(AF18,_Afg07,3)<>\"\"),E18,0)","v":0},{"$f":"IF(AND(AF18>1,VLOOKUP(AF18,_Afg07,3)=\"\"),1,0)","v":0},{"$f":"IF(AND(E18<>\"\",AF18>1,VLOOKUP(AF18,_Afg07,3)=\"\"),E18,0)","v":0},null,null,1,"","",0,0]
[null,null,null,null,null,null,null,null,null,null,null,null,null,null,null,null,null,null,null,null,null,null,null,null,null,null,null,null,null,null,null,null,null,null,null,null,null,null,0,0,0,0,0]
[null,null,null,null,null,null,null,null,null,null,null,null,null,null,null,null,null,null,null,null,null,null,null,null,null,null,null,null,null,null,null,null,null,null,null,null,null,null,0,0,0,0,0]
[2,null,{"$f":"IF(E21>0,\"\",IF(AND(AF21>1,AF23>1,AI21+AI23=0),Fordelt_areal/2,IF(AF21>1,Fordelt_areal,\"\")))","v":""},{"$f":"IF(C21<>\"\",\"ha\",\"\")","v":""},null,"ha",{"$f":"IF(I21<>\"\",\"\",IF(VLOOKUP(AF21,_Afg07,Udbyttenr2)=0,\"\",VLOOKUP(AF21,_Afg07,Udbyttenr2)))","v":""},{"$f":"IF(G21=\"\",\"\",IF(AF21>1,IF(VLOOKUP(AF21,_Afg07,3)<>\"\",VLOOKUP(AF21,_Afg07,3),\"\"),\"\"))","v":""},null,"hkg",null,null,null,null,null,null,null,null,null,null,null,null,null,null,null,null,null,null,null,null,{"$f":"A21","v":2},1,{"$f":"IF(AND(AF21>1,AH21=0),1,0)","v":0},{"$f":"IF(AND(E21<>\"\",VLOOKUP(AF21,_Afg07,3)<>\"\"),E21,0)","v":0},{"$f":"IF(AND(AF21>1,VLOOKUP(AF21,_Afg07,3)=\"\"),1,0)","v":0},{"$f":"IF(AND(E21<>\"\",AF21>1,VLOOKUP(AF21,_Afg07,3)=\"\"),E21,0)","v":0},null,null,1,"","",0,0]
[null,null,null,null,null,null,null,null,null,null,null,null,null,null,null,null,null,null,null,null,null,null,null,null,null,null,null,null,null,null,null,null,null,null,null,null,null,null,0,0,0,0,0]
[null,null,{"$f":"IF(E23>0,\"\",IF(E21>0,\"\",IF(AND(AF23>1,AI21+AI23=0),Fordelt_areal/2,IF(AF23>1,Fordelt_areal,\"\"))))","v":""},{"$f":"IF(C23<>\"\",\"ha\",\"\")","v":""},null,"ha",{"$f":"IF(I23<>\"\",\"\",IF(VLOOKUP(AF23,_Afg07,Udbyttenr2)=0,\"\",VLOOKUP(AF23,_Afg07,Udbyttenr2)))","v":""},{"$f":"IF(G23=\"\",\"\",IF(AF23>1,IF(VLOOKUP(AF23,_Afg07,3)<>\"\",VLOOKUP(AF23,_Afg07,3),\"\"),\"\"))","v":""},null,"hkg",null,null,null,null,null,null,null,null,null,null,null,null,null,null,null,null,null,null,null,null,null,1,null,{"$f":"IF(AND(E23<>\"\",VLOOKUP(AF23,_Afg07,3)<>\"\"),E23,0)","v":0},{"$f":"IF(AND(AF23>1,VLOOKUP(AF23,_Afg07,3)=\"\"),1,0)","v":0},{"$f":"IF(AND(E23<>\"\",AF23>1,VLOOKUP(AF23,_Afg07,3)=\"\"),E23,0)","v":0},null,null,1,"","",0,0]
[null,null,null,null,null,null,null,null,null,null,null,null,null,null,null,null,null,null,null,null,null,null,null,null,null,null,null,null,null,null,null,null,null,null,null,null,null,null,0,0,0,0,0]
[null,null,null,null,null,null,null,null,null,null,null,null,null,null,null,null,null,null,null,null,null,null,null,null,null,null,null,null,null,null,null,null,null,null,null,null,null,null,0,0,0,0,0]
[3,null,{"$f":"IF(E26>0,\"\",IF(AND(AF26>1,AF28>1,AI26+AI28=0),Fordelt_areal/2,IF(AF26>1,Fordelt_areal,\"\")))","v":""},{"$f":"IF(C26<>\"\",\"ha\",\"\")","v":""},null,"ha",{"$f":"IF(I26<>\"\",\"\",IF(VLOOKUP(AF26,_Afg07,Udbyttenr2)=0,\"\",VLOOKUP(AF26,_Afg07,Udbyttenr2)))","v":""},{"$f":"IF(G26=\"\",\"\",IF(AF26>1,IF(VLOOKUP(AF26,_Afg07,3)<>\"\",VLOOKUP(AF26,_Afg07,3),\"\"),\"\"))","v":""},null,"hkg",null,null,null,null,null,null,null,null,null,null,null,null,null,null,null,null,null,null,null,null,{"$f":"A26","v":3},1,{"$f":"IF(AND(AF26>1,AH26=0),1,0)","v":0},{"$f":"IF(AND(E26<>\"\",VLOOKUP(AF26,_Afg07,3)<>\"\"),E26,0)","v":0},{"$f":"IF(AND(AF26>1,VLOOKUP(AF26,_Afg07,3)=\"\"),1,0)","v":0},{"$f":"IF(AND(E26<>\"\",AF26>1,VLOOKUP(AF26,_Afg07,3)=\"\"),E26,0)","v":0},null,null,1,"","",0,0]
[null,null,null,null,null,null,null,null,null,null,null,null,null,null,null,null,null,null,null,null,null,null,null,null,null,null,null,null,null,null,null,null,null,null,null,null,null,null,0,0,0,0,0]
[null,null,{"$f":"IF(E28>0,\"\",IF(E26>0,\"\",IF(AND(AF28>1,AI26+AI28=0),Fordelt_areal/2,IF(AF28>1,Fordelt_areal,\"\"))))","v":""},{"$f":"IF(C28<>\"\",\"ha\",\"\")","v":""},null,"ha",{"$f":"IF(I28<>\"\",\"\",IF(VLOOKUP(AF28,_Afg07,Udbyttenr2)=0,\"\",VLOOKUP(AF28,_Afg07,Udbyttenr2)))","v":""},{"$f":"IF(G28=\"\",\"\",IF(AF28>1,IF(VLOOKUP(AF28,_Afg07,3)<>\"\",VLOOKUP(AF28,_Afg07,3),\"\"),\"\"))","v":""},null,"hkg",null,null,null,null,null,null,null,null,null,null,null,null,null,null,null,null,null,null,null,null,null,1,null,{"$f":"IF(AND(E28<>\"\",VLOOKUP(AF28,_Afg07,3)<>\"\"),E28,0)","v":0},{"$f":"IF(AND(AF28>1,VLOOKUP(AF28,_Afg07,3)=\"\"),1,0)","v":0},{"$f":"IF(AND(E28<>\"\",AF28>1,VLOOKUP(AF28,_Afg07,3)=\"\"),E28,0)","v":0},null,null,1,"","",0,0]
[null,null,null,null,null,null,null,null,null,null,null,null,null,null,null,null,null,null,null,null,null,null,null,null,null,null,null,null,null,null,null,null,null,null,null,null,null,null,0,0,0,0,0]
[null,null,null,null,null,null,null,null,null,null,null,null,null,null,null,null,null,null,null,null,null,null,null,null,null,null,null,null,null,null,null,null,null,null,null,null,null,null,0,0,0,0,0]
[4,null,{"$f":"IF(E31>0,\"\",IF(AND(AF31>1,AF33>1,AI31+AI33=0),Fordelt_areal/2,IF(AF31>1,Fordelt_areal,\"\")))","v":""},{"$f":"IF(C31<>\"\",\"ha\",\"\")","v":""},null,"ha",{"$f":"IF(I31<>\"\",\"\",IF(VLOOKUP(AF31,_Afg07,Udbyttenr2)=0,\"\",VLOOKUP(AF31,_Afg07,Udbyttenr2)))","v":""},{"$f":"IF(G31=\"\",\"\",IF(AF31>1,IF(VLOOKUP(AF31,_Afg07,3)<>\"\",VLOOKUP(AF31,_Afg07,3),\"\"),\"\"))","v":""},null,"hkg",null,null,null,null,null,null,null,null,null,null,null,null,null,null,null,null,null,null,null,null,{"$f":"A31","v":4},1,{"$f":"IF(AND(AF31>1,AH31=0),1,0)","v":0},{"$f":"IF(AND(E31<>\"\",VLOOKUP(AF31,_Afg07,3)<>\"\"),E31,0)","v":0},{"$f":"IF(AND(AF31>1,VLOOKUP(AF31,_Afg07,3)=\"\"),1,0)","v":0},{"$f":"IF(AND(E31<>\"\",AF31>1,VLOOKUP(AF31,_Afg07,3)=\"\"),E31,0)","v":0},null,null,1,"","",0,0]
[null,null,null,null,null,null,null,null,null,null,null,null,null,null,null,null,null,null,null,null,null,null,null,null,null,null,null,null,null,null,null,null,null,null,null,null,null,null,0,0,0,0,0]
[null,null,{"$f":"IF(E33>0,\"\",IF(E31>0,\"\",IF(AND(AF33>1,AI31+AI33=0),Fordelt_areal/2,IF(AF33>1,Fordelt_areal,\"\"))))","v":""},{"$f":"IF(C33<>\"\",\"ha\",\"\")","v":""},null,"ha",{"$f":"IF(I33<>\"\",\"\",IF(VLOOKUP(AF33,_Afg07,Udbyttenr2)=0,\"\",VLOOKUP(AF33,_Afg07,Udbyttenr2)))","v":""},{"$f":"IF(G33=\"\",\"\",IF(AF33>1,IF(VLOOKUP(AF33,_Afg07,3)<>\"\",VLOOKUP(AF33,_Afg07,3),\"\"),\"\"))","v":""},null,"hkg",null,null,null,null,null,null,null,null,null,null,null,null,null,null,null,null,null,null,null,null,null,1,null,{"$f":"IF(AND(E33<>\"\",VLOOKUP(AF33,_Afg07,3)<>\"\"),E33,0)","v":0},{"$f":"IF(AND(AF33>1,VLOOKUP(AF33,_Afg07,3)=\"\"),1,0)","v":0},{"$f":"IF(AND(E33<>\"\",AF33>1,VLOOKUP(AF33,_Afg07,3)=\"\"),E33,0)","v":0},null,null,1,"","",0,0]
[null,null,null,null,null,null,null,null,null,null,null,null,null,null,null,null,null,null,null,null,null,null,null,null,null,null,null,null,null,null,null,null,null,null,null,null,null,null,0,0,0,0,0]
[null,null,null,null,null,null,null,null,null,null,null,null,null,null,null,null,null,null,null,null,null,null,null,null,null,null,null,null,null,null,null,null,null,null,null,null,null,null,0,0,0,0,0]
[5,null,{"$f":"IF(E36>0,\"\",IF(AND(AF36>1,AF38>1,AI36+AI38=0),Fordelt_areal/2,IF(AF36>1,Fordelt_areal,\"\")))","v":""},{"$f":"IF(C36<>\"\",\"ha\",\"\")","v":""},null,"ha",{"$f":"IF(I36<>\"\",\"\",IF(VLOOKUP(AF36,_Afg07,Udbyttenr2)=0,\"\",VLOOKUP(AF36,_Afg07,Udbyttenr2)))","v":""},{"$f":"IF(G36=\"\",\"\",IF(AF36>1,IF(VLOOKUP(AF36,_Afg07,3)<>\"\",VLOOKUP(AF36,_Afg07,3),\"\"),\"\"))","v":""},null,"hkg",null,null,null,null,null,null,null,null,null,null,null,null,null,null,null,null,null,null,null,null,{"$f":"A36","v":5},1,{"$f":"IF(AND(AF36>1,AH36=0),1,0)","v":0},{"$f":"IF(AND(E36<>\"\",VLOOKUP(AF36,_Afg07,3)<>\"\"),E36,0)","v":0},{"$f":"IF(AND(AF36>1,VLOOKUP(AF36,_Afg07,3)=\"\"),1,0)","v":0},{"$f":"IF(AND(E36<>\"\",AF36>1,VLOOKUP(AF36,_Afg07,3)=\"\"),E36,0)","v":0},null,null,1,"","",0,0]
[null,null,null,null,null,null,null,null,null,null,null,null,null,null,null,null,null,null,null,null,null,null,null,null,null,null,null,null,null,null,null,null,null,null,null,null,null,null,0,0,0,0,0]
[null,null,{"$f":"IF(E38>0,\"\",IF(E36>0,\"\",IF(AND(AF38>1,AI36+AI38=0),Fordelt_areal/2,IF(AF38>1,Fordelt_areal,\"\"))))","v":""},{"$f":"IF(C38<>\"\",\"ha\",\"\")","v":""},null,"ha",{"$f":"IF(I38<>\"\",\"\",IF(VLOOKUP(AF38,_Afg07,Udbyttenr2)=0,\"\",VLOOKUP(AF38,_Afg07,Udbyttenr2)))","v":""},{"$f":"IF(G38=\"\",\"\",IF(AF38>1,IF(VLOOKUP(AF38,_Afg07,3)<>\"\",VLOOKUP(AF38,_Afg07,3),\"\"),\"\"))","v":""},null,"hkg",null,null,null,null,null,null,null,null,null,null,null,null,null,null,null,null,null,null,null,null,null,1,null,{"$f":"IF(AND(E38<>\"\",VLOOKUP(AF38,_Afg07,3)<>\"\"),E38,0)","v":0},{"$f":"IF(AND(AF38>1,VLOOKUP(AF38,_Afg07,3)=\"\"),1,0)","v":0},{"$f":"IF(AND(E38<>\"\",AF38>1,VLOOKUP(AF38,_Afg07,3)=\"\"),E38,0)","v":0},null,null,1,"","",0,0]
[null,null,null,null,null,null,null,null,null,null,null,null,null,null,null,null,null,null,null,null,null,null,null,null,null,null,null,null,null,null,null,null,null,null,null,null,null,null,0,0,0,0,0]
[null,null,null,null,null,null,null,null,null,null,null,null,null,null,null,null,null,null,null,null,null,null,null,null,null,null,null,null,null,null,null,null,null,null,null,null,null,null,0,0,0,0,0]
[6,null,{"$f":"IF(E41>0,\"\",IF(AND(AF41>1,AF43>1,AI41+AI43=0),Fordelt_areal/2,IF(AF41>1,Fordelt_areal,\"\")))","v":""},{"$f":"IF(C41<>\"\",\"ha\",\"\")","v":""},null,"ha",{"$f":"IF(I41<>\"\",\"\",IF(VLOOKUP(AF41,_Afg07,Udbyttenr2)=0,\"\",VLOOKUP(AF41,_Afg07,Udbyttenr2)))","v":""},{"$f":"IF(G41=\"\",\"\",IF(AF41>1,IF(VLOOKUP(AF41,_Afg07,3)<>\"\",VLOOKUP(AF41,_Afg07,3),\"\"),\"\"))","v":""},null,"hkg",null,null,null,null,null,null,null,null,null,null,null,null,null,null,null,null,null,null,null,null,{"$f":"A41","v":6},1,{"$f":"IF(AND(AF41>1,AH41=0),1,0)","v":0},{"$f":"IF(AND(E41<>\"\",VLOOKUP(AF41,_Afg07,3)<>\"\"),E41,0)","v":0},{"$f":"IF(AND(AF41>1,VLOOKUP(AF41,_Afg07,3)=\"\"),1,0)","v":0},{"$f":"IF(AND(E41<>\"\",AF41>1,VLOOKUP(AF41,_Afg07,3)=\"\"),E41,0)","v":0},null,null,1,"","",0,0]
[null,null,null,null,null,null,null,null,null,null,null,null,null,null,null,null,null,null,null,null,null,null,null,null,null,null,null,null,null,null,null,null,null,null,null,null,null,null,0,0,0,0,0]
[null,null,{"$f":"IF(E43>0,\"\",IF(E41>0,\"\",IF(AND(AF43>1,AI41+AI43=0),Fordelt_areal/2,IF(AF43>1,Fordelt_areal,\"\"))))","v":""},{"$f":"IF(C43<>\"\",\"ha\",\"\")","v":""},null,"ha",{"$f":"IF(I43<>\"\",\"\",IF(VLOOKUP(AF43,_Afg07,Udbyttenr2)=0,\"\",VLOOKUP(AF43,_Afg07,Udbyttenr2)))","v":""},{"$f":"IF(G43=\"\",\"\",IF(AF43>1,IF(VLOOKUP(AF43,_Afg07,3)<>\"\",VLOOKUP(AF43,_Afg07,3),\"\"),\"\"))","v":""},null,"hkg",null,null,null,null,null,null,null,null,null,null,null,null,null,null,null,null,null,null,null,null,null,1,null,{"$f":"IF(AND(E43<>\"\",VLOOKUP(AF43,_Afg07,3)<>\"\"),E43,0)","v":0},{"$f":"IF(AND(AF43>1,VLOOKUP(AF43,_Afg07,3)=\"\"),1,0)","v":0},{"$f":"IF(AND(E43<>\"\",AF43>1,VLOOKUP(AF43,_Afg07,3)=\"\"),E43,0)","v":0},null,null,1,"","",0,0]
[null,null,null,null,null,null,null,null,null,null,null,null,null,null,null,null,null,null,null,null,null,null,null,null,null,null,null,null,null,null,null,null,null,null,null,null,null,null,0,0,0,0,0]
[null,null,null,null,null,null,null,null,null,null,null,null,null,null,null,null,null,null,null,null,null,null,null,null,null,null,null,null,null,null,null,null,null,null,null,null,null,null,0,0,0,0,0]
[7,null,{"$f":"IF(E46>0,\"\",IF(AND(AF46>1,AF48>1,AI46+AI48=0),Fordelt_areal/2,IF(AF46>1,Fordelt_areal,\"\")))","v":""},{"$f":"IF(C46<>\"\",\"ha\",\"\")","v":""},null,"ha",{"$f":"IF(I46<>\"\",\"\",IF(VLOOKUP(AF46,_Afg07,Udbyttenr2)=0,\"\",VLOOKUP(AF46,_Afg07,Udbyttenr2)))","v":""},{"$f":"IF(G46=\"\",\"\",IF(AF46>1,IF(VLOOKUP(AF46,_Afg07,3)<>\"\",VLOOKUP(AF46,_Afg07,3),\"\"),\"\"))","v":""},null,"hkg",null,null,null,null,null,null,null,null,null,null,null,null,null,null,null,null,null,null,null,null,{"$f":"A46","v":7},1,{"$f":"IF(AND(AF46>1,AH46=0),1,0)","v":0},{"$f":"IF(AND(E46<>\"\",VLOOKUP(AF46,_Afg07,3)<>\"\"),E46,0)","v":0},{"$f":"IF(AND(AF46>1,VLOOKUP(AF46,_Afg07,3)=\"\"),1,0)","v":0},{"$f":"IF(AND(E46<>\"\",AF46>1,VLOOKUP(AF46,_Afg07,3)=\"\"),E46,0)","v":0},null,null,1,"","",0,0]
[null,null,null,null,null,null,null,null,null,null,null,null,null,null,null,null,null,null,null,null,null,null,null,null,null,null,null,null,null,null,null,null,null,null,null,null,null,null,0,0,0,0,0]
[null,null,{"$f":"IF(E48>0,\"\",IF(E46>0,\"\",IF(AND(AF48>1,AI46+AI48=0),Fordelt_areal/2,IF(AF48>1,Fordelt_areal,\"\"))))","v":""},{"$f":"IF(C48<>\"\",\"ha\",\"\")","v":""},null,"ha",{"$f":"IF(I48<>\"\",\"\",IF(VLOOKUP(AF48,_Afg07,Udbyttenr2)=0,\"\",VLOOKUP(AF48,_Afg07,Udbyttenr2)))","v":""},{"$f":"IF(G48=\"\",\"\",IF(AF48>1,IF(VLOOKUP(AF48,_Afg07,3)<>\"\",VLOOKUP(AF48,_Afg07,3),\"\"),\"\"))","v":""},null,"hkg",null,null,null,null,null,null,null,null,null,null,null,null,null,null,null,null,null,null,null,null,null,1,null,{"$f":"IF(AND(E48<>\"\",VLOOKUP(AF48,_Afg07,3)<>\"\"),E48,0)","v":0},{"$f":"IF(AND(AF48>1,VLOOKUP(AF48,_Afg07,3)=\"\"),1,0)","v":0},{"$f":"IF(AND(E48<>\"\",AF48>1,VLOOKUP(AF48,_Afg07,3)=\"\"),E48,0)","v":0},null,null,1,"","",0,0]
[]
[null,null,null,null,null,null,null,null,null,null,null,null,null,null,null,null,null,null,null,null,null,null,null,null,null,null,null,null,null,null,"Sum",null,{"$f":"AG16+AG18+AG21+AG23+AG26+AG28+AG31+AG33+AG36+AG38+AG41+AG43+AG46+AG48","v":0},{"$f":"AH16+AH18+AH21+AH23+AH26+AH28+AH31+AH33+AH36+AH38+AH41+AH43+AH46+AH48","v":0},null,{"$f":"AJ16+AJ18+AJ21+AJ23+AJ26+AJ28+AJ31+AJ33+AJ36+AJ38+AJ41+AJ43+AJ46+AJ48","v":0}]
["Delsædskifte 2"]
[]
[]
[null,"Marker/ejendomme:",null,null,null,null,null,null,null,null,null,null,null,null,null,null,null,null,null,null,null,null,null,null,null,null,null,null,null,null,null,null,"Udbyttenr3"]
[]
[null,"Jordtype",null,null,null,null,null,null,null,null,null,null,null,null,null,null,null,null,null,null,null,null,null,null,null,null,null,null,null,null,null,4,{"$f":"IF(AF56=1,5,IF(AF56=2,6,IF(AF56=3,7,IF(AF56=4,8,IF(AF56=5,9,\"\")))))","v":8},"Areal"]
[null,null,null,null,null,null,null,null,null,null,null,null,null,null,null,null,null,null,null,null,null,null,null,null,null,null,null,null,null,null,null,null,null,"til fordeling","Fordelt_areal"]
[null,"Samlet areal",null,"ha",null,null,null,null,null,null,null,null,null,null,null,null,null,null,null,null,null,null,null,null,null,null,null,null,null,null,null,null,null,{"$f":"C58-AH96","v":0},{"$f":"Areal_fordel2/Antal_skifter2","v":{"$error":"#DIV/0!"}}]
[]
["Afgrødefølge",null,"  Areal",null,null,null," Udbytte pr. ha",null,null,null,null,"Kommentarer",null,null,null,null,null,null,null,null,null,null,null,null,null,null,null,null,null,null,null,null,"Antal","Areal","Efter-","Areal"]
[null,null,null,null,null,null,null,null,null,null,null,null,null,null,null,null,null,null,null,null,null,null,null,null,null,null,null,null,null,null,"Afgrødefølge",null,"skifter","indtastet","afgrøde","indtastet efterafgrøde"]
[1,null,{"$f":"IF(E62>0,\"\",IF(AND(AF62>1,AF64>1,AI62+AI64=0),Fordelt_areal2/2,IF(AF62>1,Fordelt_areal2,\"\")))","v":""},{"$f":"IF(C62<>\"\",\"ha\",\"\")","v":""},null,"ha",{"$f":"IF(I62<>\"\",\"\",IF(VLOOKUP(AF62,_Afg07,Udbyttenr3)=0,\"\",VLOOKUP(AF62,_Afg07,Udbyttenr3)))","v":""},{"$f":"IF(G62=\"\",\"\",IF(AF62>1,IF(VLOOKUP(AF62,_Afg07,3)<>\"\",VLOOKUP(AF62,_Afg07,3),\"\"),\"\"))","v":""},null,"hkg",null,null,null,null,null,null,null,null,"Du kan angive både afgrøde og efterafgrøde. \nMan kan også dele arealet mellem 2 afgrøder.",null,null,null,null,null,null,null,null,null,null,null,{"$f":"A62","v":1},1,{"$f":"IF(AND(AF62>1,AH62=0),1,0)","v":0},{"$f":"IF(AND(E62<>\"\",VLOOKUP(AF62,_Afg07,3)<>\"\"),E62,0)","v":0},{"$f":"IF(AND(AF62>1,VLOOKUP(AF62,_Afg07,3)=\"\"),1,0)","v":0},{"$f":"IF(AND(E62<>\"\",AF62>1,VLOOKUP(AF62,_Afg07,3)=\"\"),E62,0)","v":0},null,null,1,"","",0,{"$f":"AI62","v":0}]
[null,null,null,null,null,null,null,null,null,null,null,null,null,null,null,null,null,null,null,null,null,null,null,null,null,null,null,null,null,null,null,null,null,null,null,null,null,null,0,0,0,0,0]
[null,null,{"$f":"IF(E64>0,\"\",IF(E62>0,\"\",IF(AND(AF64>1,AI62+AI64=0),Fordelt_areal2/2,IF(AF64>1,Fordelt_areal2,\"\"))))","v":""},{"$f":"IF(C64<>\"\",\"ha\",\"\")","v":""},null,"ha",{"$f":"IF(I64<>\"\",\"\",IF(VLOOKUP(AF64,_Afg07,Udbyttenr3)=0,\"\",VLOOKUP(AF64,_Afg07,Udbyttenr3)))","v":""},{"$f":"IF(G64=\"\",\"\",IF(AF64>1,IF(VLOOKUP(AF64,_Afg07,3)<>\"\",VLOOKUP(AF64,_Afg07,3),\"\"),\"\"))","v":""},null,"hkg",null,null,null,null,null,null,null,null,null,null,null,null,null,null,null,null,null,null,null,null,null,1,null,{"$f":"IF(AND(E64<>\"\",VLOOKUP(AF64,_Afg07,3)<>\"\"),E64,0)","v":0},{"$f":"IF(AND(AF64>1,VLOOKUP(AF64,_Afg07,3)=\"\"),1,0)","v":0},{"$f":"IF(AND(E64<>\"\",AF64>1,VLOOKUP(AF64,_Afg07,3)=\"\"),E64,0)","v":0},null,null,1,"","",0,0]
[null,null,null,null,null,null,null,null,null,null,null,null,null,null,null,null,null,null,null,null,null,null,null,null,null,null,null,null,null,null,null,null,null,null,null,null,null,null,0,0,0,0,0]
[null,null,null,null,null,null,null,null,null,null,null,null,null,null,null,null,null,null,null,null,null,null,null,null,null,null,null,null,null,null,null,null,null,null,null,null,null,null,0,0,0,0,0]
[2,null,{"$f":"IF(E67>0,\"\",IF(AND(AF67>1,AF69>1,AI67+AI69=0),Fordelt_areal2/2,IF(AF67>1,Fordelt_areal2,\"\")))","v":""},{"$f":"IF(C67<>\"\",\"ha\",\"\")","v":""},null,"ha",{"$f":"IF(I67<>\"\",\"\",IF(VLOOKUP(AF67,_Afg07,Udbyttenr3)=0,\"\",VLOOKUP(AF67,_Afg07,Udbyttenr3)))","v":""},{"$f":"IF(G67=\"\",\"\",IF(AF67>1,IF(VLOOKUP(AF67,_Afg07,3)<>\"\",VLOOKUP(AF67,_Afg07,3),\"\"),\"\"))","v":""},null,"hkg",null,null,null,null,null,null,null,null,null,null,null,null,null,null,null,null,null,null,null,null,{"$f":"A67","v":2},1,{"$f":"IF(AND(AF67>1,AH67=0),1,0)","v":0},{"$f":"IF(AND(E67<>\"\",VLOOKUP(AF67,_Afg07,3)<>\"\"),E67,0)","v":0},{"$f":"IF(AND(AF67>1,VLOOKUP(AF67,_Afg07,3)=\"\"),1,0)","v":0},{"$f":"IF(AND(E67<>\"\",AF67>1,VLOOKUP(AF67,_Afg07,3)=\"\"),E67,0)","v":0},null,null,1,"","",0,0]
[null,null,null,null,null,null,null,null,null,null,null,null,null,null,null,null,null,null,null,null,null,null,null,null,null,null,null,null,null,null,null,null,null,null,null,null,null,null,0,0,0,0,0]
[null,null,{"$f":"IF(E69>0,\"\",IF(E67>0,\"\",IF(AND(AF69>1,AI67+AI69=0),Fordelt_areal2/2,IF(AF69>1,Fordelt_areal2,\"\"))))","v":""},{"$f":"IF(C69<>\"\",\"ha\",\"\")","v":""},null,"ha",{"$f":"IF(I69<>\"\",\"\",IF(VLOOKUP(AF69,_Afg07,Udbyttenr3)=0,\"\",VLOOKUP(AF69,_Afg07,Udbyttenr3)))","v":""},{"$f":"IF(G69=\"\",\"\",IF(AF69>1,IF(VLOOKUP(AF69,_Afg07,3)<>\"\",VLOOKUP(AF69,_Afg07,3),\"\"),\"\"))","v":""},null,"hkg",null,null,null,null,null,null,null,null,null,null,null,null,null,null,null,null,null,null,null,null,null,1,null,{"$f":"IF(AND(E69<>\"\",VLOOKUP(AF69,_Afg07,3)<>\"\"),E69,0)","v":0},{"$f":"IF(AND(AF69>1,VLOOKUP(AF69,_Afg07,3)=\"\"),1,0)","v":0},{"$f":"IF(AND(E69<>\"\",AF69>1,VLOOKUP(AF69,_Afg07,3)=\"\"),E69,0)","v":0},null,null,1,"","",0,0]
[null,null,null,null,null,null,null,null,null,null,null,null,null,null,null,null,null,null,null,null,null,null,null,null,null,null,null,null,null,null,null,null,null,null,null,null,null,null,0,0,0,0,0]
[null,null,null,null,null,null,null,null,null,null,null,null,null,null,null,null,null,null,null,null,null,null,null,null,null,null,null,null,null,null,null,2,null,null,null,null,null,null,2,0,0,0,0]
[3,null,{"$f":"IF(E72>0,\"\",IF(AND(AF72>1,AF74>1,AI72+AI74=0),Fordelt_areal2/2,IF(AF72>1,Fordelt_areal2,\"\")))","v":""},{"$f":"IF(C72<>\"\",\"ha\",\"\")","v":""},null,"ha",{"$f":"IF(I72<>\"\",\"\",IF(VLOOKUP(AF72,_Afg07,Udbyttenr3)=0,\"\",VLOOKUP(AF72,_Afg07,Udbyttenr3)))","v":""},{"$f":"IF(G72=\"\",\"\",IF(AF72>1,IF(VLOOKUP(AF72,_Afg07,3)<>\"\",VLOOKUP(AF72,_Afg07,3),\"\"),\"\"))","v":""},null,"hkg",null,null,null,null,null,null,null,null,null,null,null,null,null,null,null,null,null,null,null,null,{"$f":"A72","v":3},1,{"$f":"IF(AND(AF72>1,AH72=0),1,0)","v":0},{"$f":"IF(AND(E72<>\"\",VLOOKUP(AF72,_Afg07,3)<>\"\"),E72,0)","v":0},{"$f":"IF(AND(AF72>1,VLOOKUP(AF72,_Afg07,3)=\"\"),1,0)","v":0},{"$f":"IF(AND(E72<>\"\",AF72>1,VLOOKUP(AF72,_Afg07,3)=\"\"),E72,0)","v":0},null,null,1,"","",0,0]
[null,null,null,null,null,null,null,null,null,null,null,null,null,null,null,null,null,null,null,null,null,null,null,null,null,null,null,null,null,null,null,null,null,null,null,null,null,null,0,0,0,0,0]
[null,null,{"$f":"IF(E74>0,\"\",IF(E72>0,\"\",IF(AND(AF74>1,AI72+AI74=0),Fordelt_areal2/2,IF(AF74>1,Fordelt_areal2,\"\"))))","v":""},{"$f":"IF(C74<>\"\",\"ha\",\"\")","v":""},null,"ha",{"$f":"IF(I74<>\"\",\"\",IF(VLOOKUP(AF74,_Afg07,Udbyttenr3)=0,\"\",VLOOKUP(AF74,_Afg07,Udbyttenr3)))","v":""},{"$f":"IF(G74=\"\",\"\",IF(AF74>1,IF(VLOOKUP(AF74,_Afg07,3)<>\"\",VLOOKUP(AF74,_Afg07,3),\"\"),\"\"))","v":""},null,"hkg",null,null,null,null,null,null,null,null,null,null,null,null,null,null,null,null,null,null,null,null,null,1,null,{"$f":"IF(AND(E74<>\"\",VLOOKUP(AF74,_Afg07,3)<>\"\"),E74,0)","v":0},{"$f":"IF(AND(AF74>1,VLOOKUP(AF74,_Afg07,3)=\"\"),1,0)","v":0},{"$f":"IF(AND(E74<>\"\",AF74>1,VLOOKUP(AF74,_Afg07,3)=\"\"),E74,0)","v":0},null,null,1,"","",0,0]
[null,null,null,null,null,null,null,null,null,null,null,null,null,null,null,null,null,null,null,null,null,null,null,null,null,null,null,null,null,null,null,null,null,null,null,null,null,null,0,0,0,0,0]
[null,null,null,null,null,null,null,null,null,null,null,null,null,null,null,null,null,null,null,null,null,null,null,null,null,null,null,null,null,null,null,null,null,null,null,null,null,null,0,0,0,0,0]
[4,null,{"$f":"IF(E77>0,\"\",IF(AND(AF77>1,AF79>1,AI77+AI79=0),Fordelt_areal2/2,IF(AF77>1,Fordelt_areal2,\"\")))","v":""},{"$f":"IF(C77<>\"\",\"ha\",\"\")","v":""},null,"ha",{"$f":"IF(I77<>\"\",\"\",IF(VLOOKUP(AF77,_Afg07,Udbyttenr3)=0,\"\",VLOOKUP(AF77,_Afg07,Udbyttenr3)))","v":""},{"$f":"IF(G77=\"\",\"\",IF(AF77>1,IF(VLOOKUP(AF77,_Afg07,3)<>\"\",VLOOKUP(AF77,_Afg07,3),\"\"),\"\"))","v":""},null,"hkg",null,null,null,null,null,null,null,null,null,null,null,null,null,null,null,null,null,null,null,null,{"$f":"A77","v":4},1,{"$f":"IF(AND(AF77>1,AH77=0),1,0)","v":0},{"$f":"IF(AND(E77<>\"\",VLOOKUP(AF77,_Afg07,3)<>\"\"),E77,0)","v":0},{"$f":"IF(AND(AF77>1,VLOOKUP(AF77,_Afg07,3)=\"\"),1,0)","v":0},{"$f":"IF(AND(E77<>\"\",AF77>1,VLOOKUP(AF77,_Afg07,3)=\"\"),E77,0)","v":0},null,null,1,"","",0,0]
[null,null,null,null,null,null,null,null,null,null,null,null,null,null,null,null,null,null,null,null,null,null,null,null,null,null,null,null,null,null,null,null,null,null,null,null,null,null,0,0,0,0,0]
[null,null,{"$f":"IF(E79>0,\"\",IF(E77>0,\"\",IF(AND(AF79>1,AI77+AI79=0),Fordelt_areal2/2,IF(AF79>1,Fordelt_areal2,\"\"))))","v":""},{"$f":"IF(C79<>\"\",\"ha\",\"\")","v":""},null,"ha",{"$f":"IF(I79<>\"\",\"\",IF(VLOOKUP(AF79,_Afg07,Udbyttenr3)=0,\"\",VLOOKUP(AF79,_Afg07,Udbyttenr3)))","v":""},{"$f":"IF(G79=\"\",\"\",IF(AF79>1,IF(VLOOKUP(AF79,_Afg07,3)<>\"\",VLOOKUP(AF79,_Afg07,3),\"\"),\"\"))","v":""},null,"hkg",null,null,null,null,null,null,null,null,null,null,null,null,null,null,null,null,null,null,null,null,null,1,null,{"$f":"IF(AND(E79<>\"\",VLOOKUP(AF79,_Afg07,3)<>\"\"),E79,0)","v":0},{"$f":"IF(AND(AF79>1,VLOOKUP(AF79,_Afg07,3)=\"\"),1,0)","v":0},{"$f":"IF(AND(E79<>\"\",AF79>1,VLOOKUP(AF79,_Afg07,3)=\"\"),E79,0)","v":0},null,null,1,"","",0,0]
[null,null,null,null,null,null,null,null,null,null,null,null,null,null,null,null,null,null,null,null,null,null,null,null,null,null,null,null,null,null,null,null,null,null,null,null,null,null,0,0,0,0,0]
[null,null,null,null,null,null,null,null,null,null,null,null,null,null,null,null,null,null,null,null,null,null,null,null,null,null,null,null,null,null,null,null,null,null,null,null,null,null,{"$f":"AF81","v":0},{"$f":"IF(E81<>\"\",E81,C81)","v":0},{"$f":"IF(I81<>\"\",I81,G81)","v":0},{"$f":"IF(ISERROR(AN81*AO81),0,AN81*AO81)","v":0},0]
[5,null,{"$f":"IF(E82>0,\"\",IF(AND(AF82>1,AF84>1,AI82+AI84=0),Fordelt_areal2/2,IF(AF82>1,Fordelt_areal2,\"\")))","v":""},{"$f":"IF(C82<>\"\",\"ha\",\"\")","v":""},null,"ha",{"$f":"IF(I82<>\"\",\"\",IF(VLOOKUP(AF82,_Afg07,Udbyttenr3)=0,\"\",VLOOKUP(AF82,_Afg07,Udbyttenr3)))","v":""},{"$f":"IF(G82=\"\",\"\",IF(AF82>1,IF(VLOOKUP(AF82,_Afg07,3)<>\"\",VLOOKUP(AF82,_Afg07,3),\"\"),\"\"))","v":""},null,"hkg",null,null,null,null,null,null,null,null,null,null,null,null,null,null,null,null,null,null,null,null,{"$f":"A82","v":5},1,{"$f":"IF(AND(AF82>1,AH82=0),1,0)","v":0},{"$f":"IF(AND(E82<>\"\",VLOOKUP(AF82,_Afg07,3)<>\"\"),E82,0)","v":0},{"$f":"IF(AND(AF82>1,VLOOKUP(AF82,_Afg07,3)=\"\"),1,0)","v":0},{"$f":"IF(AND(E82<>\"\",AF82>1,VLOOKUP(AF82,_Afg07,3)=\"\"),E82,0)","v":0},null,null,1,"","",0,0]
[null,null,null,null,null,null,null,null,null,null,null,null,null,null,null,null,null,null,null,null,null,null,null,null,null,null,null,null,null,null,null,null,null,null,null,null,null,null,0,0,0,0,0]
[null,null,{"$f":"IF(E84>0,\"\",IF(E82>0,\"\",IF(AND(AF84>1,AI82+AI84=0),Fordelt_areal2/2,IF(AF84>1,Fordelt_areal2,\"\"))))","v":""},{"$f":"IF(C84<>\"\",\"ha\",\"\")","v":""},null,"ha",{"$f":"IF(I84<>\"\",\"\",IF(VLOOKUP(AF84,_Afg07,Udbyttenr3)=0,\"\",VLOOKUP(AF84,_Afg07,Udbyttenr3)))","v":""},{"$f":"IF(G84=\"\",\"\",IF(AF84>1,IF(VLOOKUP(AF84,_Afg07,3)<>\"\",VLOOKUP(AF84,_Afg07,3),\"\"),\"\"))","v":""},null,"hkg",null,null,null,null,null,null,null,null,null,null,null,null,null,null,null,null,null,null,null,null,null,1,null,{"$f":"IF(AND(E84<>\"\",VLOOKUP(AF84,_Afg07,3)<>\"\"),E84,0)","v":0},{"$f":"IF(AND(AF84>1,VLOOKUP(AF84,_Afg07,3)=\"\"),1,0)","v":0},{"$f":"IF(AND(E84<>\"\",AF84>1,VLOOKUP(AF84,_Afg07,3)=\"\"),E84,0)","v":0},null,null,1,"","",0,0]
[null,null,null,null,null,null,null,null,null,null,null,null,null,null,null,null,null,null,null,null,null,null,null,null,null,null,null,null,null,null,null,null,null,null,null,null,null,null,0,0,0,0,0]
[null,null,null,null,null,null,null,null,null,null,null,null,null,null,null,null,null,null,null,null,null,null,null,null,null,null,null,null,null,null,null,null,null,null,null,null,null,null,0,0,0,0,0]
[6,null,{"$f":"IF(E87>0,\"\",IF(AND(AF87>1,AF89>1,AI87+AI89=0),Fordelt_areal2/2,IF(AF87>1,Fordelt_areal2,\"\")))","v":""},{"$f":"IF(C87<>\"\",\"ha\",\"\")","v":""},null,"ha",{"$f":"IF(I87<>\"\",\"\",IF(VLOOKUP(AF87,_Afg07,Udbyttenr3)=0,\"\",VLOOKUP(AF87,_Afg07,Udbyttenr3)))","v":""},{"$f":"IF(G87=\"\",\"\",IF(AF87>1,IF(VLOOKUP(AF87,_Afg07,3)<>\"\",VLOOKUP(AF87,_Afg07,3),\"\"),\"\"))","v":""},null,"hkg",null,null,null,null,null,null,null,null,null,null,null,null,null,null,null,null,null,null,null,null,{"$f":"A87","v":6},1,{"$f":"IF(AND(AF87>1,AH87=0),1,0)","v":0},{"$f":"IF(AND(E87<>\"\",VLOOKUP(AF87,_Afg07,3)<>\"\"),E87,0)","v":0},{"$f":"IF(AND(AF87>1,VLOOKUP(AF87,_Afg07,3)=\"\"),1,0)","v":0},{"$f":"IF(AND(E87<>\"\",AF87>1,VLOOKUP(AF87,_Afg07,3)=\"\"),E87,0)","v":0},null,null,1,"","",0,0]
[null,null,null,null,null,null,null,null,null,null,null,null,null,null,null,null,null,null,null,null,null,null,null,null,null,null,null,null,null,null,null,null,null,null,null,null,null,null,0,0,0,0,0]
[null,null,{"$f":"IF(E89>0,\"\",IF(E87>0,\"\",IF(AND(AF89>1,AI87+AI89=0),Fordelt_areal2/2,IF(AF89>1,Fordelt_areal2,\"\"))))","v":""},{"$f":"IF(C89<>\"\",\"ha\",\"\")","v":""},null,"ha",{"$f":"IF(I89<>\"\",\"\",IF(VLOOKUP(AF89,_Afg07,Udbyttenr3)=0,\"\",VLOOKUP(AF89,_Afg07,Udbyttenr3)))","v":""},{"$f":"IF(G89=\"\",\"\",IF(AF89>1,IF(VLOOKUP(AF89,_Afg07,3)<>\"\",VLOOKUP(AF89,_Afg07,3),\"\"),\"\"))","v":""},null,"hkg",null,null,null,null,null,null,null,null,null,null,null,null,null,null,null,null,null,null,null,null,null,1,null,{"$f":"IF(AND(E89<>\"\",VLOOKUP(AF89,_Afg07,3)<>\"\"),E89,0)","v":0},{"$f":"IF(AND(AF89>1,VLOOKUP(AF89,_Afg07,3)=\"\"),1,0)","v":0},{"$f":"IF(AND(E89<>\"\",AF89>1,VLOOKUP(AF89,_Afg07,3)=\"\"),E89,0)","v":0},null,null,1,"","",0,0]
[null,null,null,null,null,null,null,null,null,null,null,null,null,null,null,null,null,null,null,null,null,null,null,null,null,null,null,null,null,null,null,null,null,null,null,null,null,null,0,0,0,0,0]
[null,null,null,null,null,null,null,null,null,null,null,null,null,null,null,null,null,null,null,null,null,null,null,null,null,null,null,null,null,null,null,null,null,null,null,null,null,null,0,0,0,0,0]
[7,null,{"$f":"IF(E92>0,\"\",IF(AND(AF92>1,AF94>1,AI92+AI94=0),Fordelt_areal2/2,IF(AF92>1,Fordelt_areal2,\"\")))","v":""},{"$f":"IF(C92<>\"\",\"ha\",\"\")","v":""},null,"ha",{"$f":"IF(I92<>\"\",\"\",IF(VLOOKUP(AF92,_Afg07,Udbyttenr3)=0,\"\",VLOOKUP(AF92,_Afg07,Udbyttenr3)))","v":""},{"$f":"IF(G92=\"\",\"\",IF(AF92>1,IF(VLOOKUP(AF92,_Afg07,3)<>\"\",VLOOKUP(AF92,_Afg07,3),\"\"),\"\"))","v":""},null,"hkg",null,null,null,null,null,null,null,null,null,null,null,null,null,null,null,null,null,null,null,null,{"$f":"A92","v":7},1,{"$f":"IF(AND(AF92>1,AH92=0),1,0)","v":0},{"$f":"IF(AND(E92<>\"\",VLOOKUP(AF92,_Afg07,3)<>\"\"),E92,0)","v":0},{"$f":"IF(AND(AF92>1,VLOOKUP(AF92,_Afg07,3)=\"\"),1,0)","v":0},{"$f":"IF(AND(E92<>\"\",AF92>1,VLOOKUP(AF92,_Afg07,3)=\"\"),E92,0)","v":0},null,null,1,"","",0,0]
[null,null,null,null,null,null,null,null,null,null,null,null,null,null,null,null,null,null,null,null,null,null,null,null,null,null,null,null,null,null,null,null,null,null,null,null,null,null,0,0,0,0,0]
[null,null,{"$f":"IF(E94>0,\"\",IF(E92>0,\"\",IF(AND(AF94>1,AI92+AI94=0),Fordelt_areal2/2,IF(AF94>1,Fordelt_areal2,\"\"))))","v":""},{"$f":"IF(C94<>\"\",\"ha\",\"\")","v":""},null,"ha",{"$f":"IF(I94<>\"\",\"\",IF(VLOOKUP(AF94,_Afg07,Udbyttenr3)=0,\"\",VLOOKUP(AF94,_Afg07,Udbyttenr3)))","v":""},{"$f":"IF(G94=\"\",\"\",IF(AF94>1,IF(VLOOKUP(AF94,_Afg07,3)<>\"\",VLOOKUP(AF94,_Afg07,3),\"\"),\"\"))","v":""},null,"hkg",null,null,null,null,null,null,null,null,null,null,null,null,null,null,null,null,null,null,null,null,null,1,null,{"$f":"IF(AND(E94<>\"\",VLOOKUP(AF94,_Afg07,3)<>\"\"),E94,0)","v":0},{"$f":"IF(AND(AF94>1,VLOOKUP(AF94,_Afg07,3)=\"\"),1,0)","v":0},{"$f":"IF(AND(E94<>\"\",AF94>1,VLOOKUP(AF94,_Afg07,3)=\"\"),E94,0)","v":0},null,null,1,"","",0,0]
[]
[null,null,null,null,null,null,null,null,null,null,null,null,null,null,null,null,null,null,null,null,null,null,null,null,null,null,null,null,null,null,"Sum",null,{"$f":"AG62+AG64+AG67+AG69+AG72+AG74+AG77+AG79+AG82+AG84+AG87+AG89+AG92+AG94","v":0},{"$f":"AH62+AH64+AH67+AH69+AH72+AH74+AH77+AH79+AH82+AH84+AH87+AH89+AH92+AH94","v":0},null,{"$f":"AJ62+AJ64+AJ67+AJ69+AJ72+AJ74+AJ77+AJ79+AJ82+AJ84+AJ87+AJ89+AJ92+AJ94","v":0}]
["Delsædskifte 3"]
[]
[]
[null,"Marker/ejendomme:",null,null,null,null,null,null,null,null,null,null,null,null,null,null,null,null,null,null,null,null,null,null,null,null,null,null,null,null,null,null,"Udbyttenr4"]
[]
[null,"Jordtype",null,null,null,null,null,null,null,null,null,null,null,null,null,null,null,null,null,null,null,null,null,null,null,null,null,null,null,null,null,4,{"$f":"IF(AF102=1,5,IF(AF102=2,6,IF(AF102=3,7,IF(AF102=4,8,IF(AF102=5,9,\"\")))))","v":8},"Areal"]
[null,null,null,null,null,null,null,null,null,null,null,null,null,null,null,null,null,null,null,null,null,null,null,null,null,null,null,null,null,null,null,null,null,"til fordeling","Fordelt_areal"]
[null,"Samlet areal",null,"ha",null,null,null,null,null,null,null,null,null,null,null,null,null,null,null,null,null,null,null,null,null,null,null,null,null,null,null,null,null,{"$f":"C104-AH142","v":0},{"$f":"Areal_fordel3/Antal_skifter3","v":{"$error":"#DIV/0!"}}]
[]
["Afgrødefølge",null,"  Areal",null,null,null," Udbytte pr. ha",null,null,null,null,"Kommentarer",null,null,null,null,null,null,null,null,null,null,null,null,null,null,null,null,null,null,null,null,"Antal","Areal","Efter-","Areal"]
[null,null,null,null,null,null,null,null,null,null,null,null,null,null,null,null,null,null,null,null,null,null,null,null,null,null,null,null,null,null,"Afgrødefølge",null,"skifter","indtastet","afgrøde","indtastet efterafgrøde"]
[1,null,{"$f":"IF(E108>0,\"\",IF(AND(AF108>1,AF110>1,AI108+AI110=0),Fordelt_areal3/2,IF(AF108>1,Fordelt_areal3,\"\")))","v":""},{"$f":"IF(C108<>\"\",\"ha\",\"\")","v":""},null,"ha",{"$f":"IF(I108<>\"\",\"\",IF(VLOOKUP(AF108,_Afg07,Udbyttenr4)=0,\"\",VLOOKUP(AF108,_Afg07,Udbyttenr4)))","v":""},{"$f":"IF(G108=\"\",\"\",IF(AF108>1,IF(VLOOKUP(AF108,_Afg07,3)<>\"\",VLOOKUP(AF108,_Afg07,3),\"\"),\"\"))","v":""},null,"hkg",null,null,null,null,null,null,null,null,null,null,null,null,null,null,null,null,null,null,null,null,{"$f":"A108","v":1},1,{"$f":"IF(AND(AF108>1,AH108=0),1,0)","v":0},{"$f":"IF(AND(E108<>\"\",VLOOKUP(AF108,_Afg07,3)<>\"\"),E108,0)","v":0},{"$f":"IF(AND(AF108>1,VLOOKUP(AF108,_Afg07,3)=\"\"),1,0)","v":0},{"$f":"IF(AND(E108<>\"\",AF108>1,VLOOKUP(AF108,_Afg07,3)=\"\"),E108,0)","v":0},null,null,1,"","",0,{"$f":"AI108","v":0}]
[null,null,null,null,null,null,null,null,null,null,null,null,null,null,null,null,null,null,null,null,null,null,null,null,null,null,null,null,null,null,null,null,null,null,null,null,null,null,0,0,0,0,0]
[null,null,{"$f":"IF(E110>0,\"\",IF(E108>0,\"\",IF(AND(AF110>1,AI108+AI110=0),Fordelt_areal3/2,IF(AF110>1,Fordelt_areal3,\"\"))))","v":""},{"$f":"IF(C110<>\"\",\"ha\",\"\")","v":""},null,"ha",{"$f":"IF(I110<>\"\",\"\",IF(VLOOKUP(AF110,_Afg07,Udbyttenr4)=0,\"\",VLOOKUP(AF110,_Afg07,Udbyttenr4)))","v":""},{"$f":"IF(G110=\"\",\"\",IF(AF110>1,IF(VLOOKUP(AF110,_Afg07,3)<>\"\",VLOOKUP(AF110,_Afg07,3),\"\"),\"\"))","v":""},null,"hkg",null,null,null,null,null,null,null,null,null,null,null,null,null,null,null,null,null,null,null,null,null,1,null,{"$f":"IF(AND(E110<>\"\",VLOOKUP(AF110,_Afg07,3)<>\"\"),E110,0)","v":0},{"$f":"IF(AND(AF110>1,VLOOKUP(AF110,_Afg07,3)=\"\"),1,0)","v":0},{"$f":"IF(AND(E110<>\"\",AF110>1,VLOOKUP(AF110,_Afg07,3)=\"\"),E110,0)","v":0},null,null,1,"","",0,0]
[null,null,null,null,null,null,null,null,null,null,null,null,null,null,null,null,null,null,null,null,null,null,null,null,null,null,null,null,null,null,null,null,null,null,null,null,null,null,0,0,0,0,0]
[null,null,null,null,null,null,null,null,null,null,null,null,null,null,null,null,null,null,null,null,null,null,null,null,null,null,null,null,null,null,null,null,null,null,null,null,null,null,0,0,0,0,0]
[2,null,{"$f":"IF(E113>0,\"\",IF(AND(AF113>1,AF115>1,AI113+AI115=0),Fordelt_areal3/2,IF(AF113>1,Fordelt_areal3,\"\")))","v":""},{"$f":"IF(C113<>\"\",\"ha\",\"\")","v":""},null,"ha",{"$f":"IF(I113<>\"\",\"\",IF(VLOOKUP(AF113,_Afg07,Udbyttenr4)=0,\"\",VLOOKUP(AF113,_Afg07,Udbyttenr4)))","v":""},{"$f":"IF(G113=\"\",\"\",IF(AF113>1,IF(VLOOKUP(AF113,_Afg07,3)<>\"\",VLOOKUP(AF113,_Afg07,3),\"\"),\"\"))","v":""},null,"hkg",null,null,null,null,null,null,null,null,null,null,null,null,null,null,null,null,null,null,null,null,{"$f":"A113","v":2},1,{"$f":"IF(AND(AF113>1,AH113=0),1,0)","v":0},{"$f":"IF(AND(E113<>\"\",VLOOKUP(AF113,_Afg07,3)<>\"\"),E113,0)","v":0},{"$f":"IF(AND(AF113>1,VLOOKUP(AF113,_Afg07,3)=\"\"),1,0)","v":0},{"$f":"IF(AND(E113<>\"\",AF113>1,VLOOKUP(AF113,_Afg07,3)=\"\"),E113,0)","v":0},null,null,1,"","",0,0]
[null,null,null,null,null,null,null,null,null,null,null,null,null,null,null,null,null,null,null,null,null,null,null,null,null,null,null,null,null,null,null,null,null,null,null,null,null,null,0,0,0,0,0]
[null,null,{"$f":"IF(E115>0,\"\",IF(E113>0,\"\",IF(AND(AF115>1,AI113+AI115=0),Fordelt_areal3/2,IF(AF115>1,Fordelt_areal3,\"\"))))","v":""},{"$f":"IF(C115<>\"\",\"ha\",\"\")","v":""},null,"ha",{"$f":"IF(I115<>\"\",\"\",IF(VLOOKUP(AF115,_Afg07,Udbyttenr4)=0,\"\",VLOOKUP(AF115,_Afg07,Udbyttenr4)))","v":""},{"$f":"IF(G115=\"\",\"\",IF(AF115>1,IF(VLOOKUP(AF115,_Afg07,3)<>\"\",VLOOKUP(AF115,_Afg07,3),\"\"),\"\"))","v":""},null,"hkg",null,null,null,null,null,null,null,null,null,null,null,null,null,null,null,null,null,null,null,null,null,1,null,{"$f":"IF(AND(E115<>\"\",VLOOKUP(AF115,_Afg07,3)<>\"\"),E115,0)","v":0},{"$f":"IF(AND(AF115>1,VLOOKUP(AF115,_Afg07,3)=\"\"),1,0)","v":0},{"$f":"IF(AND(E115<>\"\",AF115>1,VLOOKUP(AF115,_Afg07,3)=\"\"),E115,0)","v":0},null,null,1,"","",0,0]
[null,null,null,null,null,null,null,null,null,null,null,null,null,null,null,null,null,null,null,null,null,null,null,null,null,null,null,null,null,null,null,null,null,null,null,null,null,null,0,0,0,0,0]
[null,null,null,null,null,null,null,null,null,null,null,null,null,null,null,null,null,null,null,null,null,null,null,null,null,null,null,null,null,null,null,null,null,null,null,null,null,null,0,0,0,0,0]
[3,null,{"$f":"IF(E118>0,\"\",IF(AND(AF118>1,AF120>1,AI118+AI120=0),Fordelt_areal3/2,IF(AF118>1,Fordelt_areal3,\"\")))","v":""},{"$f":"IF(C118<>\"\",\"ha\",\"\")","v":""},null,"ha",{"$f":"IF(I118<>\"\",\"\",IF(VLOOKUP(AF118,_Afg07,Udbyttenr4)=0,\"\",VLOOKUP(AF118,_Afg07,Udbyttenr4)))","v":""},{"$f":"IF(G118=\"\",\"\",IF(AF118>1,IF(VLOOKUP(AF118,_Afg07,3)<>\"\",VLOOKUP(AF118,_Afg07,3),\"\"),\"\"))","v":""},null,"hkg",null,null,null,null,null,null,null,null,null,null,null,null,null,null,null,null,null,null,null,null,{"$f":"A118","v":3},1,{"$f":"IF(AND(AF118>1,AH118=0),1,0)","v":0},{"$f":"IF(AND(E118<>\"\",VLOOKUP(AF118,_Afg07,3)<>\"\"),E118,0)","v":0},{"$f":"IF(AND(AF118>1,VLOOKUP(AF118,_Afg07,3)=\"\"),1,0)","v":0},{"$f":"IF(AND(E118<>\"\",AF118>1,VLOOKUP(AF118,_Afg07,3)=\"\"),E118,0)","v":0},null,null,1,"","",0,0]
[null,null,null,null,null,null,null,null,null,null,null,null,null,null,null,null,null,null,null,null,null,null,null,null,null,null,null,null,null,null,null,null,null,null,null,null,null,null,0,0,0,0,0]
[null,null,{"$f":"IF(E120>0,\"\",IF(E118>0,\"\",IF(AND(AF120>1,AI118+AI120=0),Fordelt_areal3/2,IF(AF120>1,Fordelt_areal3,\"\"))))","v":""},{"$f":"IF(C120<>\"\",\"ha\",\"\")","v":""},null,"ha",{"$f":"IF(I120<>\"\",\"\",IF(VLOOKUP(AF120,_Afg07,Udbyttenr4)=0,\"\",VLOOKUP(AF120,_Afg07,Udbyttenr4)))","v":""},{"$f":"IF(G120=\"\",\"\",IF(AF120>1,IF(VLOOKUP(AF120,_Afg07,3)<>\"\",VLOOKUP(AF120,_Afg07,3),\"\"),\"\"))","v":""},null,"hkg",null,null,null,null,null,null,null,null,null,null,null,null,null,null,null,null,null,null,null,null,null,1,null,{"$f":"IF(AND(E120<>\"\",VLOOKUP(AF120,_Afg07,3)<>\"\"),E120,0)","v":0},{"$f":"IF(AND(AF120>1,VLOOKUP(AF120,_Afg07,3)=\"\"),1,0)","v":0},{"$f":"IF(AND(E120<>\"\",AF120>1,VLOOKUP(AF120,_Afg07,3)=\"\"),E120,0)","v":0},null,null,1,"","",0,0]
[null,null,null,null,null,null,null,null,null,null,null,null,null,null,null,null,null,null,null,null,null,null,null,null,null,null,null,null,null,null,null,null,null,null,null,null,null,null,0,0,0,0,0]
[null,null,null,null,null,null,null,null,null,null,null,null,null,null,null,null,null,null,null,null,null,null,null,null,null,null,null,null,null,null,null,null,null,null,null,null,null,null,0,0,0,0,0]
[4,null,{"$f":"IF(E123>0,\"\",IF(AND(AF123>1,AF125>1,AI123+AI125=0),Fordelt_areal3/2,IF(AF123>1,Fordelt_areal3,\"\")))","v":""},{"$f":"IF(C123<>\"\",\"ha\",\"\")","v":""},null,"ha",{"$f":"IF(I123<>\"\",\"\",IF(VLOOKUP(AF123,_Afg07,Udbyttenr4)=0,\"\",VLOOKUP(AF123,_Afg07,Udbyttenr4)))","v":""},{"$f":"IF(G123=\"\",\"\",IF(AF123>1,IF(VLOOKUP(AF123,_Afg07,3)<>\"\",VLOOKUP(AF123,_Afg07,3),\"\"),\"\"))","v":""},null,"hkg",null,null,null,null,null,null,null,null,null,null,null,null,null,null,null,null,null,null,null,null,{"$f":"A123","v":4},1,{"$f":"IF(AND(AF123>1,AH123=0),1,0)","v":0},{"$f":"IF(AND(E123<>\"\",VLOOKUP(AF123,_Afg07,3)<>\"\"),E123,0)","v":0},{"$f":"IF(AND(AF123>1,VLOOKUP(AF123,_Afg07,3)=\"\"),1,0)","v":0},{"$f":"IF(AND(E123<>\"\",AF123>1,VLOOKUP(AF123,_Afg07,3)=\"\"),E123,0)","v":0},null,null,1,"","",0,0]
[null,null,null,null,null,null,null,null,null,null,null,null,null,null,null,null,null,null,null,null,null,null,null,null,null,null,null,null,null,null,null,null,null,null,null,null,null,null,0,0,0,0,0]
[null,null,{"$f":"IF(E125>0,\"\",IF(E123>0,\"\",IF(AND(AF125>1,AI123+AI125=0),Fordelt_areal3/2,IF(AF125>1,Fordelt_areal3,\"\"))))","v":""},{"$f":"IF(C125<>\"\",\"ha\",\"\")","v":""},null,"ha",{"$f":"IF(I125<>\"\",\"\",IF(VLOOKUP(AF125,_Afg07,Udbyttenr4)=0,\"\",VLOOKUP(AF125,_Afg07,Udbyttenr4)))","v":""},{"$f":"IF(G125=\"\",\"\",IF(AF125>1,IF(VLOOKUP(AF125,_Afg07,3)<>\"\",VLOOKUP(AF125,_Afg07,3),\"\"),\"\"))","v":""},null,"hkg",null,null,null,null,null,null,null,null,null,null,null,null,null,null,null,null,null,null,null,null,null,1,null,{"$f":"IF(AND(E125<>\"\",VLOOKUP(AF125,_Afg07,3)<>\"\"),E125,0)","v":0},{"$f":"IF(AND(AF125>1,VLOOKUP(AF125,_Afg07,3)=\"\"),1,0)","v":0},{"$f":"IF(AND(E125<>\"\",AF125>1,VLOOKUP(AF125,_Afg07,3)=\"\"),E125,0)","v":0},null,null,1,"","",0,0]
[null,null,null,null,null,null,null,null,null,null,null,null,null,null,null,null,null,null,null,null,null,null,null,null,null,null,null,null,null,null,null,null,null,null,null,null,null,null,0,0,0,0,0]
[null,null,null,null,null,null,null,null,null,null,null,null,null,null,null,null,null,null,null,null,null,null,null,null,null,null,null,null,null,null,null,null,null,null,null,null,null,null,0,0,0,0,0]
[5,null,{"$f":"IF(E128>0,\"\",IF(AND(AF128>1,AF130>1,AI128+AI130=0),Fordelt_areal3/2,IF(AF128>1,Fordelt_areal3,\"\")))","v":""},{"$f":"IF(C128<>\"\",\"ha\",\"\")","v":""},null,"ha",{"$f":"IF(I128<>\"\",\"\",IF(VLOOKUP(AF128,_Afg07,Udbyttenr4)=0,\"\",VLOOKUP(AF128,_Afg07,Udbyttenr4)))","v":""},{"$f":"IF(G128=\"\",\"\",IF(AF128>1,IF(VLOOKUP(AF128,_Afg07,3)<>\"\",VLOOKUP(AF128,_Afg07,3),\"\"),\"\"))","v":""},null,"hkg",null,null,null,null,null,null,null,null,null,null,null,null,null,null,null,null,null,null,null,null,{"$f":"A128","v":5},1,{"$f":"IF(AND(AF128>1,AH128=0),1,0)","v":0},{"$f":"IF(AND(E128<>\"\",VLOOKUP(AF128,_Afg07,3)<>\"\"),E128,0)","v":0},{"$f":"IF(AND(AF128>1,VLOOKUP(AF128,_Afg07,3)=\"\"),1,0)","v":0},{"$f":"IF(AND(E128<>\"\",AF128>1,VLOOKUP(AF128,_Afg07,3)=\"\"),E128,0)","v":0},null,null,1,"","",0,0]
[null,null,null,null,null,null,null,null,null,null,null,null,null,null,null,null,null,null,null,null,null,null,null,null,null,null,null,null,null,null,null,null,null,null,null,null,null,null,0,0,0,0,0]
[null,null,{"$f":"IF(E130>0,\"\",IF(E128>0,\"\",IF(AND(AF130>1,AI128+AI130=0),Fordelt_areal3/2,IF(AF130>1,Fordelt_areal3,\"\"))))","v":""},{"$f":"IF(C130<>\"\",\"ha\",\"\")","v":""},null,"ha",{"$f":"IF(I130<>\"\",\"\",IF(VLOOKUP(AF130,_Afg07,Udbyttenr4)=0,\"\",VLOOKUP(AF130,_Afg07,Udbyttenr4)))","v":""},{"$f":"IF(G130=\"\",\"\",IF(AF130>1,IF(VLOOKUP(AF130,_Afg07,3)<>\"\",VLOOKUP(AF130,_Afg07,3),\"\"),\"\"))","v":""},null,"hkg",null,null,null,null,null,null,null,null,null,null,null,null,null,null,null,null,null,null,null,null,null,1,null,{"$f":"IF(AND(E130<>\"\",VLOOKUP(AF130,_Afg07,3)<>\"\"),E130,0)","v":0},{"$f":"IF(AND(AF130>1,VLOOKUP(AF130,_Afg07,3)=\"\"),1,0)","v":0},{"$f":"IF(AND(E130<>\"\",AF130>1,VLOOKUP(AF130,_Afg07,3)=\"\"),E130,0)","v":0},null,null,1,"","",0,0]
[null,null,null,null,null,null,null,null,null,null,null,null,null,null,null,null,null,null,null,null,null,null,null,null,null,null,null,null,null,null,null,null,null,null,null,null,null,null,0,0,0,0,0]
[null,null,null,null,null,null,null,null,null,null,null,null,null,null,null,null,null,null,null,null,null,null,null,null,null,null,null,null,null,null,null,null,null,null,null,null,null,null,0,0,0,0,0]
[6,null,{"$f":"IF(E133>0,\"\",IF(AND(AF133>1,AF135>1,AI133+AI135=0),Fordelt_areal3/2,IF(AF133>1,Fordelt_areal3,\"\")))","v":""},{"$f":"IF(C133<>\"\",\"ha\",\"\")","v":""},null,"ha",{"$f":"IF(I133<>\"\",\"\",IF(VLOOKUP(AF133,_Afg07,Udbyttenr4)=0,\"\",VLOOKUP(AF133,_Afg07,Udbyttenr4)))","v":""},{"$f":"IF(G133=\"\",\"\",IF(AF133>1,IF(VLOOKUP(AF133,_Afg07,3)<>\"\",VLOOKUP(AF133,_Afg07,3),\"\"),\"\"))","v":""},null,"hkg",null,null,null,null,null,null,null,null,null,null,null,null,null,null,null,null,null,null,null,null,{"$f":"A133","v":6},1,{"$f":"IF(AND(AF133>1,AH133=0),1,0)","v":0},{"$f":"IF(AND(E133<>\"\",VLOOKUP(AF133,_Afg07,3)<>\"\"),E133,0)","v":0},{"$f":"IF(AND(AF133>1,VLOOKUP(AF133,_Afg07,3)=\"\"),1,0)","v":0},{"$f":"IF(AND(E133<>\"\",AF133>1,VLOOKUP(AF133,_Afg07,3)=\"\"),E133,0)","v":0},null,null,1,"","",0,0]
[null,null,null,null,null,null,null,null,null,null,null,null,null,null,null,null,null,null,null,null,null,null,null,null,null,null,null,null,null,null,null,null,null,null,null,null,null,null,0,0,0,0,0]
[null,null,{"$f":"IF(E135>0,\"\",IF(E133>0,\"\",IF(AND(AF135>1,AI133+AI135=0),Fordelt_areal3/2,IF(AF135>1,Fordelt_areal3,\"\"))))","v":""},{"$f":"IF(C135<>\"\",\"ha\",\"\")","v":""},null,"ha",{"$f":"IF(I135<>\"\",\"\",IF(VLOOKUP(AF135,_Afg07,Udbyttenr4)=0,\"\",VLOOKUP(AF135,_Afg07,Udbyttenr4)))","v":""},{"$f":"IF(G135=\"\",\"\",IF(AF135>1,IF(VLOOKUP(AF135,_Afg07,3)<>\"\",VLOOKUP(AF135,_Afg07,3),\"\"),\"\"))","v":""},null,"hkg",null,null,null,null,null,null,null,null,null,null,null,null,null,null,null,null,null,null,null,null,null,1,null,{"$f":"IF(AND(E135<>\"\",VLOOKUP(AF135,_Afg07,3)<>\"\"),E135,0)","v":0},{"$f":"IF(AND(AF135>1,VLOOKUP(AF135,_Afg07,3)=\"\"),1,0)","v":0},{"$f":"IF(AND(E135<>\"\",AF135>1,VLOOKUP(AF135,_Afg07,3)=\"\"),E135,0)","v":0},null,null,1,"","",0,0]
[null,null,null,null,null,null,null,null,null,null,null,null,null,null,null,null,null,null,null,null,null,null,null,null,null,null,null,null,null,null,null,null,null,null,null,null,null,null,0,0,0,0,0]
[null,null,null,null,null,null,null,null,null,null,null,null,null,null,null,null,null,null,null,null,null,null,null,null,null,null,null,null,null,null,null,null,null,null,null,null,null,null,0,0,0,0,0]
[7,null,{"$f":"IF(E138>0,\"\",IF(AND(AF138>1,AF140>1,AI138+AI140=0),Fordelt_areal3/2,IF(AF138>1,Fordelt_areal3,\"\")))","v":""},{"$f":"IF(C138<>\"\",\"ha\",\"\")","v":""},null,"ha",{"$f":"IF(I138<>\"\",\"\",IF(VLOOKUP(AF138,_Afg07,Udbyttenr4)=0,\"\",VLOOKUP(AF138,_Afg07,Udbyttenr4)))","v":""},{"$f":"IF(G138=\"\",\"\",IF(AF138>1,IF(VLOOKUP(AF138,_Afg07,3)<>\"\",VLOOKUP(AF138,_Afg07,3),\"\"),\"\"))","v":""},null,"hkg",null,null,null,null,null,null,null,null,null,null,null,null,null,null,null,null,null,null,null,null,{"$f":"A138","v":7},1,{"$f":"IF(AND(AF138>1,AH138=0),1,0)","v":0},{"$f":"IF(AND(E138<>\"\",VLOOKUP(AF138,_Afg07,3)<>\"\"),E138,0)","v":0},{"$f":"IF(AND(AF138>1,VLOOKUP(AF138,_Afg07,3)=\"\"),1,0)","v":0},{"$f":"IF(AND(E138<>\"\",AF138>1,VLOOKUP(AF138,_Afg07,3)=\"\"),E138,0)","v":0},null,null,1,"","",0,0]
[null,null,null,null,null,null,null,null,null,null,null,null,null,null,null,null,null,null,null,null,null,null,null,null,null,null,null,null,null,null,null,null,null,null,null,null,null,null,0,0,0,0,0]
[null,null,{"$f":"IF(E140>0,\"\",IF(E138>0,\"\",IF(AND(AF140>1,AI138+AI140=0),Fordelt_areal3/2,IF(AF140>1,Fordelt_areal3,\"\"))))","v":""},{"$f":"IF(C140<>\"\",\"ha\",\"\")","v":""},null,"ha",{"$f":"IF(I140<>\"\",\"\",IF(VLOOKUP(AF140,_Afg07,Udbyttenr4)=0,\"\",VLOOKUP(AF140,_Afg07,Udbyttenr4)))","v":""},{"$f":"IF(G140=\"\",\"\",IF(AF140>1,IF(VLOOKUP(AF140,_Afg07,3)<>\"\",VLOOKUP(AF140,_Afg07,3),\"\"),\"\"))","v":""},null,"hkg",null,null,null,null,null,null,null,null,null,null,null,null,null,null,null,null,null,null,null,null,null,1,null,{"$f":"IF(AND(E140<>\"\",VLOOKUP(AF140,_Afg07,3)<>\"\"),E140,0)","v":0},{"$f":"IF(AND(AF140>1,VLOOKUP(AF140,_Afg07,3)=\"\"),1,0)","v":0},{"$f":"IF(AND(E140<>\"\",AF140>1,VLOOKUP(AF140,_Afg07,3)=\"\"),E140,0)","v":0},null,null,1,"","",0,0]
[]
[null,null,null,null,null,null,null,null,null,null,null,null,null,null,null,null,null,null,null,null,null,null,null,null,null,null,null,null,null,null,"Sum",null,{"$f":"AG108+AG110+AG113+AG115+AG118+AG120+AG123+AG125+AG128+AG130+AG133+AG135+AG138+AG140","v":0},{"$f":"AH108+AH110+AH113+AH115+AH118+AH120+AH123+AH125+AH128+AH130+AH133+AH135+AH138+AH140","v":0},null,{"$f":"AJ108+AJ110+AJ113+AJ115+AJ118+AJ120+AJ123+AJ125+AJ128+AJ130+AJ133+AJ135+AJ138+AJ140","v":0}]
["Samlet produktion",null,null,null,null,null,null,null,null,null,null,null,null,null,null,null,null,null,null,null,null,null,null,null,null,null,null,null,null,null,null,null,null,null,"Foderproduktion fordelt på korntyper"]
[null,null,null,null,null,null,null,null,null,null,null,null,null,null,null,null,null,null,null,null,null,null,null,null,null,null,null,null,null,null,null,null,null,null,"Hvede",null,"Byg",null,"Havre",null,"Rug",null,"Triticale",null,"Majs",null,null,null,"Areal med efterafgrøder"]
[null,"Afgrøder","Areal",null,"Gns. udbytte",null,null,"Udbytte i alt",null,"Foderudbytte",null,null,null,null,null,null,null,null,null,null,null,null,null,null,null,null,null,null,null,null,null,null,null,null,null,null,null,null,null,null,null,null,null,null,null,null,null,null,null,"Efterafgrøde"]
[null,null,null,null,null,null,null,null,null,null,null,null,null,null,null,null,null,null,null,null,null,null,null,null,null,null,null,null,null,null,null,"Afgnr","Foderudbytte",null,"Hkg","Fesv","Hkg","Fesv","Hkg","Fesv","Hkg","Fesv","Hkg","Fesv","Hkg","Fesv",null,null,null,1]
[null,null,{"$f":"IF(AF147>1,IF(DSUM(Base,2,$AF146:$AF147)=0,\"\",DSUM(Base,2,$AF146:$AF147)))","v":false},{"$f":"IF(C147=\"\",\"\",\"ha\")","v":"ha"},{"$f":"IF(ISERROR(G147/C147),\"\",G147/C147)","v":""},{"$f":"IF(E147=\"\",\"\",\"hkg\")","v":""},{"$f":"IF(DSUM(Base,4,$AF146:$AF147)=0,\"\",DSUM(Base,4,$AF146:$AF147))","v":""},null,{"$f":"IF(G147=\"\",\"\",\"hkg\")","v":""},{"$f":"IF(ISERROR(G147*VLOOKUP(AF147,_Afg07,'Ark1'!$BT$285)),\"\",G147*VLOOKUP(AF147,_Afg07,'Ark1'!$BT$285))","v":""},null,{"$f":"IF(J147=\"\",\"\",\"FEsv\")","v":""},null,null,null,null,null,null,null,null,null,null,null,null,null,null,null,null,null,null,null,1,{"$f":"IF(J147<>\"\",J147,0)","v":0},null,{"$f":"IF(VLOOKUP($AF147,_Afg07,'Ark1'!$CL$285)=\"Hvede\",$G147,0)","v":0},{"$f":"IF(VLOOKUP($AF147,_Afg07,'Ark1'!$CL$285)=\"Hvede\",$J147,0)","v":0},{"$f":"IF(VLOOKUP($AF147,_Afg07,'Ark1'!$CL$285)=\"Byg\",$G147,0)","v":0},{"$f":"IF(VLOOKUP($AF147,_Afg07,'Ark1'!$CL$285)=\"Byg\",$J147,0)","v":0},{"$f":"IF(VLOOKUP($AF147,_Afg07,'Ark1'!$CL$285)=\"Havre\",$G147,0)","v":0},{"$f":"IF(VLOOKUP($AF147,_Afg07,'Ark1'!$CL$285)=\"Havre\",$J147,0)","v":0},{"$f":"IF(VLOOKUP($AF147,_Afg07,'Ark1'!$CL$285)=\"Rug\",$G147,0)","v":0},{"$f":"IF(VLOOKUP($AF147,_Afg07,'Ark1'!$CL$285)=\"Rug\",$J147,0)","v":0},{"$f":"IF(VLOOKUP($AF147,_Afg07,'Ark1'!$CL$285)=\"Triticale\",$G147,0)","v":0},{"$f":"IF(VLOOKUP($AF147,_Afg07,'Ark1'!$CL$285)=\"Triticale\",$J147,0)","v":0},{"$f":"IF(VLOOKUP($AF147,_Afg07,'Ark1'!$CL$285)=\"Majs\",$G147,0)","v":0},{"$f":"IF(VLOOKUP($AF147,_Afg07,'Ark1'!$CL$285)=\"Majs\",$J147,0)","v":0},null,null,null,{"$f":"DSUM(Base,2,AX145:AX146)","v":0}]
[null,null,null,null,null,null,null,null,null,null,null,null,null,null,null,null,null,null,null,null,null,null,null,null,null,null,null,null,null,null,null,"Afgnr",null,null,null,null,null,null,null,null,null,null,null,null,null,null,null,null,null,{"$f":"IF(ISERROR(AX147*100/C310),\"\",ROUND(AX147*100/C310,1))","v":""}]
[null,null,{"$f":"IF(AF149>1,IF(DSUM(Base,2,$AF148:$AF149)=0,\"\",DSUM(Base,2,$AF148:$AF149)),\"\")","v":""},{"$f":"IF(C149=\"\",\"\",\"ha\")","v":""},{"$f":"IF(ISERROR(G149/C149),\"\",G149/C149)","v":""},{"$f":"IF(E149=\"\",\"\",\"hkg\")","v":""},{"$f":"IF(DSUM(Base,4,$AF148:$AF149)=0,\"\",DSUM(Base,4,$AF148:$AF149))","v":""},null,{"$f":"IF(G149=\"\",\"\",\"hkg\")","v":""},{"$f":"IF(ISERROR(G149*VLOOKUP(AF149,_Afg07,'Ark1'!$BT$285)),\"\",G149*VLOOKUP(AF149,_Afg07,'Ark1'!$BT$285))","v":""},null,{"$f":"IF(J149=\"\",\"\",\"FEsv\")","v":""},null,null,null,null,null,null,null,null,null,null,null,null,null,null,null,null,null,null,null,1,{"$f":"IF(J149<>\"\",J149,0)","v":0},null,{"$f":"IF(VLOOKUP($AF149,_Afg07,'Ark1'!$CL$285)=\"Hvede\",$G149,0)","v":0},{"$f":"IF(VLOOKUP($AF149,_Afg07,'Ark1'!$CL$285)=\"Hvede\",$J149,0)","v":0},{"$f":"IF(VLOOKUP($AF149,_Afg07,'Ark1'!$CL$285)=\"Byg\",$G149,0)","v":0},{"$f":"IF(VLOOKUP($AF149,_Afg07,'Ark1'!$CL$285)=\"Byg\",$J149,0)","v":0},{"$f":"IF(VLOOKUP($AF149,_Afg07,'Ark1'!$CL$285)=\"Havre\",$G149,0)","v":0},{"$f":"IF(VLOOKUP($AF149,_Afg07,'Ark1'!$CL$285)=\"Havre\",$J149,0)","v":0},{"$f":"IF(VLOOKUP($AF149,_Afg07,'Ark1'!$CL$285)=\"Rug\",$G149,0)","v":0},{"$f":"IF(VLOOKUP($AF149,_Afg07,'Ark1'!$CL$285)=\"Rug\",$J149,0)","v":0},{"$f":"IF(VLOOKUP($AF149,_Afg07,'Ark1'!$CL$285)=\"Triticale\",$G149,0)","v":0},{"$f":"IF(VLOOKUP($AF149,_Afg07,'Ark1'!$CL$285)=\"Triticale\",$J149,0)","v":0},{"$f":"IF(VLOOKUP($AF149,_Afg07,'Ark1'!$CL$285)=\"Majs\",$G149,0)","v":0},{"$f":"IF(VLOOKUP($AF149,_Afg07,'Ark1'!$CL$285)=\"Majs\",$J149,0)","v":0}]
[null,null,null,null,null,null,null,null,null,null,null,null,null,null,null,null,null,null,null,null,null,null,null,null,null,null,null,null,null,null,null,"Afgnr"]
[null,null,{"$f":"IF(AF151>1,IF(DSUM(Base,2,$AF150:$AF151)=0,\"\",DSUM(Base,2,$AF150:$AF151)),\"\")","v":""},{"$f":"IF(C151=\"\",\"\",\"ha\")","v":""},{"$f":"IF(ISERROR(G151/C151),\"\",G151/C151)","v":""},{"$f":"IF(E151=\"\",\"\",\"hkg\")","v":""},{"$f":"IF(DSUM(Base,4,$AF150:$AF151)=0,\"\",DSUM(Base,4,$AF150:$AF151))","v":""},null,{"$f":"IF(G151=\"\",\"\",\"hkg\")","v":""},{"$f":"IF(ISERROR(G151*VLOOKUP(AF151,_Afg07,'Ark1'!$BT$285)),\"\",G151*VLOOKUP(AF151,_Afg07,'Ark1'!$BT$285))","v":""},null,{"$f":"IF(J151=\"\",\"\",\"FEsv\")","v":""},null,null,null,null,null,null,null,null,null,null,null,null,null,null,null,null,null,null,null,1,{"$f":"IF(J151<>\"\",J151,0)","v":0},null,{"$f":"IF(VLOOKUP($AF151,_Afg07,'Ark1'!$CL$285)=\"Hvede\",$G151,0)","v":0},{"$f":"IF(VLOOKUP($AF151,_Afg07,'Ark1'!$CL$285)=\"Hvede\",$J151,0)","v":0},{"$f":"IF(VLOOKUP($AF151,_Afg07,'Ark1'!$CL$285)=\"Byg\",$G151,0)","v":0},{"$f":"IF(VLOOKUP($AF151,_Afg07,'Ark1'!$CL$285)=\"Byg\",$J151,0)","v":0},{"$f":"IF(VLOOKUP($AF151,_Afg07,'Ark1'!$CL$285)=\"Havre\",$G151,0)","v":0},{"$f":"IF(VLOOKUP($AF151,_Afg07,'Ark1'!$CL$285)=\"Havre\",$J151,0)","v":0},{"$f":"IF(VLOOKUP($AF151,_Afg07,'Ark1'!$CL$285)=\"Rug\",$G151,0)","v":0},{"$f":"IF(VLOOKUP($AF151,_Afg07,'Ark1'!$CL$285)=\"Rug\",$J151,0)","v":0},{"$f":"IF(VLOOKUP($AF151,_Afg07,'Ark1'!$CL$285)=\"Triticale\",$G151,0)","v":0},{"$f":"IF(VLOOKUP($AF151,_Afg07,'Ark1'!$CL$285)=\"Triticale\",$J151,0)","v":0},{"$f":"IF(VLOOKUP($AF151,_Afg07,'Ark1'!$CL$285)=\"Majs\",$G151,0)","v":0},{"$f":"IF(VLOOKUP($AF151,_Afg07,'Ark1'!$CL$285)=\"Majs\",$J151,0)","v":0}]
[null,null,null,null,null,null,null,null,null,null,null,null,null,null,null,null,null,null,null,null,null,null,null,null,null,null,null,null,null,null,null,"Afgnr"]
[null,null,{"$f":"IF(AF153>1,IF(DSUM(Base,2,$AF152:$AF153)=0,\"\",DSUM(Base,2,$AF152:$AF153)),\"\")","v":""},{"$f":"IF(C153=\"\",\"\",\"ha\")","v":""},{"$f":"IF(ISERROR(G153/C153),\"\",G153/C153)","v":""},{"$f":"IF(E153=\"\",\"\",\"hkg\")","v":""},{"$f":"IF(DSUM(Base,4,$AF152:$AF153)=0,\"\",DSUM(Base,4,$AF152:$AF153))","v":""},null,{"$f":"IF(G153=\"\",\"\",\"hkg\")","v":""},{"$f":"IF(ISERROR(G153*VLOOKUP(AF153,_Afg07,'Ark1'!$BT$285)),\"\",G153*VLOOKUP(AF153,_Afg07,'Ark1'!$BT$285))","v":""},null,{"$f":"IF(J153=\"\",\"\",\"FEsv\")","v":""},null,null,null,null,null,null,null,null,null,null,null,null,null,null,null,null,null,null,null,1,{"$f":"IF(J153<>\"\",J153,0)","v":0},null,{"$f":"IF(VLOOKUP($AF153,_Afg07,'Ark1'!$CL$285)=\"Hvede\",$G153,0)","v":0},{"$f":"IF(VLOOKUP($AF153,_Afg07,'Ark1'!$CL$285)=\"Hvede\",$J153,0)","v":0},{"$f":"IF(VLOOKUP($AF153,_Afg07,'Ark1'!$CL$285)=\"Byg\",$G153,0)","v":0},{"$f":"IF(VLOOKUP($AF153,_Afg07,'Ark1'!$CL$285)=\"Byg\",$J153,0)","v":0},{"$f":"IF(VLOOKUP($AF153,_Afg07,'Ark1'!$CL$285)=\"Havre\",$G153,0)","v":0},{"$f":"IF(VLOOKUP($AF153,_Afg07,'Ark1'!$CL$285)=\"Havre\",$J153,0)","v":0},{"$f":"IF(VLOOKUP($AF153,_Afg07,'Ark1'!$CL$285)=\"Rug\",$G153,0)","v":0},{"$f":"IF(VLOOKUP($AF153,_Afg07,'Ark1'!$CL$285)=\"Rug\",$J153,0)","v":0},{"$f":"IF(VLOOKUP($AF153,_Afg07,'Ark1'!$CL$285)=\"Triticale\",$G153,0)","v":0},{"$f":"IF(VLOOKUP($AF153,_Afg07,'Ark1'!$CL$285)=\"Triticale\",$J153,0)","v":0},{"$f":"IF(VLOOKUP($AF153,_Afg07,'Ark1'!$CL$285)=\"Majs\",$G153,0)","v":0},{"$f":"IF(VLOOKUP($AF153,_Afg07,'Ark1'!$CL$285)=\"Majs\",$J153,0)","v":0}]
[null,null,null,null,null,null,null,null,null,null,null,null,null,null,null,null,null,null,null,null,null,null,null,null,null,null,null,null,null,null,null,"Afgnr"]
[null,null,{"$f":"IF(AF155>1,IF(DSUM(Base,2,$AF154:$AF155)=0,\"\",DSUM(Base,2,$AF154:$AF155)),\"\")","v":""},{"$f":"IF(C155=\"\",\"\",\"ha\")","v":""},{"$f":"IF(ISERROR(G155/C155),\"\",G155/C155)","v":""},{"$f":"IF(E155=\"\",\"\",\"hkg\")","v":""},{"$f":"IF(DSUM(Base,4,$AF154:$AF155)=0,\"\",DSUM(Base,4,$AF154:$AF155))","v":""},null,{"$f":"IF(G155=\"\",\"\",\"hkg\")","v":""},{"$f":"IF(ISERROR(G155*VLOOKUP(AF155,_Afg07,'Ark1'!$BT$285)),\"\",G155*VLOOKUP(AF155,_Afg07,'Ark1'!$BT$285))","v":""},null,{"$f":"IF(J155=\"\",\"\",\"FEsv\")","v":""},null,null,null,null,null,null,null,null,null,null,null,null,null,null,null,null,null,null,null,1,{"$f":"IF(J155<>\"\",J155,0)","v":0},null,{"$f":"IF(VLOOKUP($AF155,_Afg07,'Ark1'!$CL$285)=\"Hvede\",$G155,0)","v":0},{"$f":"IF(VLOOKUP($AF155,_Afg07,'Ark1'!$CL$285)=\"Hvede\",$J155,0)","v":0},{"$f":"IF(VLOOKUP($AF155,_Afg07,'Ark1'!$CL$285)=\"Byg\",$G155,0)","v":0},{"$f":"IF(VLOOKUP($AF155,_Afg07,'Ark1'!$CL$285)=\"Byg\",$J155,0)","v":0},{"$f":"IF(VLOOKUP($AF155,_Afg07,'Ark1'!$CL$285)=\"Havre\",$G155,0)","v":0},{"$f":"IF(VLOOKUP($AF155,_Afg07,'Ark1'!$CL$285)=\"Havre\",$J155,0)","v":0},{"$f":"IF(VLOOKUP($AF155,_Afg07,'Ark1'!$CL$285)=\"Rug\",$G155,0)","v":0},{"$f":"IF(VLOOKUP($AF155,_Afg07,'Ark1'!$CL$285)=\"Rug\",$J155,0)","v":0},{"$f":"IF(VLOOKUP($AF155,_Afg07,'Ark1'!$CL$285)=\"Triticale\",$G155,0)","v":0},{"$f":"IF(VLOOKUP($AF155,_Afg07,'Ark1'!$CL$285)=\"Triticale\",$J155,0)","v":0},{"$f":"IF(VLOOKUP($AF155,_Afg07,'Ark1'!$CL$285)=\"Majs\",$G155,0)","v":0},{"$f":"IF(VLOOKUP($AF155,_Afg07,'Ark1'!$CL$285)=\"Majs\",$J155,0)","v":0}]
[null,null,null,null,null,null,null,null,null,null,null,null,null,null,null,null,null,null,null,null,null,null,null,null,null,null,null,null,null,null,null,"Afgnr"]
[null,null,{"$f":"IF(AF157>1,IF(DSUM(Base,2,$AF156:$AF157)=0,\"\",DSUM(Base,2,$AF156:$AF157)),\"\")","v":""},{"$f":"IF(C157=\"\",\"\",\"ha\")","v":""},{"$f":"IF(ISERROR(G157/C157),\"\",G157/C157)","v":""},{"$f":"IF(E157=\"\",\"\",\"hkg\")","v":""},{"$f":"IF(DSUM(Base,4,$AF156:$AF157)=0,\"\",DSUM(Base,4,$AF156:$AF157))","v":""},null,{"$f":"IF(G157=\"\",\"\",\"hkg\")","v":""},{"$f":"IF(ISERROR(G157*VLOOKUP(AF157,_Afg07,'Ark1'!$BT$285)),\"\",G157*VLOOKUP(AF157,_Afg07,'Ark1'!$BT$285))","v":""},null,{"$f":"IF(J157=\"\",\"\",\"FEsv\")","v":""},null,null,null,null,null,null,null,null,null,null,null,null,null,null,null,null,null,null,null,1,{"$f":"IF(J157<>\"\",J157,0)","v":0},null,{"$f":"IF(VLOOKUP($AF157,_Afg07,'Ark1'!$CL$285)=\"Hvede\",$G157,0)","v":0},{"$f":"IF(VLOOKUP($AF157,_Afg07,'Ark1'!$CL$285)=\"Hvede\",$J157,0)","v":0},{"$f":"IF(VLOOKUP($AF157,_Afg07,'Ark1'!$CL$285)=\"Byg\",$G157,0)","v":0},{"$f":"IF(VLOOKUP($AF157,_Afg07,'Ark1'!$CL$285)=\"Byg\",$J157,0)","v":0},{"$f":"IF(VLOOKUP($AF157,_Afg07,'Ark1'!$CL$285)=\"Havre\",$G157,0)","v":0},{"$f":"IF(VLOOKUP($AF157,_Afg07,'Ark1'!$CL$285)=\"Havre\",$J157,0)","v":0},{"$f":"IF(VLOOKUP($AF157,_Afg07,'Ark1'!$CL$285)=\"Rug\",$G157,0)","v":0},{"$f":"IF(VLOOKUP($AF157,_Afg07,'Ark1'!$CL$285)=\"Rug\",$J157,0)","v":0},{"$f":"IF(VLOOKUP($AF157,_Afg07,'Ark1'!$CL$285)=\"Triticale\",$G157,0)","v":0},{"$f":"IF(VLOOKUP($AF157,_Afg07,'Ark1'!$CL$285)=\"Triticale\",$J157,0)","v":0},{"$f":"IF(VLOOKUP($AF157,_Afg07,'Ark1'!$CL$285)=\"Majs\",$G157,0)","v":0},{"$f":"IF(VLOOKUP($AF157,_Afg07,'Ark1'!$CL$285)=\"Majs\",$J157,0)","v":0}]
[null,null,null,null,null,null,null,null,null,null,null,null,null,null,null,null,null,null,null,null,null,null,null,null,null,null,null,null,null,null,null,"Afgnr"]
[null,null,{"$f":"IF(AF159>1,IF(DSUM(Base,2,$AF158:$AF159)=0,\"\",DSUM(Base,2,$AF158:$AF159)),\"\")","v":""},{"$f":"IF(C159=\"\",\"\",\"ha\")","v":""},{"$f":"IF(ISERROR(G159/C159),\"\",G159/C159)","v":""},{"$f":"IF(E159=\"\",\"\",\"hkg\")","v":""},{"$f":"IF(DSUM(Base,4,$AF158:$AF159)=0,\"\",DSUM(Base,4,$AF158:$AF159))","v":""},null,{"$f":"IF(G159=\"\",\"\",\"hkg\")","v":""},{"$f":"IF(ISERROR(G159*VLOOKUP(AF159,_Afg07,'Ark1'!$BT$285)),\"\",G159*VLOOKUP(AF159,_Afg07,'Ark1'!$BT$285))","v":""},null,{"$f":"IF(J159=\"\",\"\",\"FEsv\")","v":""},null,null,null,null,null,null,null,null,null,null,null,null,null,null,null,null,null,null,null,1,{"$f":"IF(J159<>\"\",J159,0)","v":0},null,{"$f":"IF(VLOOKUP($AF159,_Afg07,'Ark1'!$CL$285)=\"Hvede\",$G159,0)","v":0},{"$f":"IF(VLOOKUP($AF159,_Afg07,'Ark1'!$CL$285)=\"Hvede\",$J159,0)","v":0},{"$f":"IF(VLOOKUP($AF159,_Afg07,'Ark1'!$CL$285)=\"Byg\",$G159,0)","v":0},{"$f":"IF(VLOOKUP($AF159,_Afg07,'Ark1'!$CL$285)=\"Byg\",$J159,0)","v":0},{"$f":"IF(VLOOKUP($AF159,_Afg07,'Ark1'!$CL$285)=\"Havre\",$G159,0)","v":0},{"$f":"IF(VLOOKUP($AF159,_Afg07,'Ark1'!$CL$285)=\"Havre\",$J159,0)","v":0},{"$f":"IF(VLOOKUP($AF159,_Afg07,'Ark1'!$CL$285)=\"Rug\",$G159,0)","v":0},{"$f":"IF(VLOOKUP($AF159,_Afg07,'Ark1'!$CL$285)=\"Rug\",$J159,0)","v":0},{"$f":"IF(VLOOKUP($AF159,_Afg07,'Ark1'!$CL$285)=\"Triticale\",$G159,0)","v":0},{"$f":"IF(VLOOKUP($AF159,_Afg07,'Ark1'!$CL$285)=\"Triticale\",$J159,0)","v":0},{"$f":"IF(VLOOKUP($AF159,_Afg07,'Ark1'!$CL$285)=\"Majs\",$G159,0)","v":0},{"$f":"IF(VLOOKUP($AF159,_Afg07,'Ark1'!$CL$285)=\"Majs\",$J159,0)","v":0}]
[null,null,null,null,null,null,null,null,null,"",null,null,null,null,null,null,null,null,null,null,null,null,null,null,null,null,null,null,null,null,null,"Afgnr"]
[null,null,{"$f":"IF(AF161>1,IF(DSUM(Base,2,$AF160:$AF161)=0,\"\",DSUM(Base,2,$AF160:$AF161)),\"\")","v":""},{"$f":"IF(C161=\"\",\"\",\"ha\")","v":""},{"$f":"IF(ISERROR(G161/C161),\"\",G161/C161)","v":""},{"$f":"IF(E161=\"\",\"\",\"hkg\")","v":""},{"$f":"IF(DSUM(Base,4,$AF160:$AF161)=0,\"\",DSUM(Base,4,$AF160:$AF161))","v":""},null,{"$f":"IF(G161=\"\",\"\",\"hkg\")","v":""},{"$f":"IF(ISERROR(G161*VLOOKUP(AF161,_Afg07,'Ark1'!$BT$285)),\"\",G161*VLOOKUP(AF161,_Afg07,'Ark1'!$BT$285))","v":""},null,{"$f":"IF(J161=\"\",\"\",\"FEsv\")","v":""},null,null,null,null,null,null,null,null,null,null,null,null,null,null,null,null,null,null,null,1,{"$f":"IF(J161<>\"\",J161,0)","v":0},null,{"$f":"IF(VLOOKUP($AF161,_Afg07,'Ark1'!$CL$285)=\"Hvede\",$G161,0)","v":0},{"$f":"IF(VLOOKUP($AF161,_Afg07,'Ark1'!$CL$285)=\"Hvede\",$J161,0)","v":0},{"$f":"IF(VLOOKUP($AF161,_Afg07,'Ark1'!$CL$285)=\"Byg\",$G161,0)","v":0},{"$f":"IF(VLOOKUP($AF161,_Afg07,'Ark1'!$CL$285)=\"Byg\",$J161,0)","v":0},{"$f":"IF(VLOOKUP($AF161,_Afg07,'Ark1'!$CL$285)=\"Havre\",$G161,0)","v":0},{"$f":"IF(VLOOKUP($AF161,_Afg07,'Ark1'!$CL$285)=\"Havre\",$J161,0)","v":0},{"$f":"IF(VLOOKUP($AF161,_Afg07,'Ark1'!$CL$285)=\"Rug\",$G161,0)","v":0},{"$f":"IF(VLOOKUP($AF161,_Afg07,'Ark1'!$CL$285)=\"Rug\",$J161,0)","v":0},{"$f":"IF(VLOOKUP($AF161,_Afg07,'Ark1'!$CL$285)=\"Triticale\",$G161,0)","v":0},{"$f":"IF(VLOOKUP($AF161,_Afg07,'Ark1'!$CL$285)=\"Triticale\",$J161,0)","v":0},{"$f":"IF(VLOOKUP($AF161,_Afg07,'Ark1'!$CL$285)=\"Majs\",$G161,0)","v":0},{"$f":"IF(VLOOKUP($AF161,_Afg07,'Ark1'!$CL$285)=\"Majs\",$J161,0)","v":0}]
[null,null,null,null,null,null,null,null,null,null,null,null,null,null,null,null,null,null,null,null,null,null,null,null,null,null,null,null,null,null,null,"I alt",{"$f":"AG147+AG149+AG151+AG153+AG155+AG157+AG159+AG161","v":0},null,{"$f":"AI147+AI149+AI151+AI153+AI155+AI157+AI159+AI161","v":0},0,0,0,0,0,0,0,0,0,0,0]
[]
["Foderbehov",null,null,null,null,null,null,null,null,null,null,null,null,null,null,null,null,"Andel i kornration (vægtpct.)",null,null,null,null,null,null,null,null,null,null,null,null,null,null,null,null,null,"Hkg af hver kornart"]
[]
[null,"Besætning",null,null,null,null,null,null,null," Foderforbrug",null,null,null,"Kornandel af Fesv",null,null,null,"Byg",null,"Havre",null,"Rug",null,"Triticale",null,"Majs",null,"Hvede",null,null,null,"Foderforbrug_FE","Korn-FE","Gns FE/kg korn","hkg korn","Byg","Havre","Rug","Triticale","Majs","Hvede"]
[]
[null,"Søer m. smågrise",null,"årssøer",null,null,null,null,null,1482,"FE",null,"FE",81,"%",null,"%",50,"%",null,"%",null,"%",null,"%",null,"%",{"$f":"100-R168-T168-V168-X168-Z168","v":50},"%",null,null,{"$f":"C168*IF(L168<>\"\",L168,J168)","v":0},{"$f":"AF168*IF(P168<>\"\",P168,N168)*0.01","v":0},{"$f":"R168*0.01*102+T168*0.01*87+V168*0.01*110+X168*0.01*113+Z168*0.01*122+AB168*0.01*115","v":108.5},{"$f":"AG168/AH168","v":0},{"$f":"$AI168*R168*0.01","v":0},{"$f":"$AI168*T168*0.01","v":0},{"$f":"$AI168*V168*0.01","v":0},{"$f":"$AI168*X168*0.01","v":0},{"$f":"$AI168*Z168*0.01","v":0},{"$f":"$AI168*AB168*0.01","v":0}]
[]
[null,"Smågrise",null,"stk.","Fra ",7,"kg   Til",32,"kg",1.98,"Fesv",null,"Fesv",68,"%",null,"%",22,"%",null,"%",null,"%",null,"%",null,"%",{"$f":"100-R170-T170-V170-X170-Z170","v":78},"%",null,null,{"$f":"C170*(H170-F170)*IF(L170<>\"\",L170,J170)","v":0},{"$f":"AF170*IF(P170<>\"\",P170,N170)*0.01","v":0},{"$f":"R170*0.01*102+T170*0.01*87+V170*0.01*110+X170*0.01*113+Z170*0.01*122+AB170*0.01*115","v":112.14},{"$f":"AG170/AH170","v":0},{"$f":"$AI170*R170*0.01","v":0},{"$f":"$AI170*T170*0.01","v":0},{"$f":"$AI170*V170*0.01","v":0},{"$f":"$AI170*X170*0.01","v":0},{"$f":"$AI170*Z170*0.01","v":0},{"$f":"$AI170*AB170*0.01","v":0}]
[]
[null,"Slagtesvin",null,"stk.","Fra ",32,"kg   Til",107,"kg",2.83,"Fesv",null,"Fesv",78,"%",null,"%",25,"%",null,"%",null,"%",null,"%",null,"%",{"$f":"100-R172-T172-V172-X172-Z172","v":75},"%",null,null,{"$f":"C172*(H172-F172)*IF(L172<>\"\",L172,J172)","v":0},{"$f":"AF172*IF(P172<>\"\",P172,N172)*0.01","v":0},{"$f":"R172*0.01*102+T172*0.01*87+V172*0.01*110+X172*0.01*113+Z172*0.01*122+AB172*0.01*115","v":111.75},{"$f":"AG172/AH172","v":0},{"$f":"$AI172*R172*0.01","v":0},{"$f":"$AI172*T172*0.01","v":0},{"$f":"$AI172*V172*0.01","v":0},{"$f":"$AI172*X172*0.01","v":0},{"$f":"$AI172*Z172*0.01","v":0},{"$f":"$AI172*AB172*0.01","v":0}]
[]
[null,null,null,null,null,null,null,null,null,null,null,null,null,null,null,null,null,null,null,null,null,null,null,null,null,null,null,null,null,null,null,null,null,null,"Sum",{"$f":"AJ168+AJ170+AJ172","v":0},0,0,0,0,0]
[]
["Udskrift"]
[{"$f":"\"Sædskifteplan\"","v":"Sædskifteplan"}]
[]
["Delsædskifte 1"]
[]
["Marker/ejendom:",null,{"$f":"IF(C8<>\"\",C8,\"\")","v":""}]
[]
["Areal sædskifte 1:",null,{"$f":"C12","v":0},{"$f":"IF(C183=\"\",\"\",\"ha\")","v":"ha"},null,{"$f":"VLOOKUP(JBnr2,Jordtyper,2)","v":"JB 5-6"}]
[]
[]
[1,{"$f":"IF(AF16>1,VLOOKUP(AF16,_Afg07,2),\"\")","v":""},{"$f":"IF(AN16>0,AN16,\"\")","v":""},{"$f":"IF(C186=\"\",\"\",\"ha\")","v":""},{"$f":"IF(AO16>0,AO16,\"\")","v":""},{"$f":"IF(E186=\"\",\"\",\"hkg\")","v":""},null,{"$f":"IF(L16=\"\",\"\",L16)","v":""}]
[]
[null,{"$f":"IF(AF18>1,VLOOKUP(AF18,_Afg07,2),\"\")","v":""},{"$f":"IF(AN18>0,AN18,\"\")","v":""},{"$f":"IF(C188=\"\",\"\",\"ha\")","v":""},{"$f":"IF(AO18>0,AO18,\"\")","v":""},{"$f":"IF(E188=\"\",\"\",\"hkg\")","v":""}]
[]
[]
[2,{"$f":"IF(AF21>1,VLOOKUP(AF21,_Afg07,2),\"\")","v":""},{"$f":"IF(AN21>0,AN21,\"\")","v":""},{"$f":"IF(C191=\"\",\"\",\"ha\")","v":""},{"$f":"IF(AO21>0,AO21,\"\")","v":""},{"$f":"IF(E191=\"\",\"\",\"hkg\")","v":""},null,{"$f":"IF(L21=\"\",\"\",L21)","v":""}]
[]
[null,{"$f":"IF(AF23>1,VLOOKUP(AF23,_Afg07,2),\"\")","v":""},{"$f":"IF(AN23>0,AN23,\"\")","v":""},{"$f":"IF(C193=\"\",\"\",\"ha\")","v":""},{"$f":"IF(AO23>0,AO23,\"\")","v":""},{"$f":"IF(E193=\"\",\"\",\"hkg\")","v":""}]
[]
[]
[3,{"$f":"IF(AF26>1,VLOOKUP(AF26,_Afg07,2),\"\")","v":""},{"$f":"IF(AN26>0,AN26,\"\")","v":""},{"$f":"IF(C196=\"\",\"\",\"ha\")","v":""},{"$f":"IF(AO26>0,AO26,\"\")","v":""},{"$f":"IF(E196=\"\",\"\",\"hkg\")","v":""},null,{"$f":"IF(L26=\"\",\"\",L26)","v":""}]
[]
[null,{"$f":"IF(AF28>1,VLOOKUP(AF28,_Afg07,2),\"\")","v":""},{"$f":"IF(AN28>0,AN28,\"\")","v":""},{"$f":"IF(C198=\"\",\"\",\"ha\")","v":""},{"$f":"IF(AO28>0,AO28,\"\")","v":""},{"$f":"IF(E198=\"\",\"\",\"hkg\")","v":""}]
[]
[]
[4,{"$f":"IF(AF31>1,VLOOKUP(AF31,_Afg07,2),\"\")","v":""},{"$f":"IF(AN31>0,AN31,\"\")","v":""},{"$f":"IF(C201=\"\",\"\",\"ha\")","v":""},{"$f":"IF(AO31>0,AO31,\"\")","v":""},{"$f":"IF(E201=\"\",\"\",\"hkg\")","v":""},null,{"$f":"IF(L31=\"\",\"\",L31)","v":""}]
[]
[null,{"$f":"IF(AF33>1,VLOOKUP(AF33,_Afg07,2),\"\")","v":""},{"$f":"IF(AN33>0,AN33,\"\")","v":""},{"$f":"IF(C203=\"\",\"\",\"ha\")","v":""},{"$f":"IF(AO33>0,AO33,\"\")","v":""},{"$f":"IF(E203=\"\",\"\",\"hkg\")","v":""}]
[]
[]
[5,{"$f":"IF(AF36>1,VLOOKUP(AF36,_Afg07,2),\"\")","v":""},{"$f":"IF(AN36>0,AN36,\"\")","v":""},{"$f":"IF(C206=\"\",\"\",\"ha\")","v":""},{"$f":"IF(AO36>0,AO36,\"\")","v":""},{"$f":"IF(E206=\"\",\"\",\"hkg\")","v":""},null,{"$f":"IF(L36=\"\",\"\",L36)","v":""}]
[]
[null,{"$f":"IF(AF38>1,VLOOKUP(AF38,_Afg07,2),\"\")","v":""},{"$f":"IF(AN38>0,AN38,\"\")","v":""},{"$f":"IF(C208=\"\",\"\",\"ha\")","v":""},{"$f":"IF(AO38>0,AO38,\"\")","v":""},{"$f":"IF(E208=\"\",\"\",\"hkg\")","v":""}]
[]
[]
[6,{"$f":"IF(AF41>1,VLOOKUP(AF41,_Afg07,2),\"\")","v":""},{"$f":"IF(AN41>0,AN41,\"\")","v":""},{"$f":"IF(C211=\"\",\"\",\"ha\")","v":""},{"$f":"IF(AO41>0,AO41,\"\")","v":""},{"$f":"IF(E211=\"\",\"\",\"hkg\")","v":""},null,{"$f":"IF(L41=\"\",\"\",L41)","v":""}]
[]
[null,{"$f":"IF(AF43>1,VLOOKUP(AF43,_Afg07,2),\"\")","v":""},{"$f":"IF(AN43>0,AN43,\"\")","v":""},{"$f":"IF(C213=\"\",\"\",\"ha\")","v":""},{"$f":"IF(AO43>0,AO43,\"\")","v":""},{"$f":"IF(E213=\"\",\"\",\"hkg\")","v":""}]
[]
[]
[7,{"$f":"IF(AF46>1,VLOOKUP(AF46,_Afg07,2),\"\")","v":""},{"$f":"IF(AN46>0,AN46,\"\")","v":""},{"$f":"IF(C216=\"\",\"\",\"ha\")","v":""},{"$f":"IF(AO46>0,AO46,\"\")","v":""},{"$f":"IF(E216=\"\",\"\",\"hkg\")","v":""},null,{"$f":"IF(L46=\"\",\"\",L46)","v":""}]
[]
[null,{"$f":"IF(AF48>1,VLOOKUP(AF48,_Afg07,2),\"\")","v":""},{"$f":"IF(AN48>0,AN48,\"\")","v":""},{"$f":"IF(C218=\"\",\"\",\"ha\")","v":""},{"$f":"IF(AO48>0,AO48,\"\")","v":""},{"$f":"IF(E218=\"\",\"\",\"hkg\")","v":""}]
[]
[]
[]
["Delsædskifte 2"]
[]
["Marker/ejendom:",null,{"$f":"IF(C54<>\"\",C54,\"\")","v":""}]
[]
["Areal sædskifte 2:",null,{"$f":"C58","v":0},{"$f":"IF(C226=\"\",\"\",\"ha\")","v":"ha"},null,{"$f":"VLOOKUP(JBnr3,Jordtyper,2)","v":"JB 5-6"}]
[]
[]
[1,{"$f":"IF(AF62>1,VLOOKUP(AF62,_Afg07,2),\"\")","v":""},{"$f":"IF(AN62>0,AN62,\"\")","v":""},{"$f":"IF(C229=\"\",\"\",\"ha\")","v":""},{"$f":"IF(AO62>0,AO62,\"\")","v":""},{"$f":"IF(E229=\"\",\"\",\"hkg\")","v":""},null,{"$f":"IF(L62=\"\",\"\",L62)","v":""}]
[]
[null,{"$f":"IF(AF64>1,VLOOKUP(AF64,_Afg07,2),\"\")","v":""},{"$f":"IF(AN64>0,AN64,\"\")","v":""},{"$f":"IF(C231=\"\",\"\",\"ha\")","v":""},{"$f":"IF(AO64>0,AO64,\"\")","v":""},{"$f":"IF(E231=\"\",\"\",\"hkg\")","v":""}]
[]
[]
[2,{"$f":"IF(AF67>1,VLOOKUP(AF67,_Afg07,2),\"\")","v":""},{"$f":"IF(AN67>0,AN67,\"\")","v":""},{"$f":"IF(C234=\"\",\"\",\"ha\")","v":""},{"$f":"IF(AO67>0,AO67,\"\")","v":""},{"$f":"IF(E234=\"\",\"\",\"hkg\")","v":""},null,{"$f":"IF(L67=\"\",\"\",L67)","v":""}]
[]
[null,{"$f":"IF(AF69>1,VLOOKUP(AF69,_Afg07,2),\"\")","v":""},{"$f":"IF(AN69>0,AN69,\"\")","v":""},{"$f":"IF(C236=\"\",\"\",\"ha\")","v":""},{"$f":"IF(AO69>0,AO69,\"\")","v":""},{"$f":"IF(E236=\"\",\"\",\"hkg\")","v":""}]
[]
[]
[3,{"$f":"IF(AF72>1,VLOOKUP(AF72,_Afg07,2),\"\")","v":""},{"$f":"IF(AN72>0,AN72,\"\")","v":""},{"$f":"IF(C239=\"\",\"\",\"ha\")","v":""},{"$f":"IF(AO72>0,AO72,\"\")","v":""},{"$f":"IF(E239=\"\",\"\",\"hkg\")","v":""},null,{"$f":"IF(L72=\"\",\"\",L72)","v":""}]
[]
[null,{"$f":"IF(AF74>1,VLOOKUP(AF74,_Afg07,2),\"\")","v":""},{"$f":"IF(AN74>0,AN74,\"\")","v":""},{"$f":"IF(C241=\"\",\"\",\"ha\")","v":""},{"$f":"IF(AO74>0,AO74,\"\")","v":""},{"$f":"IF(E241=\"\",\"\",\"hkg\")","v":""}]
[]
[]
[4,{"$f":"IF(AF77>1,VLOOKUP(AF77,_Afg07,2),\"\")","v":""},{"$f":"IF(AN77>0,AN77,\"\")","v":""},{"$f":"IF(C244=\"\",\"\",\"ha\")","v":""},{"$f":"IF(AO77>0,AO77,\"\")","v":""},{"$f":"IF(E244=\"\",\"\",\"hkg\")","v":""},null,{"$f":"IF(L77=\"\",\"\",L77)","v":""}]
[]
[null,{"$f":"IF(AF79>1,VLOOKUP(AF79,_Afg07,2),\"\")","v":""},{"$f":"IF(AN79>0,AN79,\"\")","v":""},{"$f":"IF(C246=\"\",\"\",\"ha\")","v":""},{"$f":"IF(AO79>0,AO79,\"\")","v":""},{"$f":"IF(E246=\"\",\"\",\"hkg\")","v":""}]
[]
[]
[5,{"$f":"IF(AF82>1,VLOOKUP(AF82,_Afg07,2),\"\")","v":""},{"$f":"IF(AN82>0,AN82,\"\")","v":""},{"$f":"IF(C249=\"\",\"\",\"ha\")","v":""},{"$f":"IF(AO82>0,AO82,\"\")","v":""},{"$f":"IF(E249=\"\",\"\",\"hkg\")","v":""},null,{"$f":"IF(L82=\"\",\"\",L82)","v":""}]
[]
[null,{"$f":"IF(AF84>1,VLOOKUP(AF84,_Afg07,2),\"\")","v":""},{"$f":"IF(AN84>0,AN84,\"\")","v":""},{"$f":"IF(C251=\"\",\"\",\"ha\")","v":""},{"$f":"IF(AO84>0,AO84,\"\")","v":""},{"$f":"IF(E251=\"\",\"\",\"hkg\")","v":""}]
[]
[]
[6,{"$f":"IF(AF87>1,VLOOKUP(AF87,_Afg07,2),\"\")","v":""},{"$f":"IF(AN87>0,AN87,\"\")","v":""},{"$f":"IF(C254=\"\",\"\",\"ha\")","v":""},{"$f":"IF(AO87>0,AO87,\"\")","v":""},{"$f":"IF(E254=\"\",\"\",\"hkg\")","v":""},null,{"$f":"IF(L87=\"\",\"\",L87)","v":""}]
[]
[null,{"$f":"IF(AF89>1,VLOOKUP(AF89,_Afg07,2),\"\")","v":""},{"$f":"IF(AN89>0,AN89,\"\")","v":""},{"$f":"IF(C256=\"\",\"\",\"ha\")","v":""},{"$f":"IF(AO89>0,AO89,\"\")","v":""},{"$f":"IF(E256=\"\",\"\",\"hkg\")","v":""}]
[]
[]
[7,{"$f":"IF(AF92>1,VLOOKUP(AF92,_Afg07,2),\"\")","v":""},{"$f":"IF(AN92>0,AN92,\"\")","v":""},{"$f":"IF(C259=\"\",\"\",\"ha\")","v":""},{"$f":"IF(AO92>0,AO92,\"\")","v":""},{"$f":"IF(E259=\"\",\"\",\"hkg\")","v":""},null,{"$f":"IF(L92=\"\",\"\",L92)","v":""}]
[]
[null,{"$f":"IF(AF94>1,VLOOKUP(AF94,_Afg07,2),\"\")","v":""},{"$f":"IF(AN94>0,AN94,\"\")","v":""},{"$f":"IF(C261=\"\",\"\",\"ha\")","v":""},{"$f":"IF(AO94>0,AO94,\"\")","v":""},{"$f":"IF(E261=\"\",\"\",\"hkg\")","v":""}]
[]
[{"$f":"\"Sædskifteplan - fortsat\"","v":"Sædskifteplan - fortsat"}]
[]
["Delsædskifte 3"]
[]
["Marker/ejendom:",null,{"$f":"IF(C100<>\"\",C100,\"\")","v":""}]
[]
["Areal sædskifte 3:",null,{"$f":"C104","v":0},{"$f":"IF(C269=\"\",\"\",\"ha\")","v":"ha"},null,{"$f":"VLOOKUP(JBnr4,Jordtyper,2)","v":"JB 5-6"}]
[]
[]
[1,{"$f":"IF(AF108>1,VLOOKUP(AF108,_Afg07,2),\"\")","v":""},{"$f":"IF(AN108>0,AN108,\"\")","v":""},{"$f":"IF(C272=\"\",\"\",\"ha\")","v":""},{"$f":"IF(AO108>0,AO108,\"\")","v":""},{"$f":"IF(E272=\"\",\"\",\"hkg\")","v":""},null,{"$f":"IF(L108=\"\",\"\",L108)","v":""}]
[]
[null,{"$f":"IF(AF110>1,VLOOKUP(AF110,_Afg07,2),\"\")","v":""},{"$f":"IF(AN110>0,AN110,\"\")","v":""},{"$f":"IF(C274=\"\",\"\",\"ha\")","v":""},{"$f":"IF(AO110>0,AO110,\"\")","v":""},{"$f":"IF(E274=\"\",\"\",\"hkg\")","v":""}]
[]
[]
[2,{"$f":"IF(AF113>1,VLOOKUP(AF113,_Afg07,2),\"\")","v":""},{"$f":"IF(AN113>0,AN113,\"\")","v":""},{"$f":"IF(C277=\"\",\"\",\"ha\")","v":""},{"$f":"IF(AO113>0,AO113,\"\")","v":""},{"$f":"IF(E277=\"\",\"\",\"hkg\")","v":""},null,{"$f":"IF(L113=\"\",\"\",L113)","v":""}]
[]
[null,{"$f":"IF(AF115>1,VLOOKUP(AF115,_Afg07,2),\"\")","v":""},{"$f":"IF(AN115>0,AN115,\"\")","v":""},{"$f":"IF(C279=\"\",\"\",\"ha\")","v":""},{"$f":"IF(AO115>0,AO115,\"\")","v":""},{"$f":"IF(E279=\"\",\"\",\"hkg\")","v":""}]
[]
[]
[3,{"$f":"IF(AF118>1,VLOOKUP(AF118,_Afg07,2),\"\")","v":""},{"$f":"IF(AN118>0,AN118,\"\")","v":""},{"$f":"IF(C282=\"\",\"\",\"ha\")","v":""},{"$f":"IF(AO118>0,AO118,\"\")","v":""},{"$f":"IF(E282=\"\",\"\",\"hkg\")","v":""},null,{"$f":"IF(L118=\"\",\"\",L118)","v":""}]
[]
[null,{"$f":"IF(AF120>1,VLOOKUP(AF120,_Afg07,2),\"\")","v":""},{"$f":"IF(AN120>0,AN120,\"\")","v":""},{"$f":"IF(C284=\"\",\"\",\"ha\")","v":""},{"$f":"IF(AO120>0,AO120,\"\")","v":""},{"$f":"IF(E284=\"\",\"\",\"hkg\")","v":""}]
[]
[]
[4,{"$f":"IF(AF123>1,VLOOKUP(AF123,_Afg07,2),\"\")","v":""},{"$f":"IF(AN123>0,AN123,\"\")","v":""},{"$f":"IF(C287=\"\",\"\",\"ha\")","v":""},{"$f":"IF(AO123>0,AO123,\"\")","v":""},{"$f":"IF(E287=\"\",\"\",\"hkg\")","v":""},null,{"$f":"IF(L123=\"\",\"\",L123)","v":""}]
[]
[null,{"$f":"IF(AF125>1,VLOOKUP(AF125,_Afg07,2),\"\")","v":""},{"$f":"IF(AN125>0,AN125,\"\")","v":""},{"$f":"IF(C289=\"\",\"\",\"ha\")","v":""},{"$f":"IF(AO125>0,AO125,\"\")","v":""},{"$f":"IF(E289=\"\",\"\",\"hkg\")","v":""}]
[]
[]
[5,{"$f":"IF(AF128>1,VLOOKUP(AF128,_Afg07,2),\"\")","v":""},{"$f":"IF(AN128>0,AN128,\"\")","v":""},{"$f":"IF(C292=\"\",\"\",\"ha\")","v":""},{"$f":"IF(AO128>0,AO128,\"\")","v":""},{"$f":"IF(E292=\"\",\"\",\"hkg\")","v":""},null,{"$f":"IF(L128=\"\",\"\",L128)","v":""}]
[]
[null,{"$f":"IF(AF130>1,VLOOKUP(AF130,_Afg07,2),\"\")","v":""},{"$f":"IF(AN130>0,AN130,\"\")","v":""},{"$f":"IF(C294=\"\",\"\",\"ha\")","v":""},{"$f":"IF(AO130>0,AO130,\"\")","v":""},{"$f":"IF(E294=\"\",\"\",\"hkg\")","v":""}]
[]
[]
[6,{"$f":"IF(AF133>1,VLOOKUP(AF133,_Afg07,2),\"\")","v":""},{"$f":"IF(AN133>0,AN133,\"\")","v":""},{"$f":"IF(C297=\"\",\"\",\"ha\")","v":""},{"$f":"IF(AO133>0,AO133,\"\")","v":""},{"$f":"IF(E297=\"\",\"\",\"hkg\")","v":""},null,{"$f":"IF(L133=\"\",\"\",L133)","v":""}]
[]
[null,{"$f":"IF(AF135>1,VLOOKUP(AF135,_Afg07,2),\"\")","v":""},{"$f":"IF(AN135>0,AN135,\"\")","v":""},{"$f":"IF(C299=\"\",\"\",\"ha\")","v":""},{"$f":"IF(AO135>0,AO135,\"\")","v":""},{"$f":"IF(E299=\"\",\"\",\"hkg\")","v":""}]
[]
[]
[7,{"$f":"IF(AF138>1,VLOOKUP(AF138,_Afg07,2),\"\")","v":""},{"$f":"IF(AN138>0,AN138,\"\")","v":""},{"$f":"IF(C302=\"\",\"\",\"ha\")","v":""},{"$f":"IF(AO138>0,AO138,\"\")","v":""},{"$f":"IF(E302=\"\",\"\",\"hkg\")","v":""},null,{"$f":"IF(L138=\"\",\"\",L138)","v":""}]
[]
[null,{"$f":"IF(AF140>1,VLOOKUP(AF140,_Afg07,2),\"\")","v":""},{"$f":"IF(AN140>0,AN140,\"\")","v":""},{"$f":"IF(C304=\"\",\"\",\"ha\")","v":""},{"$f":"IF(AO140>0,AO140,\"\")","v":""},{"$f":"IF(E304=\"\",\"\",\"hkg\")","v":""}]
[]
[]
[]
["Samlet produktion"]
[]
["Samlet areal",null,{"$f":"C183+C226+C269","v":0},{"$f":"IF(C310=\"\",\"\",\"ha\")","v":"ha"}]
[]
[null,null,"Areal",null,"Gns. udbytte",null,null,"Udbytte i alt",null,"Foderproduktion"]
[]
[{"$f":"IF(AF147>1,VLOOKUP(AF147,_Afg07,2),\"\")","v":""},null,{"$f":"C147","v":false},{"$f":"D147","v":"ha"},{"$f":"E147","v":""},{"$f":"F147","v":""},{"$f":"G147","v":""},null,{"$f":"I147","v":""},{"$f":"J147","v":""},null,{"$f":"L147","v":""}]
[]
[{"$f":"IF(AF149>1,VLOOKUP(AF149,_Afg07,2),\"\")","v":""},null,{"$f":"C149","v":""},{"$f":"D149","v":""},{"$f":"E149","v":""},{"$f":"F149","v":""},{"$f":"G149","v":""},null,{"$f":"I149","v":""},{"$f":"J149","v":""},null,{"$f":"L149","v":""}]
[]
[{"$f":"IF(AF151>1,VLOOKUP(AF151,_Afg07,2),\"\")","v":""},null,{"$f":"C151","v":""},{"$f":"D151","v":""},{"$f":"E151","v":""},{"$f":"F151","v":""},{"$f":"G151","v":""},null,{"$f":"I151","v":""},{"$f":"J151","v":""},null,{"$f":"L151","v":""}]
[]
[{"$f":"IF(AF153>1,VLOOKUP(AF153,_Afg07,2),\"\")","v":""},null,{"$f":"C153","v":""},{"$f":"D153","v":""},{"$f":"E153","v":""},{"$f":"F153","v":""},{"$f":"G153","v":""},null,{"$f":"I153","v":""},{"$f":"J153","v":""},null,{"$f":"L153","v":""}]
[]
[{"$f":"IF(AF155>1,VLOOKUP(AF155,_Afg07,2),\"\")","v":""},null,{"$f":"C155","v":""},{"$f":"D155","v":""},{"$f":"E155","v":""},{"$f":"F155","v":""},{"$f":"G155","v":""},null,{"$f":"I155","v":""},{"$f":"J155","v":""},null,{"$f":"L155","v":""}]
[]
[{"$f":"IF(AF157>1,VLOOKUP(AF157,_Afg07,2),\"\")","v":""},null,{"$f":"C157","v":""},{"$f":"D157","v":""},{"$f":"E157","v":""},{"$f":"F157","v":""},{"$f":"G157","v":""},null,{"$f":"I157","v":""},{"$f":"J157","v":""},null,{"$f":"L157","v":""}]
[]
[{"$f":"IF(AF159>1,VLOOKUP(AF159,_Afg07,2),\"\")","v":""},null,{"$f":"C159","v":""},{"$f":"D159","v":""},{"$f":"E159","v":""},{"$f":"F159","v":""},{"$f":"G159","v":""},null,{"$f":"I159","v":""},{"$f":"J159","v":""},null,{"$f":"L159","v":""}]
[]
[{"$f":"IF(AF161>1,VLOOKUP(AF161,_Afg07,2),\"\")","v":""},null,{"$f":"C161","v":""},{"$f":"D161","v":""},{"$f":"E161","v":""},{"$f":"F161","v":""},{"$f":"G161","v":""},null,{"$f":"I161","v":""},{"$f":"J161","v":""},null,{"$f":"L161","v":""}]
[]
[null,null,null,null,null,null,null,null,"I alt",{"$f":"AG162","v":0},null,{"$f":"IF(J330<>\"\",\"FEsv\",\"\")","v":"FEsv"}]
[]
[]
[{"$f":"\"Areal med efterafgrøder udgør \"&AX148&\" % af arealet.\"","v":"Areal med efterafgrøder udgør  % af arealet."}]
[]
[]
[]
["Foderbehov og foderproduktion (korn)"]
[]
["Besætning",null,null,null,null,null,null,null,null,null,null,null,"Foderbehov i korn (FEsv)"]
[]
["Søer m. smågrise",null,{"$f":"IF(C168<>\"\",C168,\"\")","v":""},{"$f":"IF(C341<>\"\",\"årssøer\",\"\")","v":""},null,null,null,null,null,{"$f":"IF(AG168=0,\"\",AG168)","v":""},null,{"$f":"IF(J341<>\"\",\"FE\",\"\")","v":""}]
[]
["Smågrise",null,{"$f":"IF(C170<>\"\",C170,\"\")","v":""},{"$f":"IF(C343<>\"\",\"stk.\",\"\")","v":""},{"$f":"IF(C343<>\"\",\"Fra\",\"\")","v":""},{"$f":"IF(C343<>\"\",F170,\"\")","v":""},{"$f":"IF(C343<>\"\",\"kg   Til\",\"\")","v":""},{"$f":"IF(C343<>\"\",H170,\"\")","v":""},{"$f":"IF(C343<>\"\",\"kg\",\"\")","v":""},{"$f":"IF(AG170=0,\"\",AG170)","v":""},null,{"$f":"IF(J343<>\"\",\"FEsv\",\"\")","v":""}]
[]
["Slagtesvin",null,{"$f":"IF(C172<>\"\",C172,\"\")","v":""},{"$f":"IF(C345<>\"\",\"stk.\",\"\")","v":""},{"$f":"IF(C345<>\"\",\"Fra\",\"\")","v":""},{"$f":"IF(C345<>\"\",F172,\"\")","v":""},{"$f":"IF(C345<>\"\",\"kg   Til\",\"\")","v":""},{"$f":"IF(C345<>\"\",H172,\"\")","v":""},{"$f":"IF(C345<>\"\",\"kg\",\"\")","v":""},{"$f":"IF(AG172=0,\"\",AG172)","v":""},null,{"$f":"IF(J345<>\"\",\"FEsv\",\"\")","v":""}]
[]
[]
["Kornarters andel af kornration (vægtpct.)"]
[]
[null,null,"Hvede",null,"Byg",null,"Havre",null,"Rug/Triticale",null,"Majs"]
[]
["Søer m. smågrise",null,{"$f":"IF(AB168<>\"\",AB168,\"\")","v":50},{"$f":"IF(C352<>\"\",\"%\",\"\")","v":"%"},{"$f":"IF(R168<>\"\",R168,\"\")","v":50},{"$f":"IF(E352<>\"\",\"%\",\"\")","v":"%"},{"$f":"IF(T168<>\"\",T168,\"\")","v":""},{"$f":"IF(G352<>\"\",\"%\",\"\")","v":""},{"$f":"IF(OR(V168<>\"\",X168<>\"\"),V168+X168,\"\")","v":""},{"$f":"IF(I352<>\"\",\"%\",\"\")","v":""},{"$f":"IF(Z168<>\"\",Z168,\"\")","v":""},{"$f":"IF(K352<>\"\",\"%\",\"\")","v":""}]
[]
["Smågrise",null,{"$f":"IF(AB170<>\"\",AB170,\"\")","v":78},{"$f":"IF(C354<>\"\",\"%\",\"\")","v":"%"},{"$f":"IF(R170<>\"\",R170,\"\")","v":22},{"$f":"IF(E354<>\"\",\"%\",\"\")","v":"%"},{"$f":"IF(T170<>\"\",T170,\"\")","v":""},{"$f":"IF(G354<>\"\",\"%\",\"\")","v":""},{"$f":"IF(OR(V170<>\"\",X170<>\"\"),V170+X170,\"\")","v":""},{"$f":"IF(I354<>\"\",\"%\",\"\")","v":""},{"$f":"IF(Z170<>\"\",Z170,\"\")","v":""},{"$f":"IF(K354<>\"\",\"%\",\"\")","v":""}]
[]
["Slagtesvin",null,{"$f":"IF(AB172<>\"\",AB172,\"\")","v":75},{"$f":"IF(C356<>\"\",\"%\",\"\")","v":"%"},{"$f":"IF(R172<>\"\",R172,\"\")","v":25},{"$f":"IF(E356<>\"\",\"%\",\"\")","v":"%"},{"$f":"IF(T172<>\"\",T172,\"\")","v":""},{"$f":"IF(G356<>\"\",\"%\",\"\")","v":""},{"$f":"IF(OR(V172<>\"\",X172<>\"\"),V172+X172,\"\")","v":""},{"$f":"IF(I356<>\"\",\"%\",\"\")","v":""},{"$f":"IF(Z172<>\"\",Z172,\"\")","v":""},{"$f":"IF(K356<>\"\",\"%\",\"\")","v":""}]
[]
[]
["Foderbehov og -produktion (korn)"]
[]
[null,null,null,"Foderbehov ",null,"Foderproduktion",null,null,null,"Skal købes ",null,null,"Kan sælges "]
[]
["Hvede",null,{"$f":"IF(AO174>0,AO174,\"\")","v":""},{"$f":"IF(C363<>\"\",\"Hkg\",\"\")","v":""},{"$f":"IF(ISERROR(AI162),\"\",IF(AI162>0,AI162,\"\"))","v":""},null,{"$f":"IF(E363<>\"\",\"Hkg\",\"\")","v":""},{"$f":"IF(ISERROR($AO$174-$AI$162),\"\",IF($AO$174-$AI$162>0,$AO$174-$AI$162,\"\"))","v":""},null,{"$f":"IF(H363<>\"\",\"Hkg\",\"\")","v":""},{"$f":"IF(ISERROR($AO$174-$AI$162),\"\",IF($AO$174-$AI$162<0,-($AO$174-$AI$162),\"\"))","v":""},null,{"$f":"IF(K363<>\"\",\"Hkg\",\"\")","v":""}]
[]
["Byg",null,{"$f":"IF(AJ174>0,AJ174,\"\")","v":""},{"$f":"IF(C365<>\"\",\"Hkg\",\"\")","v":""},{"$f":"IF(ISERROR(AK162),\"\",IF(AK162>0,AK162,\"\"))","v":""},null,{"$f":"IF(E365<>\"\",\"Hkg\",\"\")","v":""},{"$f":"IF(ISERROR($AJ$174-$AK$162),\"\",IF($AJ$174-$AK$162>0,$AJ$174-$AK$162,\"\"))","v":""},null,{"$f":"IF(H365<>\"\",\"Hkg\",\"\")","v":""},{"$f":"IF(ISERROR($AJ$174-$AK$162),\"\",IF($AJ$174-$AK$162<0,-($AJ$174-$AK$162),\"\"))","v":""},null,{"$f":"IF(K365<>\"\",\"Hkg\",\"\")","v":""}]
[]
["Havre",null,{"$f":"IF(AK174>0,AK174,\"\")","v":""},{"$f":"IF(C367<>\"\",\"Hkg\",\"\")","v":""},{"$f":"IF(ISERROR(AM162),\"\",IF(AM162>0,AM162,\"\"))","v":""},null,{"$f":"IF(E367<>\"\",\"Hkg\",\"\")","v":""},{"$f":"IF(ISERROR($AK$174-$AM$162),\"\",IF($AK$174-$AM$162>0,$AK$174-$AM$162,\"\"))","v":""},null,{"$f":"IF(H367<>\"\",\"Hkg\",\"\")","v":""},{"$f":"IF(ISERROR($AK$174-$AM$162),\"\",IF($AK$174-$AM$162<0,-($AK$174-$AM$162),\"\"))","v":""},null,{"$f":"IF(K367<>\"\",\"Hkg\",\"\")","v":""}]
[]
["Rug",null,{"$f":"IF(AL174>0,AL174,\"\")","v":""},{"$f":"IF(C369<>\"\",\"Hkg\",\"\")","v":""},{"$f":"IF(AO162>0,AO162,\"\")","v":""},null,{"$f":"IF(E369<>\"\",\"Hkg\",\"\")","v":""},{"$f":"IF($AL$174-$AO$162>0,$AL$174-$AO$162,\"\")","v":""},null,{"$f":"IF(H369<>\"\",\"Hkg\",\"\")","v":""},{"$f":"IF($AL$174-$AO$162<0,-($AL$174-$AO$162),\"\")","v":""},null,{"$f":"IF(K369<>\"\",\"Hkg\",\"\")","v":""}]
[]
["Triticale",null,{"$f":"IF(AM174>0,AM174,\"\")","v":""},{"$f":"IF(C371<>\"\",\"Hkg\",\"\")","v":""},{"$f":"IF(AQ162>0,AQ162,\"\")","v":""},null,{"$f":"IF(E371<>\"\",\"Hkg\",\"\")","v":""},{"$f":"IF($AM$174-$AQ$162>0,$AM$174-$AQ$162,\"\")","v":""},null,{"$f":"IF(H371<>\"\",\"Hkg\",\"\")","v":""},{"$f":"IF($AM$174-$AQ$162<0,-($AM$174-$AQ$162),\"\")","v":""},null,{"$f":"IF(K371<>\"\",\"Hkg\",\"\")","v":""}]
[]
["Majs",null,{"$f":"IF(AN174>0,AN174,\"\")","v":""},{"$f":"IF(C373<>\"\",\"Hkg\",\"\")","v":""},{"$f":"IF(AS162>0,AS162,\"\")","v":""},null,{"$f":"IF(E373<>\"\",\"Hkg\",\"\")","v":""},{"$f":"IF($AN$174-$AS$162>0,$AN$174-$AS$162,\"\")","v":""},null,{"$f":"IF(H373<>\"\",\"Hkg\",\"\")","v":""},{"$f":"IF($AN$174-$AS$162<0,-($AN$174-$AS$162),\"\")","v":""},null,{"$f":"IF(K373<>\"\",\"Hkg\",\"\")","v":""}]

{"sheet":"Dræning","index":3,"n_rows":52,"n_cols":16,"rows_kept":52,"cut":false,"hidden":false,"merged":[[1,15,53,26],[47,3,47,4],[47,6,47,7],[47,9,47,10],[12,3,12,9],[31,3,31,9],[3,3,3,9],[14,9,14,10],[14,6,14,7],[14,3,14,4],[33,3,33,4],[33,6,33,7],[33,9,33,10]]}
[null,"Økonomi ved dræning ",null,"Vælg først afgrøder i \"Økonomi i afgrøder og sædskifter\""]
[null,null,null,null,null,null,null,null,null,null,null,null,null,null,null,"Estimér værdien af at dræne\nVærdien af at dræne kan estimeres ved det udbyttetab fra nuværende produktion, som kan undgås ved at dræne arealet.\n\nUdbyttetabet findes i flere niveauer, alt efter hvor hårdt et område bliver ramt af den dårlige dræning. Hjælpeværktøjet der kan beregne værdien af at dræne, giver mulighed for at regne på 3 niveauer af udbyttetab. Hvert udbyttetab har et arealmæssigt omfang, derfor er opmåling af områderne en afgørende del af beregningen. \n\nMål op hvor store arealer der er påvirket af dårlig dræning\nHer er vist et eksempel, hvor ca. 0,85 ha er gået ud på grund af oversvømning. \n \nFigur 1. Areal der krævede omsåning: 0,85 ha\nTabet ved dårlig dræning begrænser sig desværre ikke blot til arealet der blev oversvømmet. Randområderne til de oversvømmede giver ikke samme udbytte som et veldrænet areal. Randområdet til de pletter der er omsået udgør 6,5 ha med udbyttetab.\n \nFigur 2. Areal der er negativt påvirket af dårlig dræning (randområde) 6,5 ha\n\nVærktøj hjælper med beregning af dræningens værdi\nBeregningsværktøjet der er lavet til at vise værdien af forbedret dræning, kan håndtere op til 3 forskellige niveauer af udbyttetab. I dette eksempel er der kun lavet to niveauer.\nNr. 1 er det totale udbyttetab på 0,85 ha, hvor afgrøden går tabt pga. vand. Her er udbyttetabet sat til 100 pct. \nNr. 2 er randområdet på 6,5 ha omkring nr. 1. Her er der ikke optimale dyrkningsbetingelser for afgrø-den. I det specifikke tilfælde er udbyttetabet på dette areal vurderet til at være på 20 pct.\n\nDet er brugeren selv der vurderer det udbyttetab som anvendes i hvert niveau. Udbyttetabet i sig selv er en afgørende størrelse i beregningen, og det kræver indsigt i de faktiske forhold på hver lokation, at fastsætte et retvisende udbyttetab under de givne forudsætninger.\n\nI dette eksempel er der kun valgt to niveauer for udbyttetab. Hvis der er store forskelle i randområder-nes udbyttetab, kan disse opmåles hver for sig, og håndteres i beregningen. En anden væsentlig forudsætning for beregningen, er at tabsniveauet som anvendes, er retvisende som niveau for de kommende år. \n\nOpmålingen er en del af beregningen\nNår værdien af at dræne skal gøres op, er det både udbyttetab og påvirket areal der er afgørende for resultatet. Opmålingen er enkel at foretage i et GIS-program. Opmålingen til figur 1 og 2 er lavet ved hjælp af den gratis onlineløsning på https://arealinformation.miljoeportal.dk/ \n \nOpmålingen er med til at kvalificere beregningen. I eksemplet er det meget tydeligt på baggrundskortet at se hvilke arealer der er gået ud. Randområderne er opgjort på baggrund af markens lavninger og de naturlige strømningsveje for vandet. Opmåling af arealer foretages i dette værktøj ved at vælge knappen værktøjer. \n \nNår værktøjslinjen åbnes, vælges fanen ”Koordinater og mål”\nOg knappen ”Areal” vælges.\n\nHerefter kan der tegnes polygoner på kortet, og når tegningen er færdig vises arealet af de indtegnede områder. \n\nAnvendelse af beregningsværktøjet\nBeregningsværktøjet er en udvidelse af værktøjet ”økonomi i afgrøder og sædskifter”. Med den almindelige funktion i økonomi i afgrøder og sædskifter, vælges en afgrøde eller sædskifte, og der tilpasses med produktionsmæssige forudsætninger, så det på bedste vis giver en model af markens almindelige drift.\n\nEfterfølgende opmåles områderne der er påvirket af dårlig dræning, og der estimeres et udbyttetab på hvert område.\nVærktøjet giver en værdi for det årlige tab ved dårlig dræning, og giver et bud på hvor meget en dræningsopgave der løser problemet må koste, ud fra en forventet levetid og kalkulationsrente, dog uden omkostninger til vedligehold.\n"]
[]
[null,null,null,"Dræningsbehov"]
[null,"Område der skal drænes"]
[null,"Meget dårligt drænet",null,null,"ha"]
[]
[null,"Lidt dårligt drænet",null,null,"ha"]
[]
[null,"Moderat drænet",null,null,"ha"]
[]
[]
[null,null,null,"Estimater for udbytteeffekt, hkg pr. ha"]
[]
[null,null,null,{"$f":"'Ark1'!F151","v":"Vinterraps"},null,null,{"$f":"'Ark1'!I151","v":"Vinterraps"},null,null,{"$f":"'Ark1'!M151","v":"Vårbyg, foder"}]
[null,"Meget dårligt drænet"]
[null,"Udbytte før dræning",null,null,"pct.",null,null,"pct.",null,null,"pct."]
[null,"Udbytte efter dræning",null,{"$f":"'Ark1'!D152","v":44},{"$f":"'Ark1'!E152","v":"hkg"},null,{"$f":"'Ark1'!H152","v":44},{"$f":"'Ark1'!I152","v":"hkg"},null,{"$f":"'Ark1'!L152","v":65},{"$f":"'Ark1'!M152","v":"hkg"}]
[null,"Udbytteforbedring",null,{"$f":"D18-((D17*D18)/100)","v":44},{"$f":"'Ark1'!E152","v":"hkg"},null,{"$f":"G18-((G17*G18)/100)","v":44},{"$f":"'Ark1'!I152","v":"hkg"},null,{"$f":"J18-((J17*J18)/100)","v":65},{"$f":"'Ark1'!M152","v":"hkg"}]
[]
[null,"Lidt dårligt drænet"]
[null,"Udbytte før dræning",null,null,"pct.",null,null,"pct.",null,null,"pct."]
[null,"Udbytte efter dræning",null,{"$f":"'Ark1'!D152","v":44},{"$f":"'Ark1'!E152","v":"hkg"},null,{"$f":"'Ark1'!H152","v":44},{"$f":"'Ark1'!I152","v":"hkg"},null,{"$f":"'Ark1'!L152","v":65},{"$f":"'Ark1'!M152","v":"hkg"}]
[null,"Udbytteforbedring",null,{"$f":"D23-((D22*D23)/100)","v":44},{"$f":"'Ark1'!E152","v":"hkg"},null,{"$f":"G23-((G22*G23)/100)","v":44},{"$f":"'Ark1'!I152","v":"hkg"},null,{"$f":"J23-((J22*J23)/100)","v":65},{"$f":"'Ark1'!M152","v":"hkg"}]
[]
[null,"Moderat drænet"]
[null,"Udbytte før dræning",null,null,"pct.",null,null,"pct.",null,null,"pct."]
[null,"Udbytte efter dræning",null,{"$f":"'Ark1'!D152","v":44},{"$f":"'Ark1'!E152","v":"hkg"},null,{"$f":"'Ark1'!H152","v":44},{"$f":"'Ark1'!I152","v":"hkg"},null,{"$f":"'Ark1'!L152","v":65},{"$f":"'Ark1'!M152","v":"hkg"}]
[null,"Udbytteforbedring",null,{"$f":"D28-((D27*D28)/100)","v":44},{"$f":"'Ark1'!E152","v":"hkg"},null,{"$f":"G28-((G27*G28)/100)","v":44},{"$f":"'Ark1'!I152","v":"hkg"},null,{"$f":"J28-((J27*J28)/100)","v":65},{"$f":"'Ark1'!M152","v":"hkg"}]
[]
[]
[null,null,null,"Øget indtjening ved dræning, kr. pr. ha"]
[]
[null,null,null,{"$f":"'Ark1'!F151","v":"Vinterraps"},null,null,{"$f":"'Ark1'!I151","v":"Vinterraps"},null,null,{"$f":"'Ark1'!M151","v":"Vårbyg, foder"}]
[]
[null,"Forventet udbytteforbedring",null,{"$f":"(D19*D6)+(D24*D8)+(D29*D10)","v":0},{"$f":"E19","v":"hkg"},null,{"$f":"(G19*D6)+(G24*D8)+(G29*D10)","v":0},{"$f":"H19","v":"hkg"},null,{"$f":"(J19*D6)+(J24*D8)+(J29*D10)","v":0},{"$f":"K19","v":"hkg"}]
[null,"Pris pr. hkg",null,{"$f":"'Ark1'!D153","v":370},{"$f":"'Ark1'!E153","v":"kr."},null,{"$f":"'Ark1'!H153","v":370},{"$f":"'Ark1'!I153","v":"kr."},null,{"$f":"'Ark1'!L153","v":165},{"$f":"'Ark1'!M153","v":"kr."}]
[null,"Øget indtjening",null,{"$f":"D36*D37","v":0},{"$f":"E37","v":"kr."},null,{"$f":"G36*G37","v":0},{"$f":"H37","v":"kr."},null,{"$f":"J37*J36","v":0},{"$f":"K37","v":"kr."}]
[]
[]
[]
[null,null,null,"Omkostning ved dræning (vedligehold af dræn ikke indregnet)"]
[]
[null,"Rentesats",null,0.05]
[]
[null,"Drænsystemets levetid",null,30,"år "]
[]
[null,null,null,{"$f":"'Ark1'!F151","v":"Vinterraps"},null,null,{"$f":"'Ark1'!I151","v":"Vinterraps"},null,null,{"$f":"'Ark1'!M151","v":"Vårbyg, foder"}]
[]
[null,"Maksimal årlig omkostning ved dræning",null,{"$f":"D38","v":0},{"$f":"E38","v":"kr."},null,{"$f":"G38","v":0},{"$f":"H38","v":"kr."},null,{"$f":"J38","v":0},{"$f":"K38","v":"kr."}]
[]
[null,"Hvor stor en investering kan forbedringen forrente?",null,{"$f":"-PV(D44/D46,D46,D50)","v":0},"kr.",null,{"$f":"-PV(D44/D46,D46,G50)","v":0},"kr.",null,{"$f":"-PV(D44/D46,D46,J50)","v":0},"kr."]

{"sheet":"Fordeling af arbejdsopgaver","index":4,"n_rows":154,"n_cols":40,"rows_kept":154,"cut":false,"hidden":false,"merged":[]}
["Aktivitet","Afgrøde","Aktivitet","Antal","Stykomk","Maskinomk","0Start august","0Slut august","0Start september","0Slut september","0Start oktober","0Slut oktober","0Start november","0Slut november","0Start december","0Slut december","1Start januar","1Slut januar","1Start februar","1Slut februar","1Start marts","1Slut marts","1Start april","1Slut april","1Start maj","1Slut maj","1Start juni","1Slut juni","1Start juli","1Slut juli","1Start august","1Slut august","1Start september","1Slut september","1Start oktober","1Slut oktober","1Start november","1Slut november","1Start december","1Slut december"]
[2,"Frøgræs (Rajgræs)","Pløjning",0]
[3,"Frøgræs (Rajgræs)","Jorbearb. Før såning",0]
[4,"Frøgræs (Rajgræs)","Afgrødeetabl. (såning, lægning o.l.)",1,null,200,1]
[5,"Frøgræs (Rajgræs)","Gødskning (handelsgødning)",2,null,100,null,null,null,{"$f":"1/D5","v":0.5},null,null,null,null,null,null,null,null,null,null,null,{"$f":"1/D5","v":0.5}]
[6,"Frøgræs (Rajgræs)","Planteværn",3,null,560,null,{"$f":"0.5/D6","v":0.16666666666666666},{"$f":"0.5/D6","v":0.16666666666666666},null,null,null,null,null,null,null,null,null,null,null,null,null,{"$f":"0.5/D6","v":0.16666666666666666},{"$f":"0.5/D6","v":0.16666666666666666},{"$f":"0.5/D6","v":0.16666666666666666},{"$f":"0.5/D6","v":0.16666666666666666}]
[7,"Frøgræs (Rajgræs)","Høst",1,null,1517,null,null,null,null,null,null,null,null,null,null,null,null,null,null,null,null,null,null,null,null,null,null,1]
[8,"Frøgræs (Rajgræs)","Hjemkørsel",1,null,418,null,null,null,null,null,null,null,null,null,null,null,null,null,null,null,null,null,null,null,null,null,null,1]
[9,"Frøgræs (Rajgræs)","Presning",1,null,{"$f":"954+311","v":1265},null,null,null,null,null,null,null,null,null,null,null,null,null,null,null,null,null,null,null,null,null,null,1]
[10,"Frøgræs (Rajgræs)","Tørringsomkostninger",1,null,724,null,null,null,null,null,null,null,null,null,null,null,null,null,null,null,null,null,null,null,null,null,null,1]
[11,"Frøgræs (Rajgræs)","Maskinomkostninger ",null,null,{"$f":"SUM(F2:F10)","v":4784},{"$f":"($F2*G2+$F3*G3+$F4*G4+$F5*G5+$F6*G6+$F7*G7+$F8*G8+$F9*G9+$F10*G10)/$F11","v":4.1806020066889632E-2},1.950947603121516E-2,1.950947603121516E-2,1.0451505016722408E-2,0,0,0,0,0,0,0,0,0,0,0,1.0451505016722408E-2,1.950947603121516E-2,1.950947603121516E-2,1.950947603121516E-2,1.950947603121516E-2,0,0,0.82023411371237454,0,0,0,0,0,0,0,0,0,0,0]
[12,"Frøgræs (Rajgræs)","Maskinomkostninger summeret",null,null,null,{"$f":"SUM($G11:G11)","v":4.1806020066889632E-2},{"$f":"SUM($G11:H11)","v":6.1315496098104792E-2},{"$f":"SUM($G11:I11)","v":8.0824972129319952E-2},{"$f":"SUM($G11:J11)","v":9.1276477146042367E-2},{"$f":"SUM($G11:K11)","v":9.1276477146042367E-2},{"$f":"SUM($G11:L11)","v":9.1276477146042367E-2},{"$f":"SUM($G11:M11)","v":9.1276477146042367E-2},{"$f":"SUM($G11:N11)","v":9.1276477146042367E-2},{"$f":"SUM($G11:O11)","v":9.1276477146042367E-2},{"$f":"SUM($G11:P11)","v":9.1276477146042367E-2},{"$f":"SUM($G11:Q11)","v":9.1276477146042367E-2},{"$f":"SUM($G11:R11)","v":9.1276477146042367E-2},{"$f":"SUM($G11:S11)","v":9.1276477146042367E-2},{"$f":"SUM($G11:T11)","v":9.1276477146042367E-2},{"$f":"SUM($G11:U11)","v":9.1276477146042367E-2},{"$f":"SUM($G11:V11)","v":0.10172798216276477},{"$f":"SUM($G11:W11)","v":0.12123745819397994},{"$f":"SUM($G11:X11)","v":0.1407469342251951},{"$f":"SUM($G11:Y11)","v":0.16025641025641027},{"$f":"SUM($G11:Z11)","v":0.17976588628762544},{"$f":"SUM($G11:AA11)","v":0.17976588628762544},{"$f":"SUM($G11:AB11)","v":0.17976588628762544},{"$f":"SUM($G11:AC11)","v":1},{"$f":"SUM($G11:AD11)","v":1},{"$f":"SUM($G11:AE11)","v":1},{"$f":"SUM($G11:AF11)","v":1},{"$f":"SUM($G11:AG11)","v":1},{"$f":"SUM($G11:AH11)","v":1},{"$f":"SUM($G11:AI11)","v":1},{"$f":"SUM($G11:AJ11)","v":1},{"$f":"SUM($G11:AK11)","v":1},{"$f":"SUM($G11:AL11)","v":1},{"$f":"SUM($G11:AM11)","v":1},{"$f":"SUM($G11:AN11)","v":1}]
[13,"Frøgræs (Rajgræs)","Maskinomkostninger excl. Etablering",null,null,{"$f":"SUM(F5:F10)","v":4584},{"$f":"($F5*G5+$F6*G6+$F7*G7+$F8*G8+$F9*G9+$F10*G10)/$F13","v":0},{"$f":"($F5*H5+$F6*H6+$F7*H7+$F8*H8+$F9*H9+$F10*H10)/$F13","v":2.0360674810936591E-2},2.0360674810936591E-2,1.0907504363001745E-2,0,0,0,0,0,0,0,0,0,0,0,1.0907504363001745E-2,2.0360674810936591E-2,2.0360674810936591E-2,2.0360674810936591E-2,2.0360674810936591E-2,0,0,0.85602094240837701,0,0,0,0,0,0,0,0,0,0,0]
[14,"Frøgræs (Rajgræs)","Maskinomkostninger summeret excl. Etablering",null,null,null,{"$f":"SUM($G13:G13)","v":0},{"$f":"SUM($G13:H13)","v":2.0360674810936591E-2},{"$f":"SUM($G13:I13)","v":4.0721349621873182E-2},{"$f":"SUM($G13:J13)","v":5.1628853984874927E-2},{"$f":"SUM($G13:K13)","v":5.1628853984874927E-2},{"$f":"SUM($G13:L13)","v":5.1628853984874927E-2},{"$f":"SUM($G13:M13)","v":5.1628853984874927E-2},{"$f":"SUM($G13:N13)","v":5.1628853984874927E-2},{"$f":"SUM($G13:O13)","v":5.1628853984874927E-2},{"$f":"SUM($G13:P13)","v":5.1628853984874927E-2},{"$f":"SUM($G13:Q13)","v":5.1628853984874927E-2},{"$f":"SUM($G13:R13)","v":5.1628853984874927E-2},{"$f":"SUM($G13:S13)","v":5.1628853984874927E-2},{"$f":"SUM($G13:T13)","v":5.1628853984874927E-2},{"$f":"SUM($G13:U13)","v":5.1628853984874927E-2},{"$f":"SUM($G13:V13)","v":6.2536358347876672E-2},{"$f":"SUM($G13:W13)","v":8.2897033158813263E-2},{"$f":"SUM($G13:X13)","v":0.10325770796974985},{"$f":"SUM($G13:Y13)","v":0.12361838278068644},{"$f":"SUM($G13:Z13)","v":0.14397905759162305},{"$f":"SUM($G13:AA13)","v":0.14397905759162305},{"$f":"SUM($G13:AB13)","v":0.14397905759162305},{"$f":"SUM($G13:AC13)","v":1},{"$f":"SUM($G13:AD13)","v":1},{"$f":"SUM($G13:AE13)","v":1},{"$f":"SUM($G13:AF13)","v":1},{"$f":"SUM($G13:AG13)","v":1},{"$f":"SUM($G13:AH13)","v":1},{"$f":"SUM($G13:AI13)","v":1},{"$f":"SUM($G13:AJ13)","v":1},{"$f":"SUM($G13:AK13)","v":1},{"$f":"SUM($G13:AL13)","v":1},{"$f":"SUM($G13:AM13)","v":1},{"$f":"SUM($G13:AN13)","v":1}]
[15,"Frøgræs (Rajgræs)","Udsæd",null,null,null,{"$f":"SUM($G4:G4)","v":1},{"$f":"SUM($G4:H4)","v":1},{"$f":"SUM($G4:I4)","v":1},{"$f":"SUM($G4:J4)","v":1},{"$f":"SUM($G4:K4)","v":1},{"$f":"SUM($G4:L4)","v":1},{"$f":"SUM($G4:M4)","v":1},{"$f":"SUM($G4:N4)","v":1},{"$f":"SUM($G4:O4)","v":1},{"$f":"SUM($G4:P4)","v":1},{"$f":"SUM($G4:Q4)","v":1},{"$f":"SUM($G4:R4)","v":1},{"$f":"SUM($G4:S4)","v":1},{"$f":"SUM($G4:T4)","v":1},{"$f":"SUM($G4:U4)","v":1},{"$f":"SUM($G4:V4)","v":1},{"$f":"SUM($G4:W4)","v":1},{"$f":"SUM($G4:X4)","v":1},{"$f":"SUM($G4:Y4)","v":1},{"$f":"SUM($G4:Z4)","v":1},{"$f":"SUM($G4:AA4)","v":1},{"$f":"SUM($G4:AB4)","v":1},{"$f":"SUM($G4:AC4)","v":1},{"$f":"SUM($G4:AD4)","v":1},{"$f":"SUM($G4:AE4)","v":1},{"$f":"SUM($G4:AF4)","v":1},{"$f":"SUM($G4:AG4)","v":1},{"$f":"SUM($G4:AH4)","v":1},{"$f":"SUM($G4:AI4)","v":1},{"$f":"SUM($G4:AJ4)","v":1},{"$f":"SUM($G4:AK4)","v":1},{"$f":"SUM($G4:AL4)","v":1},{"$f":"SUM($G4:AM4)","v":1},{"$f":"SUM($G4:AN4)","v":1}]
[16,"Frøgræs (Rajgræs)","Gødning",null,null,null,{"$f":"SUM($G5:G5)","v":0},{"$f":"SUM($G5:H5)","v":0},{"$f":"SUM($G5:I5)","v":0},{"$f":"SUM($G5:J5)","v":0.5},{"$f":"SUM($G5:K5)","v":0.5},{"$f":"SUM($G5:L5)","v":0.5},{"$f":"SUM($G5:M5)","v":0.5},{"$f":"SUM($G5:N5)","v":0.5},{"$f":"SUM($G5:O5)","v":0.5},{"$f":"SUM($G5:P5)","v":0.5},{"$f":"SUM($G5:Q5)","v":0.5},{"$f":"SUM($G5:R5)","v":0.5},{"$f":"SUM($G5:S5)","v":0.5},{"$f":"SUM($G5:T5)","v":0.5},{"$f":"SUM($G5:U5)","v":0.5},{"$f":"SUM($G5:V5)","v":1},{"$f":"SUM($G5:W5)","v":1},{"$f":"SUM($G5:X5)","v":1},{"$f":"SUM($G5:Y5)","v":1},{"$f":"SUM($G5:Z5)","v":1},{"$f":"SUM($G5:AA5)","v":1},{"$f":"SUM($G5:AB5)","v":1},{"$f":"SUM($G5:AC5)","v":1},{"$f":"SUM($G5:AD5)","v":1},{"$f":"SUM($G5:AE5)","v":1},{"$f":"SUM($G5:AF5)","v":1},{"$f":"SUM($G5:AG5)","v":1},{"$f":"SUM($G5:AH5)","v":1},{"$f":"SUM($G5:AI5)","v":1},{"$f":"SUM($G5:AJ5)","v":1},{"$f":"SUM($G5:AK5)","v":1},{"$f":"SUM($G5:AL5)","v":1},{"$f":"SUM($G5:AM5)","v":1},{"$f":"SUM($G5:AN5)","v":1}]
[17,"Frøgræs (Rajgræs)","Planteværn",null,null,null,{"$f":"SUM($G6:G6)","v":0},{"$f":"SUM($G6:H6)","v":0.16666666666666666},{"$f":"SUM($G6:I6)","v":0.33333333333333331},{"$f":"SUM($G6:J6)","v":0.33333333333333331},{"$f":"SUM($G6:K6)","v":0.33333333333333331},{"$f":"SUM($G6:L6)","v":0.33333333333333331},{"$f":"SUM($G6:M6)","v":0.33333333333333331},{"$f":"SUM($G6:N6)","v":0.33333333333333331},{"$f":"SUM($G6:O6)","v":0.33333333333333331},{"$f":"SUM($G6:P6)","v":0.33333333333333331},{"$f":"SUM($G6:Q6)","v":0.33333333333333331},{"$f":"SUM($G6:R6)","v":0.33333333333333331},{"$f":"SUM($G6:S6)","v":0.33333333333333331},{"$f":"SUM($G6:T6)","v":0.33333333333333331},{"$f":"SUM($G6:U6)","v":0.33333333333333331},{"$f":"SUM($G6:V6)","v":0.33333333333333331},{"$f":"SUM($G6:W6)","v":0.5},{"$f":"SUM($G6:X6)","v":0.66666666666666663},{"$f":"SUM($G6:Y6)","v":0.83333333333333326},{"$f":"SUM($G6:Z6)","v":0.99999999999999989},{"$f":"SUM($G6:AA6)","v":0.99999999999999989},{"$f":"SUM($G6:AB6)","v":0.99999999999999989},{"$f":"SUM($G6:AC6)","v":0.99999999999999989},{"$f":"SUM($G6:AD6)","v":0.99999999999999989},{"$f":"SUM($G6:AE6)","v":0.99999999999999989},{"$f":"SUM($G6:AF6)","v":0.99999999999999989},{"$f":"SUM($G6:AG6)","v":0.99999999999999989},{"$f":"SUM($G6:AH6)","v":0.99999999999999989},{"$f":"SUM($G6:AI6)","v":0.99999999999999989},{"$f":"SUM($G6:AJ6)","v":0.99999999999999989},{"$f":"SUM($G6:AK6)","v":0.99999999999999989},{"$f":"SUM($G6:AL6)","v":0.99999999999999989},{"$f":"SUM($G6:AM6)","v":0.99999999999999989},{"$f":"SUM($G6:AN6)","v":0.99999999999999989}]
[18,"Frøgræs (Rajgræs)","Diverse stykomkostninger",null,null,null,{"$f":"SUM($G7:G7)","v":0},{"$f":"SUM($G7:H7)","v":0},{"$f":"SUM($G7:I7)","v":0},{"$f":"SUM($G7:J7)","v":0},{"$f":"SUM($G7:K7)","v":0},{"$f":"SUM($G7:L7)","v":0},{"$f":"SUM($G7:M7)","v":0},{"$f":"SUM($G7:N7)","v":0},{"$f":"SUM($G7:O7)","v":0},{"$f":"SUM($G7:P7)","v":0},{"$f":"SUM($G7:Q7)","v":0},{"$f":"SUM($G7:R7)","v":0},{"$f":"SUM($G7:S7)","v":0},{"$f":"SUM($G7:T7)","v":0},{"$f":"SUM($G7:U7)","v":0},{"$f":"SUM($G7:V7)","v":0},{"$f":"SUM($G7:W7)","v":0},{"$f":"SUM($G7:X7)","v":0},{"$f":"SUM($G7:Y7)","v":0},{"$f":"SUM($G7:Z7)","v":0},{"$f":"SUM($G7:AA7)","v":0},{"$f":"SUM($G7:AB7)","v":0},{"$f":"SUM($G7:AC7)","v":1},{"$f":"SUM($G7:AD7)","v":1},{"$f":"SUM($G7:AE7)","v":1},{"$f":"SUM($G7:AF7)","v":1},{"$f":"SUM($G7:AG7)","v":1},{"$f":"SUM($G7:AH7)","v":1},{"$f":"SUM($G7:AI7)","v":1},{"$f":"SUM($G7:AJ7)","v":1},{"$f":"SUM($G7:AK7)","v":1},{"$f":"SUM($G7:AL7)","v":1},{"$f":"SUM($G7:AM7)","v":1},{"$f":"SUM($G7:AN7)","v":1}]
[19,"Frøgræs (Rajgræs)","Bruttoudbytte (høsttid)",null,null,null,{"$f":"SUM($G7:G7)","v":0},{"$f":"SUM($G7:H7)","v":0},{"$f":"SUM($G7:I7)","v":0},{"$f":"SUM($G7:J7)","v":0},{"$f":"SUM($G7:K7)","v":0},{"$f":"SUM($G7:L7)","v":0},{"$f":"SUM($G7:M7)","v":0},{"$f":"SUM($G7:N7)","v":0},{"$f":"SUM($G7:O7)","v":0},{"$f":"SUM($G7:P7)","v":0},{"$f":"SUM($G7:Q7)","v":0},{"$f":"SUM($G7:R7)","v":0},{"$f":"SUM($G7:S7)","v":0},{"$f":"SUM($G7:T7)","v":0},{"$f":"SUM($G7:U7)","v":0},{"$f":"SUM($G7:V7)","v":0},{"$f":"SUM($G7:W7)","v":0},{"$f":"SUM($G7:X7)","v":0},{"$f":"SUM($G7:Y7)","v":0},{"$f":"SUM($G7:Z7)","v":0},{"$f":"SUM($G7:AA7)","v":0},{"$f":"SUM($G7:AB7)","v":0},{"$f":"SUM($G7:AC7)","v":1},{"$f":"SUM($G7:AD7)","v":1},{"$f":"SUM($G7:AE7)","v":1},{"$f":"SUM($G7:AF7)","v":1},{"$f":"SUM($G7:AG7)","v":1},{"$f":"SUM($G7:AH7)","v":1},{"$f":"SUM($G7:AI7)","v":1},{"$f":"SUM($G7:AJ7)","v":1},{"$f":"SUM($G7:AK7)","v":1},{"$f":"SUM($G7:AL7)","v":1},{"$f":"SUM($G7:AM7)","v":1},{"$f":"SUM($G7:AN7)","v":1}]
[20,"Kartofler","Pløjning",1,null,725,null,null,null,null,null,null,null,null,null,null,null,null,null,{"$f":"0.5/D20","v":0.5},{"$f":"0.5/D20","v":0.5}]
[21,"Kartofler","Jorbearb. Før såning",1,null,{"$f":"225+2550","v":2775},null,null,null,null,null,null,null,null,null,null,null,null,null,null,null,null,{"$f":"0.5/D21","v":0.5},{"$f":"0.5/D21","v":0.5}]
[22,"Kartofler","Afgrødeetabl. (såning, lægning o.l.)",1,null,1450,null,null,null,null,null,null,null,null,null,null,null,null,null,null,null,null,{"$f":"0.5/D22","v":0.5},{"$f":"0.5/D22","v":0.5}]
[23,"Kartofler","Gødskning (handelsgødning)",1,null,100,null,null,null,null,null,null,null,null,null,null,null,null,null,null,null,null,{"$f":"0.5/D23","v":0.5},{"$f":"0.5/D23","v":0.5}]
[24,"Kartofler","Planteværn",16,null,{"$f":"16*165","v":2640},null,null,null,null,null,null,null,null,null,null,null,null,null,null,null,null,null,null,{"$f":"1/D24","v":6.25E-2},{"$f":"1/D24","v":6.25E-2},{"$f":"2/D24","v":0.125},{"$f":"2/D24","v":0.125},{"$f":"2/D24","v":0.125},{"$f":"2/D24","v":0.125},{"$f":"2/D24","v":0.125},{"$f":"2/D24","v":0.125},{"$f":"2/D24","v":0.125}]
[25,"Kartofler","Høst og hjemkørsel",1,null,3153,null,null,null,null,null,null,null,null,null,null,null,null,null,null,null,null,null,null,null,null,null,null,null,null,null,null,null,1]
[26,"Kartofler","Maskinomkostninger ",null,null,{"$f":"SUM(F20:F25)","v":10843},{"$f":"($F20*G20+$F21*G21+$F22*G22+$F23*G23+$F24*G24+$F25*G25)/$F26","v":0},{"$f":"($F20*H20+$F21*H21+$F22*H22+$F23*H23+$F24*H24+$F25*H25)/$F26","v":0},0,0,0,0,0,0,0,0,0,0,0,3.3431707092133174E-2,3.3431707092133174E-2,0,0.19943742506686341,0.19943742506686341,1.5217190814350271E-2,1.5217190814350271E-2,3.0434381628700543E-2,3.0434381628700543E-2,3.0434381628700543E-2,3.0434381628700543E-2,3.0434381628700543E-2,3.0434381628700543E-2,3.0434381628700543E-2,0.29078668265240248,0,0,0,0,0,0]
[27,"Kartofler","Maskinomkostninger summeret",null,null,null,{"$f":"SUM($G26:G26)","v":0},{"$f":"SUM($G26:H26)","v":0},{"$f":"SUM($G26:I26)","v":0},{"$f":"SUM($G26:J26)","v":0},{"$f":"SUM($G26:K26)","v":0},{"$f":"SUM($G26:L26)","v":0},{"$f":"SUM($G26:M26)","v":0},{"$f":"SUM($G26:N26)","v":0},{"$f":"SUM($G26:O26)","v":0},{"$f":"SUM($G26:P26)","v":0},{"$f":"SUM($G26:Q26)","v":0},{"$f":"SUM($G26:R26)","v":0},{"$f":"SUM($G26:S26)","v":0},{"$f":"SUM($G26:T26)","v":3.3431707092133174E-2},{"$f":"SUM($G26:U26)","v":6.6863414184266348E-2},{"$f":"SUM($G26:V26)","v":6.6863414184266348E-2},{"$f":"SUM($G26:W26)","v":0.26630083925112974},{"$f":"SUM($G26:X26)","v":0.46573826431799314},{"$f":"SUM($G26:Y26)","v":0.48095545513234339},{"$f":"SUM($G26:Z26)","v":0.49617264594669364},{"$f":"SUM($G26:AA26)","v":0.52660702757539413},{"$f":"SUM($G26:AB26)","v":0.55704140920409462},{"$f":"SUM($G26:AC26)","v":0.58747579083279511},{"$f":"SUM($G26:AD26)","v":0.6179101724614956},{"$f":"SUM($G26:AE26)","v":0.64834455409019609},{"$f":"SUM($G26:AF26)","v":0.67877893571889658},{"$f":"SUM($G26:AG26)","v":0.70921331734759707},{"$f":"SUM($G26:AH26)","v":0.99999999999999956},{"$f":"SUM($G26:AI26)","v":0.99999999999999956},{"$f":"SUM($G26:AJ26)","v":0.99999999999999956},{"$f":"SUM($G26:AK26)","v":0.99999999999999956},{"$f":"SUM($G26:AL26)","v":0.99999999999999956},{"$f":"SUM($G26:AM26)","v":0.99999999999999956},{"$f":"SUM($G26:AN26)","v":0.99999999999999956}]
[28,"Kartofler","Maskinomkostninger excl. Etablering",null,null,{"$f":"SUM(F23:F25)","v":5893},{"$f":"($F23*G23+$F24*G24+$F25*G25)/$F28","v":0},{"$f":"($F23*H23+$F24*H24+$F25*H25)/$F28","v":0},0,0,0,0,0,0,0,0,0,0,0,0,0,0,8.4846427965382665E-3,8.4846427965382665E-3,2.7999321228576277E-2,2.7999321228576277E-2,5.5998642457152553E-2,5.5998642457152553E-2,5.5998642457152553E-2,5.5998642457152553E-2,5.5998642457152553E-2,5.5998642457152553E-2,5.5998642457152553E-2,0.53504157474970304,0,0,0,0,0,0]
[29,"Kartofler","Maskinomkostninger summeret excl. Etablering",null,null,null,{"$f":"SUM($G28:G28)","v":0},{"$f":"SUM($G28:H28)","v":0},{"$f":"SUM($G28:I28)","v":0},{"$f":"SUM($G28:J28)","v":0},{"$f":"SUM($G28:K28)","v":0},{"$f":"SUM($G28:L28)","v":0},{"$f":"SUM($G28:M28)","v":0},{"$f":"SUM($G28:N28)","v":0},{"$f":"SUM($G28:O28)","v":0},{"$f":"SUM($G28:P28)","v":0},{"$f":"SUM($G28:Q28)","v":0},{"$f":"SUM($G28:R28)","v":0},{"$f":"SUM($G28:S28)","v":0},{"$f":"SUM($G28:T28)","v":0},{"$f":"SUM($G28:U28)","v":0},{"$f":"SUM($G28:V28)","v":0},{"$f":"SUM($G28:W28)","v":8.4846427965382665E-3},{"$f":"SUM($G28:X28)","v":1.6969285593076533E-2},{"$f":"SUM($G28:Y28)","v":4.496860682165281E-2},{"$f":"SUM($G28:Z28)","v":7.2967928050229086E-2},{"$f":"SUM($G28:AA28)","v":0.12896657050738164},{"$f":"SUM($G28:AB28)","v":0.18496521296453419},{"$f":"SUM($G28:AC28)","v":0.24096385542168675},{"$f":"SUM($G28:AD28)","v":0.29696249787883933},{"$f":"SUM($G28:AE28)","v":0.35296114033599191},{"$f":"SUM($G28:AF28)","v":0.40895978279314449},{"$f":"SUM($G28:AG28)","v":0.46495842525029707},{"$f":"SUM($G28:AH28)","v":1},{"$f":"SUM($G28:AI28)","v":1},{"$f":"SUM($G28:AJ28)","v":1},{"$f":"SUM($G28:AK28)","v":1},{"$f":"SUM($G28:AL28)","v":1},{"$f":"SUM($G28:AM28)","v":1},{"$f":"SUM($G28:AN28)","v":1}]
[30,"Kartofler","Udsæd",null,null,null,{"$f":"SUM($G22:G22)","v":0},{"$f":"SUM($G22:H22)","v":0},{"$f":"SUM($G22:I22)","v":0},{"$f":"SUM($G22:J22)","v":0},{"$f":"SUM($G22:K22)","v":0},{"$f":"SUM($G22:L22)","v":0},{"$f":"SUM($G22:M22)","v":0},{"$f":"SUM($G22:N22)","v":0},{"$f":"SUM($G22:O22)","v":0},{"$f":"SUM($G22:P22)","v":0},{"$f":"SUM($G22:Q22)","v":0},{"$f":"SUM($G22:R22)","v":0},{"$f":"SUM($G22:S22)","v":0},{"$f":"SUM($G22:T22)","v":0},{"$f":"SUM($G22:U22)","v":0},{"$f":"SUM($G22:V22)","v":0},{"$f":"SUM($G22:W22)","v":0.5},{"$f":"SUM($G22:X22)","v":1},{"$f":"SUM($G22:Y22)","v":1},{"$f":"SUM($G22:Z22)","v":1},{"$f":"SUM($G22:AA22)","v":1},{"$f":"SUM($G22:AB22)","v":1},{"$f":"SUM($G22:AC22)","v":1},{"$f":"SUM($G22:AD22)","v":1},{"$f":"SUM($G22:AE22)","v":1},{"$f":"SUM($G22:AF22)","v":1},{"$f":"SUM($G22:AG22)","v":1},{"$f":"SUM($G22:AH22)","v":1},{"$f":"SUM($G22:AI22)","v":1},{"$f":"SUM($G22:AJ22)","v":1},{"$f":"SUM($G22:AK22)","v":1},{"$f":"SUM($G22:AL22)","v":1},{"$f":"SUM($G22:AM22)","v":1},{"$f":"SUM($G22:AN22)","v":1}]
[31,"Kartofler","Gødning",null,null,null,{"$f":"SUM($G23:G23)","v":0},{"$f":"SUM($G23:H23)","v":0},{"$f":"SUM($G23:I23)","v":0},{"$f":"SUM($G23:J23)","v":0},{"$f":"SUM($G23:K23)","v":0},{"$f":"SUM($G23:L23)","v":0},{"$f":"SUM($G23:M23)","v":0},{"$f":"SUM($G23:N23)","v":0},{"$f":"SUM($G23:O23)","v":0},{"$f":"SUM($G23:P23)","v":0},{"$f":"SUM($G23:Q23)","v":0},{"$f":"SUM($G23:R23)","v":0},{"$f":"SUM($G23:S23)","v":0},{"$f":"SUM($G23:T23)","v":0},{"$f":"SUM($G23:U23)","v":0},{"$f":"SUM($G23:V23)","v":0},{"$f":"SUM($G23:W23)","v":0.5},{"$f":"SUM($G23:X23)","v":1},{"$f":"SUM($G23:Y23)","v":1},{"$f":"SUM($G23:Z23)","v":1},{"$f":"SUM($G23:AA23)","v":1},{"$f":"SUM($G23:AB23)","v":1},{"$f":"SUM($G23:AC23)","v":1},{"$f":"SUM($G23:AD23)","v":1},{"$f":"SUM($G23:AE23)","v":1},{"$f":"SUM($G23:AF23)","v":1},{"$f":"SUM($G23:AG23)","v":1},{"$f":"SUM($G23:AH23)","v":1},{"$f":"SUM($G23:AI23)","v":1},{"$f":"SUM($G23:AJ23)","v":1},{"$f":"SUM($G23:AK23)","v":1},{"$f":"SUM($G23:AL23)","v":1},{"$f":"SUM($G23:AM23)","v":1},{"$f":"SUM($G23:AN23)","v":1}]
[32,"Kartofler","Planteværn",null,null,null,{"$f":"SUM($G24:G24)","v":0},{"$f":"SUM($G24:H24)","v":0},{"$f":"SUM($G24:I24)","v":0},{"$f":"SUM($G24:J24)","v":0},{"$f":"SUM($G24:K24)","v":0},{"$f":"SUM($G24:L24)","v":0},{"$f":"SUM($G24:M24)","v":0},{"$f":"SUM($G24:N24)","v":0},{"$f":"SUM($G24:O24)","v":0},{"$f":"SUM($G24:P24)","v":0},{"$f":"SUM($G24:Q24)","v":0},{"$f":"SUM($G24:R24)","v":0},{"$f":"SUM($G24:S24)","v":0},{"$f":"SUM($G24:T24)","v":0},{"$f":"SUM($G24:U24)","v":0},{"$f":"SUM($G24:V24)","v":0},{"$f":"SUM($G24:W24)","v":0},{"$f":"SUM($G24:X24)","v":0},{"$f":"SUM($G24:Y24)","v":6.25E-2},{"$f":"SUM($G24:Z24)","v":0.125},{"$f":"SUM($G24:AA24)","v":0.25},{"$f":"SUM($G24:AB24)","v":0.375},{"$f":"SUM($G24:AC24)","v":0.5},{"$f":"SUM($G24:AD24)","v":0.625},{"$f":"SUM($G24:AE24)","v":0.75},{"$f":"SUM($G24:AF24)","v":0.875},{"$f":"SUM($G24:AG24)","v":1},{"$f":"SUM($G24:AH24)","v":1},{"$f":"SUM($G24:AI24)","v":1},{"$f":"SUM($G24:AJ24)","v":1},{"$f":"SUM($G24:AK24)","v":1},{"$f":"SUM($G24:AL24)","v":1},{"$f":"SUM($G24:AM24)","v":1},{"$f":"SUM($G24:AN24)","v":1}]
[33,"Kartofler","Diverse stykomkostninger",null,null,null,{"$f":"SUM($G25:G25)","v":0},{"$f":"SUM($G25:H25)","v":0},{"$f":"SUM($G25:I25)","v":0},{"$f":"SUM($G25:J25)","v":0},{"$f":"SUM($G25:K25)","v":0},{"$f":"SUM($G25:L25)","v":0},{"$f":"SUM($G25:M25)","v":0},{"$f":"SUM($G25:N25)","v":0},{"$f":"SUM($G25:O25)","v":0},{"$f":"SUM($G25:P25)","v":0},{"$f":"SUM($G25:Q25)","v":0},{"$f":"SUM($G25:R25)","v":0},{"$f":"SUM($G25:S25)","v":0},{"$f":"SUM($G25:T25)","v":0},{"$f":"SUM($G25:U25)","v":0},{"$f":"SUM($G25:V25)","v":0},{"$f":"SUM($G25:W25)","v":0},{"$f":"SUM($G25:X25)","v":0},{"$f":"SUM($G25:Y25)","v":0},{"$f":"SUM($G25:Z25)","v":0},{"$f":"SUM($G25:AA25)","v":0},{"$f":"SUM($G25:AB25)","v":0},{"$f":"SUM($G25:AC25)","v":0},{"$f":"SUM($G25:AD25)","v":0},{"$f":"SUM($G25:AE25)","v":0},{"$f":"SUM($G25:AF25)","v":0},{"$f":"SUM($G25:AG25)","v":0},{"$f":"SUM($G25:AH25)","v":1},{"$f":"SUM($G25:AI25)","v":1},{"$f":"SUM($G25:AJ25)","v":1},{"$f":"SUM($G25:AK25)","v":1},{"$f":"SUM($G25:AL25)","v":1},{"$f":"SUM($G25:AM25)","v":1},{"$f":"SUM($G25:AN25)","v":1}]
[34,"Kartofler","Bruttoudbytte (høsttid)",null,null,null,{"$f":"SUM($G25:G25)","v":0},{"$f":"SUM($G25:H25)","v":0},{"$f":"SUM($G25:I25)","v":0},{"$f":"SUM($G25:J25)","v":0},{"$f":"SUM($G25:K25)","v":0},{"$f":"SUM($G25:L25)","v":0},{"$f":"SUM($G25:M25)","v":0},{"$f":"SUM($G25:N25)","v":0},{"$f":"SUM($G25:O25)","v":0},{"$f":"SUM($G25:P25)","v":0},{"$f":"SUM($G25:Q25)","v":0},{"$f":"SUM($G25:R25)","v":0},{"$f":"SUM($G25:S25)","v":0},{"$f":"SUM($G25:T25)","v":0},{"$f":"SUM($G25:U25)","v":0},{"$f":"SUM($G25:V25)","v":0},{"$f":"SUM($G25:W25)","v":0},{"$f":"SUM($G25:X25)","v":0},{"$f":"SUM($G25:Y25)","v":0},{"$f":"SUM($G25:Z25)","v":0},{"$f":"SUM($G25:AA25)","v":0},{"$f":"SUM($G25:AB25)","v":0},{"$f":"SUM($G25:AC25)","v":0},{"$f":"SUM($G25:AD25)","v":0},{"$f":"SUM($G25:AE25)","v":0},{"$f":"SUM($G25:AF25)","v":0},{"$f":"SUM($G25:AG25)","v":0},{"$f":"SUM($G25:AH25)","v":1},{"$f":"SUM($G25:AI25)","v":1},{"$f":"SUM($G25:AJ25)","v":1},{"$f":"SUM($G25:AK25)","v":1},{"$f":"SUM($G25:AL25)","v":1},{"$f":"SUM($G25:AM25)","v":1},{"$f":"SUM($G25:AN25)","v":1}]
[35,"Kløvergræs til slæt","Pløjning",0,null,0]
[36,"Kløvergræs til slæt","Jorbearb. Før såning",0,null,0]
[37,"Kløvergræs til slæt","Afgrødeetabl. (såning, lægning o.l.)",1,null,116,1]
[38,"Kløvergræs til slæt","Gødskning (handelsgødning)",3,null,300,null,null,null,null,null,null,null,null,null,null,null,null,null,null,null,{"$f":"1/D38","v":0.33333333333333331},null,null,null,{"$f":"1/D38","v":0.33333333333333331},null,null,{"$f":"1/D38","v":0.33333333333333331}]
[39,"Kløvergræs til slæt","Planteværn",0,null,0]
[40,"Kløvergræs til slæt","Høst og hjemkørsel",4,null,{"$f":"900+680+2948","v":4528},null,null,null,null,null,null,null,null,null,null,null,null,null,null,null,null,null,null,null,{"$f":"1/D40","v":0.25},null,null,{"$f":"1/D40","v":0.25},null,{"$f":"0.5/D40","v":0.125},{"$f":"0.5/D40","v":0.125},null,{"$f":"1/D40","v":0.25}]
[41,"Kløvergræs til slæt","Maskinomkostninger ",null,null,{"$f":"SUM(F35:F40)","v":4944},{"$f":"($F35*G35+$F36*G36+$F37*G37+$F38*G38+$F39*G39+$F40*G40)/$F41","v":2.3462783171521034E-2},{"$f":"($F35*H35+$F36*H36+$F37*H37+$F38*H38+$F39*H39+$F40*H40)/$F41","v":0},0,0,0,0,0,0,0,0,0,0,0,0,0,2.0226537216828478E-2,0,0,0,0.24919093851132687,0,0,0.24919093851132687,0,{"$f":"($F35*AE35+$F36*AE36+$F37*AE37+$F38*AE38+$F39*AE39+$F40*AE40)/$F41","v":0.11448220064724919},0.11448220064724919,0,0.22896440129449838,0,0,0,0,0,0]
[42,"Kløvergræs til slæt","Maskinomkostninger summeret",null,null,null,{"$f":"SUM($G41:G41)","v":2.3462783171521034E-2},{"$f":"SUM($G41:H41)","v":2.3462783171521034E-2},{"$f":"SUM($G41:I41)","v":2.3462783171521034E-2},{"$f":"SUM($G41:J41)","v":2.3462783171521034E-2},{"$f":"SUM($G41:K41)","v":2.3462783171521034E-2},{"$f":"SUM($G41:L41)","v":2.3462783171521034E-2},{"$f":"SUM($G41:M41)","v":2.3462783171521034E-2},{"$f":"SUM($G41:N41)","v":2.3462783171521034E-2},{"$f":"SUM($G41:O41)","v":2.3462783171521034E-2},{"$f":"SUM($G41:P41)","v":2.3462783171521034E-2},{"$f":"SUM($G41:Q41)","v":2.3462783171521034E-2},{"$f":"SUM($G41:R41)","v":2.3462783171521034E-2},{"$f":"SUM($G41:S41)","v":2.3462783171521034E-2},{"$f":"SUM($G41:T41)","v":2.3462783171521034E-2},{"$f":"SUM($G41:U41)","v":2.3462783171521034E-2},{"$f":"SUM($G41:V41)","v":4.3689320388349509E-2},{"$f":"SUM($G41:W41)","v":4.3689320388349509E-2},{"$f":"SUM($G41:X41)","v":4.3689320388349509E-2},{"$f":"SUM($G41:Y41)","v":4.3689320388349509E-2},{"$f":"SUM($G41:Z41)","v":0.29288025889967639},{"$f":"SUM($G41:AA41)","v":0.29288025889967639},{"$f":"SUM($G41:AB41)","v":0.29288025889967639},{"$f":"SUM($G41:AC41)","v":0.54207119741100329},{"$f":"SUM($G41:AD41)","v":0.54207119741100329},{"$f":"SUM($G41:AE41)","v":0.65655339805825252},{"$f":"SUM($G41:AF41)","v":0.77103559870550176},{"$f":"SUM($G41:AG41)","v":0.77103559870550176},{"$f":"SUM($G41:AH41)","v":1.0000000000000002},{"$f":"SUM($G41:AI41)","v":1.0000000000000002},{"$f":"SUM($G41:AJ41)","v":1.0000000000000002},{"$f":"SUM($G41:AK41)","v":1.0000000000000002},{"$f":"SUM($G41:AL41)","v":1.0000000000000002},{"$f":"SUM($G41:AM41)","v":1.0000000000000002},{"$f":"SUM($G41:AN41)","v":1.0000000000000002}]
[43,"Kløvergræs til slæt","Maskinomkostninger excl. Etablering",null,null,{"$f":"SUM(F38:F40)","v":4828},{"$f":"($F38*G38+$F39*G39+$F40*G40)/$F43","v":0},{"$f":"($F38*H38+$F39*H39+$F40*H40)/$F43","v":0},0,0,0,0,0,0,0,0,0,0,0,0,0,2.0712510356255178E-2,0,0,0,0.25517812758906377,0,0,0.25517812758906377,0,0.11723280861640431,0.11723280861640431,0,0.23446561723280862,0,0,0,0,0,0]
[44,"Kløvergræs til slæt","Maskinomkostninger summeret excl. Etablering",null,null,null,{"$f":"SUM($G43:G43)","v":0},{"$f":"SUM($G43:H43)","v":0},{"$f":"SUM($G43:I43)","v":0},{"$f":"SUM($G43:J43)","v":0},{"$f":"SUM($G43:K43)","v":0},{"$f":"SUM($G43:L43)","v":0},{"$f":"SUM($G43:M43)","v":0},{"$f":"SUM($G43:N43)","v":0},{"$f":"SUM($G43:O43)","v":0},{"$f":"SUM($G43:P43)","v":0},{"$f":"SUM($G43:Q43)","v":0},{"$f":"SUM($G43:R43)","v":0},{"$f":"SUM($G43:S43)","v":0},{"$f":"SUM($G43:T43)","v":0},{"$f":"SUM($G43:U43)","v":0},{"$f":"SUM($G43:V43)","v":2.0712510356255178E-2},{"$f":"SUM($G43:W43)","v":2.0712510356255178E-2},{"$f":"SUM($G43:X43)","v":2.0712510356255178E-2},{"$f":"SUM($G43:Y43)","v":2.0712510356255178E-2},{"$f":"SUM($G43:Z43)","v":0.27589063794531893},{"$f":"SUM($G43:AA43)","v":0.27589063794531893},{"$f":"SUM($G43:AB43)","v":0.27589063794531893},{"$f":"SUM($G43:AC43)","v":0.53106876553438265},{"$f":"SUM($G43:AD43)","v":0.53106876553438265},{"$f":"SUM($G43:AE43)","v":0.64830157415078693},{"$f":"SUM($G43:AF43)","v":0.76553438276719121},{"$f":"SUM($G43:AG43)","v":0.76553438276719121},{"$f":"SUM($G43:AH43)","v":0.99999999999999978},{"$f":"SUM($G43:AI43)","v":0.99999999999999978},{"$f":"SUM($G43:AJ43)","v":0.99999999999999978},{"$f":"SUM($G43:AK43)","v":0.99999999999999978},{"$f":"SUM($G43:AL43)","v":0.99999999999999978},{"$f":"SUM($G43:AM43)","v":0.99999999999999978},{"$f":"SUM($G43:AN43)","v":0.99999999999999978}]
[45,"Kløvergræs til slæt","Udsæd",null,null,null,{"$f":"SUM($G37:G37)","v":1},{"$f":"SUM($G37:H37)","v":1},{"$f":"SUM($G37:I37)","v":1},{"$f":"SUM($G37:J37)","v":1},{"$f":"SUM($G37:K37)","v":1},{"$f":"SUM($G37:L37)","v":1},{"$f":"SUM($G37:M37)","v":1},{"$f":"SUM($G37:N37)","v":1},{"$f":"SUM($G37:O37)","v":1},{"$f":"SUM($G37:P37)","v":1},{"$f":"SUM($G37:Q37)","v":1},{"$f":"SUM($G37:R37)","v":1},{"$f":"SUM($G37:S37)","v":1},{"$f":"SUM($G37:T37)","v":1},{"$f":"SUM($G37:U37)","v":1},{"$f":"SUM($G37:V37)","v":1},{"$f":"SUM($G37:W37)","v":1},{"$f":"SUM($G37:X37)","v":1},{"$f":"SUM($G37:Y37)","v":1},{"$f":"SUM($G37:Z37)","v":1},{"$f":"SUM($G37:AA37)","v":1},{"$f":"SUM($G37:AB37)","v":1},{"$f":"SUM($G37:AC37)","v":1},{"$f":"SUM($G37:AD37)","v":1},{"$f":"SUM($G37:AE37)","v":1},{"$f":"SUM($G37:AF37)","v":1},{"$f":"SUM($G37:AG37)","v":1},{"$f":"SUM($G37:AH37)","v":1},{"$f":"SUM($G37:AI37)","v":1},{"$f":"SUM($G37:AJ37)","v":1},{"$f":"SUM($G37:AK37)","v":1},{"$f":"SUM($G37:AL37)","v":1},{"$f":"SUM($G37:AM37)","v":1},{"$f":"SUM($G37:AN37)","v":1}]
[46,"Kløvergræs til slæt","Gødning",null,null,null,{"$f":"SUM($G38:G38)","v":0},{"$f":"SUM($G38:H38)","v":0},{"$f":"SUM($G38:I38)","v":0},{"$f":"SUM($G38:J38)","v":0},{"$f":"SUM($G38:K38)","v":0},{"$f":"SUM($G38:L38)","v":0},{"$f":"SUM($G38:M38)","v":0},{"$f":"SUM($G38:N38)","v":0},{"$f":"SUM($G38:O38)","v":0},{"$f":"SUM($G38:P38)","v":0},{"$f":"SUM($G38:Q38)","v":0},{"$f":"SUM($G38:R38)","v":0},{"$f":"SUM($G38:S38)","v":0},{"$f":"SUM($G38:T38)","v":0},{"$f":"SUM($G38:U38)","v":0},{"$f":"SUM($G38:V38)","v":0.33333333333333331},{"$f":"SUM($G38:W38)","v":0.33333333333333331},{"$f":"SUM($G38:X38)","v":0.33333333333333331},{"$f":"SUM($G38:Y38)","v":0.33333333333333331},{"$f":"SUM($G38:Z38)","v":0.66666666666666663},{"$f":"SUM($G38:AA38)","v":0.66666666666666663},{"$f":"SUM($G38:AB38)","v":0.66666666666666663},{"$f":"SUM($G38:AC38)","v":1},{"$f":"SUM($G38:AD38)","v":1},{"$f":"SUM($G38:AE38)","v":1},{"$f":"SUM($G38:AF38)","v":1},{"$f":"SUM($G38:AG38)","v":1},{"$f":"SUM($G38:AH38)","v":1},{"$f":"SUM($G38:AI38)","v":1},{"$f":"SUM($G38:AJ38)","v":1},{"$f":"SUM($G38:AK38)","v":1},{"$f":"SUM($G38:AL38)","v":1},{"$f":"SUM($G38:AM38)","v":1},{"$f":"SUM($G38:AN38)","v":1}]
[47,"Kløvergræs til slæt","Planteværn",null,null,null,{"$f":"SUM($G39:G39)","v":0},{"$f":"SUM($G39:H39)","v":0},{"$f":"SUM($G39:I39)","v":0},{"$f":"SUM($G39:J39)","v":0},{"$f":"SUM($G39:K39)","v":0},{"$f":"SUM($G39:L39)","v":0},{"$f":"SUM($G39:M39)","v":0},{"$f":"SUM($G39:N39)","v":0},{"$f":"SUM($G39:O39)","v":0},{"$f":"SUM($G39:P39)","v":0},{"$f":"SUM($G39:Q39)","v":0},{"$f":"SUM($G39:R39)","v":0},{"$f":"SUM($G39:S39)","v":0},{"$f":"SUM($G39:T39)","v":0},{"$f":"SUM($G39:U39)","v":0},{"$f":"SUM($G39:V39)","v":0},{"$f":"SUM($G39:W39)","v":0},{"$f":"SUM($G39:X39)","v":0},{"$f":"SUM($G39:Y39)","v":0},{"$f":"SUM($G39:Z39)","v":0},{"$f":"SUM($G39:AA39)","v":0},{"$f":"SUM($G39:AB39)","v":0},{"$f":"SUM($G39:AC39)","v":0},{"$f":"SUM($G39:AD39)","v":0},{"$f":"SUM($G39:AE39)","v":0},{"$f":"SUM($G39:AF39)","v":0},{"$f":"SUM($G39:AG39)","v":0},{"$f":"SUM($G39:AH39)","v":0},{"$f":"SUM($G39:AI39)","v":0},{"$f":"SUM($G39:AJ39)","v":0},{"$f":"SUM($G39:AK39)","v":0},{"$f":"SUM($G39:AL39)","v":0},{"$f":"SUM($G39:AM39)","v":0},{"$f":"SUM($G39:AN39)","v":0}]
[48,"Kløvergræs til slæt","Diverse stykomkostninger",null,null,null,{"$f":"SUM($G40:G40)","v":0},{"$f":"SUM($G40:H40)","v":0},{"$f":"SUM($G40:I40)","v":0},{"$f":"SUM($G40:J40)","v":0},{"$f":"SUM($G40:K40)","v":0},{"$f":"SUM($G40:L40)","v":0},{"$f":"SUM($G40:M40)","v":0},{"$f":"SUM($G40:N40)","v":0},{"$f":"SUM($G40:O40)","v":0},{"$f":"SUM($G40:P40)","v":0},{"$f":"SUM($G40:Q40)","v":0},{"$f":"SUM($G40:R40)","v":0},{"$f":"SUM($G40:S40)","v":0},{"$f":"SUM($G40:T40)","v":0},{"$f":"SUM($G40:U40)","v":0},{"$f":"SUM($G40:V40)","v":0},{"$f":"SUM($G40:W40)","v":0},{"$f":"SUM($G40:X40)","v":0},{"$f":"SUM($G40:Y40)","v":0},{"$f":"SUM($G40:Z40)","v":0.25},{"$f":"SUM($G40:AA40)","v":0.25},{"$f":"SUM($G40:AB40)","v":0.25},{"$f":"SUM($G40:AC40)","v":0.5},{"$f":"SUM($G40:AD40)","v":0.5},{"$f":"SUM($G40:AE40)","v":0.625},{"$f":"SUM($G40:AF40)","v":0.75},{"$f":"SUM($G40:AG40)","v":0.75},{"$f":"SUM($G40:AH40)","v":1},{"$f":"SUM($G40:AI40)","v":1},{"$f":"SUM($G40:AJ40)","v":1},{"$f":"SUM($G40:AK40)","v":1},{"$f":"SUM($G40:AL40)","v":1},{"$f":"SUM($G40:AM40)","v":1},{"$f":"SUM($G40:AN40)","v":1}]
[49,"Kløvergræs til slæt","Bruttoudbytte (høsttid)",null,null,null,{"$f":"SUM($G40:G40)","v":0},{"$f":"SUM($G40:H40)","v":0},{"$f":"SUM($G40:I40)","v":0},{"$f":"SUM($G40:J40)","v":0},{"$f":"SUM($G40:K40)","v":0},{"$f":"SUM($G40:L40)","v":0},{"$f":"SUM($G40:M40)","v":0},{"$f":"SUM($G40:N40)","v":0},{"$f":"SUM($G40:O40)","v":0},{"$f":"SUM($G40:P40)","v":0},{"$f":"SUM($G40:Q40)","v":0},{"$f":"SUM($G40:R40)","v":0},{"$f":"SUM($G40:S40)","v":0},{"$f":"SUM($G40:T40)","v":0},{"$f":"SUM($G40:U40)","v":0},{"$f":"SUM($G40:V40)","v":0},{"$f":"SUM($G40:W40)","v":0},{"$f":"SUM($G40:X40)","v":0},{"$f":"SUM($G40:Y40)","v":0},{"$f":"SUM($G40:Z40)","v":0.25},{"$f":"SUM($G40:AA40)","v":0.25},{"$f":"SUM($G40:AB40)","v":0.25},{"$f":"SUM($G40:AC40)","v":0.5},{"$f":"SUM($G40:AD40)","v":0.5},{"$f":"SUM($G40:AE40)","v":0.625},{"$f":"SUM($G40:AF40)","v":0.75},{"$f":"SUM($G40:AG40)","v":0.75},{"$f":"SUM($G40:AH40)","v":1},{"$f":"SUM($G40:AI40)","v":1},{"$f":"SUM($G40:AJ40)","v":1},{"$f":"SUM($G40:AK40)","v":1},{"$f":"SUM($G40:AL40)","v":1},{"$f":"SUM($G40:AM40)","v":1},{"$f":"SUM($G40:AN40)","v":1}]
[50,"Majs til helsæd","Pløjning",1,null,725,null,null,null,null,null,null,null,null,null,null,null,null,null,null,null,{"$f":"0.5/D50","v":0.5},{"$f":"0.5/D50","v":0.5}]
[51,"Majs til helsæd","Jorbearb. Før såning",1,null,200,null,null,null,null,null,null,null,null,null,null,null,null,null,null,null,null,{"$f":"1/D51","v":1}]
[52,"Majs til helsæd","Afgrødeetabl. (såning, lægning o.l.)",1,null,{"$f":"500+175","v":675},null,null,null,null,null,null,null,null,null,null,null,null,null,null,null,null,null,{"$f":"1/D52","v":1}]
[53,"Majs til helsæd","Gødskning (handelsgødning)",1,null,100,null,null,null,null,null,null,null,null,null,null,null,null,null,null,null,null,{"$f":"1/D53","v":1}]
[54,"Majs til helsæd","Planteværn",2,null,280,null,null,null,null,null,null,null,null,null,null,null,null,null,null,null,null,null,null,null,{"$f":"1/D54","v":0.5},{"$f":"1/D54","v":0.5}]
[55,"Majs til helsæd","Høst og hjemkørsel",1,null,1754,null,null,null,null,null,null,null,null,null,null,null,null,null,null,null,null,null,null,null,null,null,null,null,null,null,null,null,1]
[56,"Majs til helsæd","Maskinomkostninger ",null,null,{"$f":"SUM(F50:F55)","v":3734},{"$f":"($F50*G50+$F51*G51+$F52*G52+$F53*G53+$F54*G54+$F55*G55)/$F56","v":0},{"$f":"($F50*H50+$F51*H51+$F52*H52+$F53*H53+$F54*H54+$F55*H55)/$F56","v":0},0,0,0,0,0,0,0,0,0,0,0,0,0,9.7080878414568833E-2,0.17742367434386716,0.18077129084092125,0,3.7493304767005894E-2,3.7493304767005894E-2,0,0,0,0,0,0,0.46973754686663094,0,0,0,0,0,0]
[57,"Majs til helsæd","Maskinomkostninger summeret",null,null,null,{"$f":"SUM($G56:G56)","v":0},{"$f":"SUM($G56:H56)","v":0},{"$f":"SUM($G56:I56)","v":0},{"$f":"SUM($G56:J56)","v":0},{"$f":"SUM($G56:K56)","v":0},{"$f":"SUM($G56:L56)","v":0},{"$f":"SUM($G56:M56)","v":0},{"$f":"SUM($G56:N56)","v":0},{"$f":"SUM($G56:O56)","v":0},{"$f":"SUM($G56:P56)","v":0},{"$f":"SUM($G56:Q56)","v":0},{"$f":"SUM($G56:R56)","v":0},{"$f":"SUM($G56:S56)","v":0},{"$f":"SUM($G56:T56)","v":0},{"$f":"SUM($G56:U56)","v":0},{"$f":"SUM($G56:V56)","v":9.7080878414568833E-2},{"$f":"SUM($G56:W56)","v":0.27450455275843599},{"$f":"SUM($G56:X56)","v":0.45527584359935724},{"$f":"SUM($G56:Y56)","v":0.45527584359935724},{"$f":"SUM($G56:Z56)","v":0.49276914836636315},{"$f":"SUM($G56:AA56)","v":0.53026245313336906},{"$f":"SUM($G56:AB56)","v":0.53026245313336906},{"$f":"SUM($G56:AC56)","v":0.53026245313336906},{"$f":"SUM($G56:AD56)","v":0.53026245313336906},{"$f":"SUM($G56:AE56)","v":0.53026245313336906},{"$f":"SUM($G56:AF56)","v":0.53026245313336906},{"$f":"SUM($G56:AG56)","v":0.53026245313336906},{"$f":"SUM($G56:AH56)","v":1},{"$f":"SUM($G56:AI56)","v":1},{"$f":"SUM($G56:AJ56)","v":1},{"$f":"SUM($G56:AK56)","v":1},{"$f":"SUM($G56:AL56)","v":1},{"$f":"SUM($G56:AM56)","v":1},{"$f":"SUM($G56:AN56)","v":1}]
[58,"Majs til helsæd","Maskinomkostninger excl. Etablering",null,null,{"$f":"SUM(F53:F55)","v":2134},{"$f":"($F53*G53+$F54*G54+$F55*G55)/$F58","v":0},{"$f":"($F53*H53+$F54*H54+$F55*H55)/$F58","v":0},0,0,0,0,0,0,0,0,0,0,0,0,0,0,4.6860356138706656E-2,0,0,6.560449859418932E-2,6.560449859418932E-2,0,0,0,0,0,0,0.82193064667291471,0,0,0,0,0,0]
[59,"Majs til helsæd","Maskinomkostninger summeret excl. Etablering",null,null,null,{"$f":"SUM($G58:G58)","v":0},{"$f":"SUM($G58:H58)","v":0},{"$f":"SUM($G58:I58)","v":0},{"$f":"SUM($G58:J58)","v":0},{"$f":"SUM($G58:K58)","v":0},{"$f":"SUM($G58:L58)","v":0},{"$f":"SUM($G58:M58)","v":0},{"$f":"SUM($G58:N58)","v":0},{"$f":"SUM($G58:O58)","v":0},{"$f":"SUM($G58:P58)","v":0},{"$f":"SUM($G58:Q58)","v":0},{"$f":"SUM($G58:R58)","v":0},{"$f":"SUM($G58:S58)","v":0},{"$f":"SUM($G58:T58)","v":0},{"$f":"SUM($G58:U58)","v":0},{"$f":"SUM($G58:V58)","v":0},{"$f":"SUM($G58:W58)","v":4.6860356138706656E-2},{"$f":"SUM($G58:X58)","v":4.6860356138706656E-2},{"$f":"SUM($G58:Y58)","v":4.6860356138706656E-2},{"$f":"SUM($G58:Z58)","v":0.11246485473289597},{"$f":"SUM($G58:AA58)","v":0.17806935332708529},{"$f":"SUM($G58:AB58)","v":0.17806935332708529},{"$f":"SUM($G58:AC58)","v":0.17806935332708529},{"$f":"SUM($G58:AD58)","v":0.17806935332708529},{"$f":"SUM($G58:AE58)","v":0.17806935332708529},{"$f":"SUM($G58:AF58)","v":0.17806935332708529},{"$f":"SUM($G58:AG58)","v":0.17806935332708529},{"$f":"SUM($G58:AH58)","v":1},{"$f":"SUM($G58:AI58)","v":1},{"$f":"SUM($G58:AJ58)","v":1},{"$f":"SUM($G58:AK58)","v":1},{"$f":"SUM($G58:AL58)","v":1},{"$f":"SUM($G58:AM58)","v":1},{"$f":"SUM($G58:AN58)","v":1}]
[60,"Majs til helsæd","Udsæd",null,null,null,{"$f":"SUM($G52:G52)","v":0},{"$f":"SUM($G52:H52)","v":0},{"$f":"SUM($G52:I52)","v":0},{"$f":"SUM($G52:J52)","v":0},{"$f":"SUM($G52:K52)","v":0},{"$f":"SUM($G52:L52)","v":0},{"$f":"SUM($G52:M52)","v":0},{"$f":"SUM($G52:N52)","v":0},{"$f":"SUM($G52:O52)","v":0},{"$f":"SUM($G52:P52)","v":0},{"$f":"SUM($G52:Q52)","v":0},{"$f":"SUM($G52:R52)","v":0},{"$f":"SUM($G52:S52)","v":0},{"$f":"SUM($G52:T52)","v":0},{"$f":"SUM($G52:U52)","v":0},{"$f":"SUM($G52:V52)","v":0},{"$f":"SUM($G52:W52)","v":0},{"$f":"SUM($G52:X52)","v":1},{"$f":"SUM($G52:Y52)","v":1},{"$f":"SUM($G52:Z52)","v":1},{"$f":"SUM($G52:AA52)","v":1},{"$f":"SUM($G52:AB52)","v":1},{"$f":"SUM($G52:AC52)","v":1},{"$f":"SUM($G52:AD52)","v":1},{"$f":"SUM($G52:AE52)","v":1},{"$f":"SUM($G52:AF52)","v":1},{"$f":"SUM($G52:AG52)","v":1},{"$f":"SUM($G52:AH52)","v":1},{"$f":"SUM($G52:AI52)","v":1},{"$f":"SUM($G52:AJ52)","v":1},{"$f":"SUM($G52:AK52)","v":1},{"$f":"SUM($G52:AL52)","v":1},{"$f":"SUM($G52:AM52)","v":1},{"$f":"SUM($G52:AN52)","v":1}]
[61,"Majs til helsæd","Gødning",null,null,null,{"$f":"SUM($G53:G53)","v":0},{"$f":"SUM($G53:H53)","v":0},{"$f":"SUM($G53:I53)","v":0},{"$f":"SUM($G53:J53)","v":0},{"$f":"SUM($G53:K53)","v":0},{"$f":"SUM($G53:L53)","v":0},{"$f":"SUM($G53:M53)","v":0},{"$f":"SUM($G53:N53)","v":0},{"$f":"SUM($G53:O53)","v":0},{"$f":"SUM($G53:P53)","v":0},{"$f":"SUM($G53:Q53)","v":0},{"$f":"SUM($G53:R53)","v":0},{"$f":"SUM($G53:S53)","v":0},{"$f":"SUM($G53:T53)","v":0},{"$f":"SUM($G53:U53)","v":0},{"$f":"SUM($G53:V53)","v":0},{"$f":"SUM($G53:W53)","v":1},{"$f":"SUM($G53:X53)","v":1},{"$f":"SUM($G53:Y53)","v":1},{"$f":"SUM($G53:Z53)","v":1},{"$f":"SUM($G53:AA53)","v":1},{"$f":"SUM($G53:AB53)","v":1},{"$f":"SUM($G53:AC53)","v":1},{"$f":"SUM($G53:AD53)","v":1},{"$f":"SUM($G53:AE53)","v":1},{"$f":"SUM($G53:AF53)","v":1},{"$f":"SUM($G53:AG53)","v":1},{"$f":"SUM($G53:AH53)","v":1},{"$f":"SUM($G53:AI53)","v":1},{"$f":"SUM($G53:AJ53)","v":1},{"$f":"SUM($G53:AK53)","v":1},{"$f":"SUM($G53:AL53)","v":1},{"$f":"SUM($G53:AM53)","v":1},{"$f":"SUM($G53:AN53)","v":1}]
[62,"Majs til helsæd","Planteværn",null,null,null,{"$f":"SUM($G54:G54)","v":0},{"$f":"SUM($G54:H54)","v":0},{"$f":"SUM($G54:I54)","v":0},{"$f":"SUM($G54:J54)","v":0},{"$f":"SUM($G54:K54)","v":0},{"$f":"SUM($G54:L54)","v":0},{"$f":"SUM($G54:M54)","v":0},{"$f":"SUM($G54:N54)","v":0},{"$f":"SUM($G54:O54)","v":0},{"$f":"SUM($G54:P54)","v":0},{"$f":"SUM($G54:Q54)","v":0},{"$f":"SUM($G54:R54)","v":0},{"$f":"SUM($G54:S54)","v":0},{"$f":"SUM($G54:T54)","v":0},{"$f":"SUM($G54:U54)","v":0},{"$f":"SUM($G54:V54)","v":0},{"$f":"SUM($G54:W54)","v":0},{"$f":"SUM($G54:X54)","v":0},{"$f":"SUM($G54:Y54)","v":0},{"$f":"SUM($G54:Z54)","v":0.5},{"$f":"SUM($G54:AA54)","v":1},{"$f":"SUM($G54:AB54)","v":1},{"$f":"SUM($G54:AC54)","v":1},{"$f":"SUM($G54:AD54)","v":1},{"$f":"SUM($G54:AE54)","v":1},{"$f":"SUM($G54:AF54)","v":1},{"$f":"SUM($G54:AG54)","v":1},{"$f":"SUM($G54:AH54)","v":1},{"$f":"SUM($G54:AI54)","v":1},{"$f":"SUM($G54:AJ54)","v":1},{"$f":"SUM($G54:AK54)","v":1},{"$f":"SUM($G54:AL54)","v":1},{"$f":"SUM($G54:AM54)","v":1},{"$f":"SUM($G54:AN54)","v":1}]
[63,"Majs til helsæd","Diverse stykomkostninger",null,null,null,{"$f":"SUM($G55:G55)","v":0},{"$f":"SUM($G55:H55)","v":0},{"$f":"SUM($G55:I55)","v":0},{"$f":"SUM($G55:J55)","v":0},{"$f":"SUM($G55:K55)","v":0},{"$f":"SUM($G55:L55)","v":0},{"$f":"SUM($G55:M55)","v":0},{"$f":"SUM($G55:N55)","v":0},{"$f":"SUM($G55:O55)","v":0},{"$f":"SUM($G55:P55)","v":0},{"$f":"SUM($G55:Q55)","v":0},{"$f":"SUM($G55:R55)","v":0},{"$f":"SUM($G55:S55)","v":0},{"$f":"SUM($G55:T55)","v":0},{"$f":"SUM($G55:U55)","v":0},{"$f":"SUM($G55:V55)","v":0},{"$f":"SUM($G55:W55)","v":0},{"$f":"SUM($G55:X55)","v":0},{"$f":"SUM($G55:Y55)","v":0},{"$f":"SUM($G55:Z55)","v":0},{"$f":"SUM($G55:AA55)","v":0},{"$f":"SUM($G55:AB55)","v":0},{"$f":"SUM($G55:AC55)","v":0},{"$f":"SUM($G55:AD55)","v":0},{"$f":"SUM($G55:AE55)","v":0},{"$f":"SUM($G55:AF55)","v":0},{"$f":"SUM($G55:AG55)","v":0},{"$f":"SUM($G55:AH55)","v":1},{"$f":"SUM($G55:AI55)","v":1},{"$f":"SUM($G55:AJ55)","v":1},{"$f":"SUM($G55:AK55)","v":1},{"$f":"SUM($G55:AL55)","v":1},{"$f":"SUM($G55:AM55)","v":1},{"$f":"SUM($G55:AN55)","v":1}]
[64,"Majs til helsæd","Bruttoudbytte (høsttid)",null,null,null,{"$f":"SUM($G55:G55)","v":0},{"$f":"SUM($G55:H55)","v":0},{"$f":"SUM($G55:I55)","v":0},{"$f":"SUM($G55:J55)","v":0},{"$f":"SUM($G55:K55)","v":0},{"$f":"SUM($G55:L55)","v":0},{"$f":"SUM($G55:M55)","v":0},{"$f":"SUM($G55:N55)","v":0},{"$f":"SUM($G55:O55)","v":0},{"$f":"SUM($G55:P55)","v":0},{"$f":"SUM($G55:Q55)","v":0},{"$f":"SUM($G55:R55)","v":0},{"$f":"SUM($G55:S55)","v":0},{"$f":"SUM($G55:T55)","v":0},{"$f":"SUM($G55:U55)","v":0},{"$f":"SUM($G55:V55)","v":0},{"$f":"SUM($G55:W55)","v":0},{"$f":"SUM($G55:X55)","v":0},{"$f":"SUM($G55:Y55)","v":0},{"$f":"SUM($G55:Z55)","v":0},{"$f":"SUM($G55:AA55)","v":0},{"$f":"SUM($G55:AB55)","v":0},{"$f":"SUM($G55:AC55)","v":0},{"$f":"SUM($G55:AD55)","v":0},{"$f":"SUM($G55:AE55)","v":0},{"$f":"SUM($G55:AF55)","v":0},{"$f":"SUM($G55:AG55)","v":0},{"$f":"SUM($G55:AH55)","v":1},{"$f":"SUM($G55:AI55)","v":1},{"$f":"SUM($G55:AJ55)","v":1},{"$f":"SUM($G55:AK55)","v":1},{"$f":"SUM($G55:AL55)","v":1},{"$f":"SUM($G55:AM55)","v":1},{"$f":"SUM($G55:AN55)","v":1}]
[65,"Roer","Pløjning",1,null,725,null,null,null,null,null,null,null,1]
[66,"Roer","Jorbearb. Før såning",1,null,400,null,null,null,null,null,null,null,null,null,null,null,null,null,null,null,{"$f":"1/D66","v":1}]
[67,"Roer","Afgrødeetabl. (såning, lægning o.l.)",1,null,450,null,null,null,null,null,null,null,null,null,null,null,null,null,null,null,null,{"$f":"1/D67","v":1}]
[68,"Roer","Gødskning (handelsgødning)",1,null,100,null,null,null,null,null,null,null,null,null,null,null,null,null,null,null,null,{"$f":"1/D68","v":1}]
[69,"Roer","Planteværn",5,null,{"$f":"990+425","v":1415},null,null,null,null,null,null,null,null,null,null,null,null,null,null,null,null,null,{"$f":"2/D69","v":0.4},null,{"$f":"1/D69","v":0.2},{"$f":"1/D69","v":0.2},{"$f":"1/D69","v":0.2}]
[70,"Roer","Høst og hjemkørsel",1,null,2118,null,null,null,null,null,null,null,null,null,null,null,null,null,null,null,null,null,null,null,null,null,null,null,null,null,null,null,null,null,1]
[71,"Roer","Maskinomkostninger ",null,null,{"$f":"SUM(F65:F70)","v":5208},{"$f":"($F65*G65+$F66*G66+$F67*G67+$F68*G68+$F69*G69+$F70*G70)/$F71","v":0},{"$f":"($F65*H65+$F66*H66+$F67*H67+$F68*H68+$F69*H69+$F70*H70)/$F71","v":0},0,0,0,0,0,0.1392089093701997,0,0,0,0,0,0,0,7.6804915514592939E-2,0.10560675883256529,0.108678955453149,0,5.4339477726574499E-2,5.4339477726574499E-2,5.4339477726574499E-2,0,0,0,0,0,0,0,0.40668202764976957,0,0,0,0]
[72,"Roer","Maskinomkostninger summeret",null,null,null,{"$f":"SUM($G71:G71)","v":0},{"$f":"SUM($G71:H71)","v":0},{"$f":"SUM($G71:I71)","v":0},{"$f":"SUM($G71:J71)","v":0},{"$f":"SUM($G71:K71)","v":0},{"$f":"SUM($G71:L71)","v":0},{"$f":"SUM($G71:M71)","v":0},{"$f":"SUM($G71:N71)","v":0.1392089093701997},{"$f":"SUM($G71:O71)","v":0.1392089093701997},{"$f":"SUM($G71:P71)","v":0.1392089093701997},{"$f":"SUM($G71:Q71)","v":0.1392089093701997},{"$f":"SUM($G71:R71)","v":0.1392089093701997},{"$f":"SUM($G71:S71)","v":0.1392089093701997},{"$f":"SUM($G71:T71)","v":0.1392089093701997},{"$f":"SUM($G71:U71)","v":0.1392089093701997},{"$f":"SUM($G71:V71)","v":0.21601382488479265},{"$f":"SUM($G71:W71)","v":0.32162058371735791},{"$f":"SUM($G71:X71)","v":0.4302995391705069},{"$f":"SUM($G71:Y71)","v":0.4302995391705069},{"$f":"SUM($G71:Z71)","v":0.48463901689708139},{"$f":"SUM($G71:AA71)","v":0.53897849462365588},{"$f":"SUM($G71:AB71)","v":0.59331797235023043},{"$f":"SUM($G71:AC71)","v":0.59331797235023043},{"$f":"SUM($G71:AD71)","v":0.59331797235023043},{"$f":"SUM($G71:AE71)","v":0.59331797235023043},{"$f":"SUM($G71:AF71)","v":0.59331797235023043},{"$f":"SUM($G71:AG71)","v":0.59331797235023043},{"$f":"SUM($G71:AH71)","v":0.59331797235023043},{"$f":"SUM($G71:AI71)","v":0.59331797235023043},{"$f":"SUM($G71:AJ71)","v":1},{"$f":"SUM($G71:AK71)","v":1},{"$f":"SUM($G71:AL71)","v":1},{"$f":"SUM($G71:AM71)","v":1},{"$f":"SUM($G71:AN71)","v":1}]
[73,"Roer","Maskinomkostninger excl. Etablering",null,null,{"$f":"SUM(F68:F70)","v":3633},{"$f":"($F68*G68+$F69*G69+$F70*G70)/$F73","v":0},{"$f":"($F68*H68+$F69*H69+$F70*H70)/$F73","v":0},0,0,0,0,0,0,0,0,0,0,0,0,0,0,2.7525461051472612E-2,0.15579410955133499,0,7.7897054775667496E-2,7.7897054775667496E-2,7.7897054775667496E-2,0,0,0,0,0,0,0,0.58298926507018989,0,0,0,0]
[74,"Roer","Maskinomkostninger summeret excl. Etablering",null,null,null,{"$f":"SUM($G73:G73)","v":0},{"$f":"SUM($G73:H73)","v":0},{"$f":"SUM($G73:I73)","v":0},{"$f":"SUM($G73:J73)","v":0},{"$f":"SUM($G73:K73)","v":0},{"$f":"SUM($G73:L73)","v":0},{"$f":"SUM($G73:M73)","v":0},{"$f":"SUM($G73:N73)","v":0},{"$f":"SUM($G73:O73)","v":0},{"$f":"SUM($G73:P73)","v":0},{"$f":"SUM($G73:Q73)","v":0},{"$f":"SUM($G73:R73)","v":0},{"$f":"SUM($G73:S73)","v":0},{"$f":"SUM($G73:T73)","v":0},{"$f":"SUM($G73:U73)","v":0},{"$f":"SUM($G73:V73)","v":0},{"$f":"SUM($G73:W73)","v":2.7525461051472612E-2},{"$f":"SUM($G73:X73)","v":0.1833195706028076},{"$f":"SUM($G73:Y73)","v":0.1833195706028076},{"$f":"SUM($G73:Z73)","v":0.26121662537847512},{"$f":"SUM($G73:AA73)","v":0.33911368015414262},{"$f":"SUM($G73:AB73)","v":0.41701073492981011},{"$f":"SUM($G73:AC73)","v":0.41701073492981011},{"$f":"SUM($G73:AD73)","v":0.41701073492981011},{"$f":"SUM($G73:AE73)","v":0.41701073492981011},{"$f":"SUM($G73:AF73)","v":0.41701073492981011},{"$f":"SUM($G73:AG73)","v":0.41701073492981011},{"$f":"SUM($G73:AH73)","v":0.41701073492981011},{"$f":"SUM($G73:AI73)","v":0.41701073492981011},{"$f":"SUM($G73:AJ73)","v":1},{"$f":"SUM($G73:AK73)","v":1},{"$f":"SUM($G73:AL73)","v":1},{"$f":"SUM($G73:AM73)","v":1},{"$f":"SUM($G73:AN73)","v":1}]
[75,"Roer","Udsæd",null,null,null,{"$f":"SUM($G67:G67)","v":0},{"$f":"SUM($G67:H67)","v":0},{"$f":"SUM($G67:I67)","v":0},{"$f":"SUM($G67:J67)","v":0},{"$f":"SUM($G67:K67)","v":0},{"$f":"SUM($G67:L67)","v":0},{"$f":"SUM($G67:M67)","v":0},{"$f":"SUM($G67:N67)","v":0},{"$f":"SUM($G67:O67)","v":0},{"$f":"SUM($G67:P67)","v":0},{"$f":"SUM($G67:Q67)","v":0},{"$f":"SUM($G67:R67)","v":0},{"$f":"SUM($G67:S67)","v":0},{"$f":"SUM($G67:T67)","v":0},{"$f":"SUM($G67:U67)","v":0},{"$f":"SUM($G67:V67)","v":0},{"$f":"SUM($G67:W67)","v":1},{"$f":"SUM($G67:X67)","v":1},{"$f":"SUM($G67:Y67)","v":1},{"$f":"SUM($G67:Z67)","v":1},{"$f":"SUM($G67:AA67)","v":1},{"$f":"SUM($G67:AB67)","v":1},{"$f":"SUM($G67:AC67)","v":1},{"$f":"SUM($G67:AD67)","v":1},{"$f":"SUM($G67:AE67)","v":1},{"$f":"SUM($G67:AF67)","v":1},{"$f":"SUM($G67:AG67)","v":1},{"$f":"SUM($G67:AH67)","v":1},{"$f":"SUM($G67:AI67)","v":1},{"$f":"SUM($G67:AJ67)","v":1},{"$f":"SUM($G67:AK67)","v":1},{"$f":"SUM($G67:AL67)","v":1},{"$f":"SUM($G67:AM67)","v":1},{"$f":"SUM($G67:AN67)","v":1}]
[76,"Roer","Gødning",null,null,null,{"$f":"SUM($G68:G68)","v":0},{"$f":"SUM($G68:H68)","v":0},{"$f":"SUM($G68:I68)","v":0},{"$f":"SUM($G68:J68)","v":0},{"$f":"SUM($G68:K68)","v":0},{"$f":"SUM($G68:L68)","v":0},{"$f":"SUM($G68:M68)","v":0},{"$f":"SUM($G68:N68)","v":0},{"$f":"SUM($G68:O68)","v":0},{"$f":"SUM($G68:P68)","v":0},{"$f":"SUM($G68:Q68)","v":0},{"$f":"SUM($G68:R68)","v":0},{"$f":"SUM($G68:S68)","v":0},{"$f":"SUM($G68:T68)","v":0},{"$f":"SUM($G68:U68)","v":0},{"$f":"SUM($G68:V68)","v":0},{"$f":"SUM($G68:W68)","v":1},{"$f":"SUM($G68:X68)","v":1},{"$f":"SUM($G68:Y68)","v":1},{"$f":"SUM($G68:Z68)","v":1},{"$f":"SUM($G68:AA68)","v":1},{"$f":"SUM($G68:AB68)","v":1},{"$f":"SUM($G68:AC68)","v":1},{"$f":"SUM($G68:AD68)","v":1},{"$f":"SUM($G68:AE68)","v":1},{"$f":"SUM($G68:AF68)","v":1},{"$f":"SUM($G68:AG68)","v":1},{"$f":"SUM($G68:AH68)","v":1},{"$f":"SUM($G68:AI68)","v":1},{"$f":"SUM($G68:AJ68)","v":1},{"$f":"SUM($G68:AK68)","v":1},{"$f":"SUM($G68:AL68)","v":1},{"$f":"SUM($G68:AM68)","v":1},{"$f":"SUM($G68:AN68)","v":1}]
[77,"Roer","Planteværn",null,null,null,{"$f":"SUM($G69:G69)","v":0},{"$f":"SUM($G69:H69)","v":0},{"$f":"SUM($G69:I69)","v":0},{"$f":"SUM($G69:J69)","v":0},{"$f":"SUM($G69:K69)","v":0},{"$f":"SUM($G69:L69)","v":0},{"$f":"SUM($G69:M69)","v":0},{"$f":"SUM($G69:N69)","v":0},{"$f":"SUM($G69:O69)","v":0},{"$f":"SUM($G69:P69)","v":0},{"$f":"SUM($G69:Q69)","v":0},{"$f":"SUM($G69:R69)","v":0},{"$f":"SUM($G69:S69)","v":0},{"$f":"SUM($G69:T69)","v":0},{"$f":"SUM($G69:U69)","v":0},{"$f":"SUM($G69:V69)","v":0},{"$f":"SUM($G69:W69)","v":0},{"$f":"SUM($G69:X69)","v":0.4},{"$f":"SUM($G69:Y69)","v":0.4},{"$f":"SUM($G69:Z69)","v":0.60000000000000009},{"$f":"SUM($G69:AA69)","v":0.8},{"$f":"SUM($G69:AB69)","v":1},{"$f":"SUM($G69:AC69)","v":1},{"$f":"SUM($G69:AD69)","v":1},{"$f":"SUM($G69:AE69)","v":1},{"$f":"SUM($G69:AF69)","v":1},{"$f":"SUM($G69:AG69)","v":1},{"$f":"SUM($G69:AH69)","v":1},{"$f":"SUM($G69:AI69)","v":1},{"$f":"SUM($G69:AJ69)","v":1},{"$f":"SUM($G69:AK69)","v":1},{"$f":"SUM($G69:AL69)","v":1},{"$f":"SUM($G69:AM69)","v":1},{"$f":"SUM($G69:AN69)","v":1}]
[78,"Roer","Diverse stykomkostninger",null,null,null,{"$f":"SUM($G70:G70)","v":0},{"$f":"SUM($G70:H70)","v":0},{"$f":"SUM($G70:I70)","v":0},{"$f":"SUM($G70:J70)","v":0},{"$f":"SUM($G70:K70)","v":0},{"$f":"SUM($G70:L70)","v":0},{"$f":"SUM($G70:M70)","v":0},{"$f":"SUM($G70:N70)","v":0},{"$f":"SUM($G70:O70)","v":0},{"$f":"SUM($G70:P70)","v":0},{"$f":"SUM($G70:Q70)","v":0},{"$f":"SUM($G70:R70)","v":0},{"$f":"SUM($G70:S70)","v":0},{"$f":"SUM($G70:T70)","v":0},{"$f":"SUM($G70:U70)","v":0},{"$f":"SUM($G70:V70)","v":0},{"$f":"SUM($G70:W70)","v":0},{"$f":"SUM($G70:X70)","v":0},{"$f":"SUM($G70:Y70)","v":0},{"$f":"SUM($G70:Z70)","v":0},{"$f":"SUM($G70:AA70)","v":0},{"$f":"SUM($G70:AB70)","v":0},{"$f":"SUM($G70:AC70)","v":0},{"$f":"SUM($G70:AD70)","v":0},{"$f":"SUM($G70:AE70)","v":0},{"$f":"SUM($G70:AF70)","v":0},{"$f":"SUM($G70:AG70)","v":0},{"$f":"SUM($G70:AH70)","v":0},{"$f":"SUM($G70:AI70)","v":0},{"$f":"SUM($G70:AJ70)","v":1},{"$f":"SUM($G70:AK70)","v":1},{"$f":"SUM($G70:AL70)","v":1},{"$f":"SUM($G70:AM70)","v":1},{"$f":"SUM($G70:AN70)","v":1}]
[79,"Roer","Bruttoudbytte (høsttid)",null,null,null,{"$f":"SUM($G70:G70)","v":0},{"$f":"SUM($G70:H70)","v":0},{"$f":"SUM($G70:I70)","v":0},{"$f":"SUM($G70:J70)","v":0},{"$f":"SUM($G70:K70)","v":0},{"$f":"SUM($G70:L70)","v":0},{"$f":"SUM($G70:M70)","v":0},{"$f":"SUM($G70:N70)","v":0},{"$f":"SUM($G70:O70)","v":0},{"$f":"SUM($G70:P70)","v":0},{"$f":"SUM($G70:Q70)","v":0},{"$f":"SUM($G70:R70)","v":0},{"$f":"SUM($G70:S70)","v":0},{"$f":"SUM($G70:T70)","v":0},{"$f":"SUM($G70:U70)","v":0},{"$f":"SUM($G70:V70)","v":0},{"$f":"SUM($G70:W70)","v":0},{"$f":"SUM($G70:X70)","v":0},{"$f":"SUM($G70:Y70)","v":0},{"$f":"SUM($G70:Z70)","v":0},{"$f":"SUM($G70:AA70)","v":0},{"$f":"SUM($G70:AB70)","v":0},{"$f":"SUM($G70:AC70)","v":0},{"$f":"SUM($G70:AD70)","v":0},{"$f":"SUM($G70:AE70)","v":0},{"$f":"SUM($G70:AF70)","v":0},{"$f":"SUM($G70:AG70)","v":0},{"$f":"SUM($G70:AH70)","v":0},{"$f":"SUM($G70:AI70)","v":0},{"$f":"SUM($G70:AJ70)","v":1},{"$f":"SUM($G70:AK70)","v":1},{"$f":"SUM($G70:AL70)","v":1},{"$f":"SUM($G70:AM70)","v":1},{"$f":"SUM($G70:AN70)","v":1}]
[80,"Vinterraps","Pløjning",1,null,725,0.75,0.25]
[81,"Vinterraps","Jorbearb. Før såning",1,null,null,0.75,0.25]
[82,"Vinterraps","Afgrødeetabl. (såning, lægning o.l.)",1,null,400,0.75,0.25]
[83,"Vinterraps","Gødskning (handelsgødning)",3,null,200,null,null,null,0.2,null,null,null,null,null,null,null,null,null,null,0.4,null,0.4]
[84,"Vinterraps","Planteværn",6,null,840,null,null,0.2,null,0.2,null,0.2,null,null,null,null,null,null,null,null,null,6.5000000000000002E-2,6.5000000000000002E-2,0.13500000000000001,0.13500000000000001]
[85,"Vinterraps","Høst og hjemkørsel",1,null,{"$f":"980+445","v":1425},null,null,null,null,null,null,null,null,null,null,null,null,null,null,null,null,null,null,null,null,null,null,null,null,1]
[86,"Vinterraps","Maskinomkostninger ",null,null,{"$f":"SUM(F80:F85)","v":3590},{"$f":"($F80*G80+$F81*G81+$F82*G82+$F83*G83+$F84*G84+$F85*G85)/$F86","v":0.23502785515320335},{"$f":"($F80*H80+$F81*H81+$F82*H82+$F83*H83+$F84*H84+$F85*H85)/$F86","v":7.8342618384401111E-2},4.6796657381615599E-2,1.1142061281337047E-2,4.6796657381615599E-2,0,4.6796657381615599E-2,0,0,0,0,0,0,0,2.2284122562674095E-2,0,3.7493036211699166E-2,1.5208913649025071E-2,3.1587743732590531E-2,3.1587743732590531E-2,0,0,0,0,0.39693593314763231,0,0,0,0,0,0,0,0,0]
[87,"Vinterraps","Maskinomkostninger summeret",null,null,null,{"$f":"SUM($G86:G86)","v":0.23502785515320335},{"$f":"SUM($G86:H86)","v":0.31337047353760444},{"$f":"SUM($G86:I86)","v":0.36016713091922004},{"$f":"SUM($G86:J86)","v":0.37130919220055708},{"$f":"SUM($G86:K86)","v":0.41810584958217267},{"$f":"SUM($G86:L86)","v":0.41810584958217267},{"$f":"SUM($G86:M86)","v":0.46490250696378826},{"$f":"SUM($G86:N86)","v":0.46490250696378826},{"$f":"SUM($G86:O86)","v":0.46490250696378826},{"$f":"SUM($G86:P86)","v":0.46490250696378826},{"$f":"SUM($G86:Q86)","v":0.46490250696378826},{"$f":"SUM($G86:R86)","v":0.46490250696378826},{"$f":"SUM($G86:S86)","v":0.46490250696378826},{"$f":"SUM($G86:T86)","v":0.46490250696378826},{"$f":"SUM($G86:U86)","v":0.48718662952646236},{"$f":"SUM($G86:V86)","v":0.48718662952646236},{"$f":"SUM($G86:W86)","v":0.52467966573816149},{"$f":"SUM($G86:X86)","v":0.5398885793871866},{"$f":"SUM($G86:Y86)","v":0.57147632311977714},{"$f":"SUM($G86:Z86)","v":0.60306406685236769},{"$f":"SUM($G86:AA86)","v":0.60306406685236769},{"$f":"SUM($G86:AB86)","v":0.60306406685236769},{"$f":"SUM($G86:AC86)","v":0.60306406685236769},{"$f":"SUM($G86:AD86)","v":0.60306406685236769},{"$f":"SUM($G86:AE86)","v":1},{"$f":"SUM($G86:AF86)","v":1},{"$f":"SUM($G86:AG86)","v":1},{"$f":"SUM($G86:AH86)","v":1},{"$f":"SUM($G86:AI86)","v":1},{"$f":"SUM($G86:AJ86)","v":1},{"$f":"SUM($G86:AK86)","v":1},{"$f":"SUM($G86:AL86)","v":1},{"$f":"SUM($G86:AM86)","v":1},{"$f":"SUM($G86:AN86)","v":1}]
[88,"Vinterraps","Maskinomkostninger excl. Etablering",null,null,{"$f":"SUM(F83:F85)","v":2465},{"$f":"($F83*G83+$F84*G84+$F85*G85)/$F88","v":0},{"$f":"($F83*H83+$F84*H84+$F85*H85)/$F88","v":0},6.8154158215010141E-2,1.6227180527383367E-2,6.8154158215010141E-2,0,6.8154158215010141E-2,0,0,0,0,0,0,0,3.2454361054766734E-2,0,5.4604462474645031E-2,2.2150101419878297E-2,4.6004056795131851E-2,4.6004056795131851E-2,0,0,0,0,0.57809330628803246,0,0,0,0,0,0,0,0,0]
[89,"Vinterraps","Maskinomkostninger summeret excl. Etablering",null,null,null,{"$f":"SUM($G88:G88)","v":0},{"$f":"SUM($G88:H88)","v":0},{"$f":"SUM($G88:I88)","v":6.8154158215010141E-2},{"$f":"SUM($G88:J88)","v":8.4381338742393508E-2},{"$f":"SUM($G88:K88)","v":0.15253549695740365},{"$f":"SUM($G88:L88)","v":0.15253549695740365},{"$f":"SUM($G88:M88)","v":0.22068965517241379},{"$f":"SUM($G88:N88)","v":0.22068965517241379},{"$f":"SUM($G88:O88)","v":0.22068965517241379},{"$f":"SUM($G88:P88)","v":0.22068965517241379},{"$f":"SUM($G88:Q88)","v":0.22068965517241379},{"$f":"SUM($G88:R88)","v":0.22068965517241379},{"$f":"SUM($G88:S88)","v":0.22068965517241379},{"$f":"SUM($G88:T88)","v":0.22068965517241379},{"$f":"SUM($G88:U88)","v":0.25314401622718052},{"$f":"SUM($G88:V88)","v":0.25314401622718052},{"$f":"SUM($G88:W88)","v":0.30774847870182553},{"$f":"SUM($G88:X88)","v":0.32989858012170381},{"$f":"SUM($G88:Y88)","v":0.37590263691683568},{"$f":"SUM($G88:Z88)","v":0.42190669371196754},{"$f":"SUM($G88:AA88)","v":0.42190669371196754},{"$f":"SUM($G88:AB88)","v":0.42190669371196754},{"$f":"SUM($G88:AC88)","v":0.42190669371196754},{"$f":"SUM($G88:AD88)","v":0.42190669371196754},{"$f":"SUM($G88:AE88)","v":1},{"$f":"SUM($G88:AF88)","v":1},{"$f":"SUM($G88:AG88)","v":1},{"$f":"SUM($G88:AH88)","v":1},{"$f":"SUM($G88:AI88)","v":1},{"$f":"SUM($G88:AJ88)","v":1},{"$f":"SUM($G88:AK88)","v":1},{"$f":"SUM($G88:AL88)","v":1},{"$f":"SUM($G88:AM88)","v":1},{"$f":"SUM($G88:AN88)","v":1}]
[90,"Vinterraps","Udsæd",null,null,null,{"$f":"SUM($G82:G82)","v":0.75},{"$f":"SUM($G82:H82)","v":1},{"$f":"SUM($G82:I82)","v":1},{"$f":"SUM($G82:J82)","v":1},{"$f":"SUM($G82:K82)","v":1},{"$f":"SUM($G82:L82)","v":1},{"$f":"SUM($G82:M82)","v":1},{"$f":"SUM($G82:N82)","v":1},{"$f":"SUM($G82:O82)","v":1},{"$f":"SUM($G82:P82)","v":1},{"$f":"SUM($G82:Q82)","v":1},{"$f":"SUM($G82:R82)","v":1},{"$f":"SUM($G82:S82)","v":1},{"$f":"SUM($G82:T82)","v":1},{"$f":"SUM($G82:U82)","v":1},{"$f":"SUM($G82:V82)","v":1},{"$f":"SUM($G82:W82)","v":1},{"$f":"SUM($G82:X82)","v":1},{"$f":"SUM($G82:Y82)","v":1},{"$f":"SUM($G82:Z82)","v":1},{"$f":"SUM($G82:AA82)","v":1},{"$f":"SUM($G82:AB82)","v":1},{"$f":"SUM($G82:AC82)","v":1},{"$f":"SUM($G82:AD82)","v":1},{"$f":"SUM($G82:AE82)","v":1},{"$f":"SUM($G82:AF82)","v":1},{"$f":"SUM($G82:AG82)","v":1},{"$f":"SUM($G82:AH82)","v":1},{"$f":"SUM($G82:AI82)","v":1},{"$f":"SUM($G82:AJ82)","v":1},{"$f":"SUM($G82:AK82)","v":1},{"$f":"SUM($G82:AL82)","v":1},{"$f":"SUM($G82:AM82)","v":1},{"$f":"SUM($G82:AN82)","v":1}]
[91,"Vinterraps","Gødning",null,null,null,{"$f":"SUM($G83:G83)","v":0},{"$f":"SUM($G83:H83)","v":0},{"$f":"SUM($G83:I83)","v":0},{"$f":"SUM($G83:J83)","v":0.2},{"$f":"SUM($G83:K83)","v":0.2},{"$f":"SUM($G83:L83)","v":0.2},{"$f":"SUM($G83:M83)","v":0.2},{"$f":"SUM($G83:N83)","v":0.2},{"$f":"SUM($G83:O83)","v":0.2},{"$f":"SUM($G83:P83)","v":0.2},{"$f":"SUM($G83:Q83)","v":0.2},{"$f":"SUM($G83:R83)","v":0.2},{"$f":"SUM($G83:S83)","v":0.2},{"$f":"SUM($G83:T83)","v":0.2},{"$f":"SUM($G83:U83)","v":0.60000000000000009},{"$f":"SUM($G83:V83)","v":0.60000000000000009},{"$f":"SUM($G83:W83)","v":1},{"$f":"SUM($G83:X83)","v":1},{"$f":"SUM($G83:Y83)","v":1},{"$f":"SUM($G83:Z83)","v":1},{"$f":"SUM($G83:AA83)","v":1},{"$f":"SUM($G83:AB83)","v":1},{"$f":"SUM($G83:AC83)","v":1},{"$f":"SUM($G83:AD83)","v":1},{"$f":"SUM($G83:AE83)","v":1},{"$f":"SUM($G83:AF83)","v":1},{"$f":"SUM($G83:AG83)","v":1},{"$f":"SUM($G83:AH83)","v":1},{"$f":"SUM($G83:AI83)","v":1},{"$f":"SUM($G83:AJ83)","v":1},{"$f":"SUM($G83:AK83)","v":1},{"$f":"SUM($G83:AL83)","v":1},{"$f":"SUM($G83:AM83)","v":1},{"$f":"SUM($G83:AN83)","v":1}]
[92,"Vinterraps","Planteværn",null,null,null,{"$f":"SUM($G84:G84)","v":0},{"$f":"SUM($G84:H84)","v":0},{"$f":"SUM($G84:I84)","v":0.2},{"$f":"SUM($G84:J84)","v":0.2},{"$f":"SUM($G84:K84)","v":0.4},{"$f":"SUM($G84:L84)","v":0.4},{"$f":"SUM($G84:M84)","v":0.60000000000000009},{"$f":"SUM($G84:N84)","v":0.60000000000000009},{"$f":"SUM($G84:O84)","v":0.60000000000000009},{"$f":"SUM($G84:P84)","v":0.60000000000000009},{"$f":"SUM($G84:Q84)","v":0.60000000000000009},{"$f":"SUM($G84:R84)","v":0.60000000000000009},{"$f":"SUM($G84:S84)","v":0.60000000000000009},{"$f":"SUM($G84:T84)","v":0.60000000000000009},{"$f":"SUM($G84:U84)","v":0.60000000000000009},{"$f":"SUM($G84:V84)","v":0.60000000000000009},{"$f":"SUM($G84:W84)","v":0.66500000000000004},{"$f":"SUM($G84:X84)","v":0.73},{"$f":"SUM($G84:Y84)","v":0.86499999999999999},{"$f":"SUM($G84:Z84)","v":1},{"$f":"SUM($G84:AA84)","v":1},{"$f":"SUM($G84:AB84)","v":1},{"$f":"SUM($G84:AC84)","v":1},{"$f":"SUM($G84:AD84)","v":1},{"$f":"SUM($G84:AE84)","v":1},{"$f":"SUM($G84:AF84)","v":1},{"$f":"SUM($G84:AG84)","v":1},{"$f":"SUM($G84:AH84)","v":1},{"$f":"SUM($G84:AI84)","v":1},{"$f":"SUM($G84:AJ84)","v":1},{"$f":"SUM($G84:AK84)","v":1},{"$f":"SUM($G84:AL84)","v":1},{"$f":"SUM($G84:AM84)","v":1},{"$f":"SUM($G84:AN84)","v":1}]
[93,"Vinterraps","Diverse stykomkostninger",null,null,null,{"$f":"SUM($G85:G85)","v":0},{"$f":"SUM($G85:H85)","v":0},{"$f":"SUM($G85:I85)","v":0},{"$f":"SUM($G85:J85)","v":0},{"$f":"SUM($G85:K85)","v":0},{"$f":"SUM($G85:L85)","v":0},{"$f":"SUM($G85:M85)","v":0},{"$f":"SUM($G85:N85)","v":0},{"$f":"SUM($G85:O85)","v":0},{"$f":"SUM($G85:P85)","v":0},{"$f":"SUM($G85:Q85)","v":0},{"$f":"SUM($G85:R85)","v":0},{"$f":"SUM($G85:S85)","v":0},{"$f":"SUM($G85:T85)","v":0},{"$f":"SUM($G85:U85)","v":0},{"$f":"SUM($G85:V85)","v":0},{"$f":"SUM($G85:W85)","v":0},{"$f":"SUM($G85:X85)","v":0},{"$f":"SUM($G85:Y85)","v":0},{"$f":"SUM($G85:Z85)","v":0},{"$f":"SUM($G85:AA85)","v":0},{"$f":"SUM($G85:AB85)","v":0},{"$f":"SUM($G85:AC85)","v":0},{"$f":"SUM($G85:AD85)","v":0},{"$f":"SUM($G85:AE85)","v":1},{"$f":"SUM($G85:AF85)","v":1},{"$f":"SUM($G85:AG85)","v":1},{"$f":"SUM($G85:AH85)","v":1},{"$f":"SUM($G85:AI85)","v":1},{"$f":"SUM($G85:AJ85)","v":1},{"$f":"SUM($G85:AK85)","v":1},{"$f":"SUM($G85:AL85)","v":1},{"$f":"SUM($G85:AM85)","v":1},{"$f":"SUM($G85:AN85)","v":1}]
[94,"Vinterraps","Bruttoudbytte (høsttid)",null,null,null,{"$f":"SUM($G85:G85)","v":0},{"$f":"SUM($G85:H85)","v":0},{"$f":"SUM($G85:I85)","v":0},{"$f":"SUM($G85:J85)","v":0},{"$f":"SUM($G85:K85)","v":0},{"$f":"SUM($G85:L85)","v":0},{"$f":"SUM($G85:M85)","v":0},{"$f":"SUM($G85:N85)","v":0},{"$f":"SUM($G85:O85)","v":0},{"$f":"SUM($G85:P85)","v":0},{"$f":"SUM($G85:Q85)","v":0},{"$f":"SUM($G85:R85)","v":0},{"$f":"SUM($G85:S85)","v":0},{"$f":"SUM($G85:T85)","v":0},{"$f":"SUM($G85:U85)","v":0},{"$f":"SUM($G85:V85)","v":0},{"$f":"SUM($G85:W85)","v":0},{"$f":"SUM($G85:X85)","v":0},{"$f":"SUM($G85:Y85)","v":0},{"$f":"SUM($G85:Z85)","v":0},{"$f":"SUM($G85:AA85)","v":0},{"$f":"SUM($G85:AB85)","v":0},{"$f":"SUM($G85:AC85)","v":0},{"$f":"SUM($G85:AD85)","v":0},{"$f":"SUM($G85:AE85)","v":1},{"$f":"SUM($G85:AF85)","v":1},{"$f":"SUM($G85:AG85)","v":1},{"$f":"SUM($G85:AH85)","v":1},{"$f":"SUM($G85:AI85)","v":1},{"$f":"SUM($G85:AJ85)","v":1},{"$f":"SUM($G85:AK85)","v":1},{"$f":"SUM($G85:AL85)","v":1},{"$f":"SUM($G85:AM85)","v":1},{"$f":"SUM($G85:AN85)","v":1}]
[95,"Vinterbyg","Pløjning",1,null,725,null,0.5,0.5]
[96,"Vinterbyg","Jorbearb. Før såning",1,null,null,null,0.5,0.5]
[97,"Vinterbyg","Afgrødeetabl. (såning, lægning o.l.)",1,null,400,null,null,1]
[98,"Vinterbyg","Gødskning (handelsgødning)",1,null,100,null,null,null,null,null,null,null,null,null,null,null,null,null,null,null,{"$f":"1/D98","v":1}]
[99,"Vinterbyg","Planteværn",4,null,560,null,null,null,null,0.25,null,null,null,null,null,null,null,null,null,null,null,{"$f":"0.5/D99","v":0.125},{"$f":"0.5/D99","v":0.125},{"$f":"1/D99","v":0.25},{"$f":"1/D99","v":0.25}]
[100,"Vinterbyg","Høst og hjemkørsel",1,null,{"$f":"963+438","v":1401},null,null,null,null,null,null,null,null,null,null,null,null,null,null,null,null,null,null,null,null,null,null,null,1]
[101,"Vinterbyg","Presning og hjemkørsel",1,null,{"$f":"702+259","v":961},null,null,null,null,null,null,null,null,null,null,null,null,null,null,null,null,null,null,null,null,null,null,null,1]
[102,"Vinterbyg","Maskinomkostninger excl. Presning",null,null,{"$f":"SUM(F95:F100)","v":3186},{"$f":"($F95*G95+$F96*G96+$F97*G97+$F98*G98+$F99*G99+$F100*G100)/$F102","v":0},{"$f":"($F95*H95+$F96*H96+$F97*H97+$F98*H98+$F99*H99+$F100*H100)/$F102","v":0.11377903327055869},0.23932831136220967,0,4.3942247332077841E-2,0,0,0,0,0,0,0,0,0,0,3.1387319522912745E-2,2.1971123666038921E-2,2.1971123666038921E-2,4.3942247332077841E-2,4.3942247332077841E-2,0,0,0,0.43973634651600751,0,0,0,0,0,0,0,0,0,0]
[103,"Vinterbyg","Maskinomkostninger summeret excl. Presning",null,null,null,{"$f":"SUM($G102:G102)","v":0},{"$f":"SUM($G102:H102)","v":0.11377903327055869},{"$f":"SUM($G102:I102)","v":0.35310734463276838},{"$f":"SUM($G102:J102)","v":0.35310734463276838},{"$f":"SUM($G102:K102)","v":0.39704959196484624},{"$f":"SUM($G102:L102)","v":0.39704959196484624},{"$f":"SUM($G102:M102)","v":0.39704959196484624},{"$f":"SUM($G102:N102)","v":0.39704959196484624},{"$f":"SUM($G102:O102)","v":0.39704959196484624},{"$f":"SUM($G102:P102)","v":0.39704959196484624},{"$f":"SUM($G102:Q102)","v":0.39704959196484624},{"$f":"SUM($G102:R102)","v":0.39704959196484624},{"$f":"SUM($G102:S102)","v":0.39704959196484624},{"$f":"SUM($G102:T102)","v":0.39704959196484624},{"$f":"SUM($G102:U102)","v":0.39704959196484624},{"$f":"SUM($G102:V102)","v":0.42843691148775898},{"$f":"SUM($G102:W102)","v":0.4504080351537979},{"$f":"SUM($G102:X102)","v":0.47237915881983683},{"$f":"SUM($G102:Y102)","v":0.51632140615191469},{"$f":"SUM($G102:Z102)","v":0.56026365348399254},{"$f":"SUM($G102:AA102)","v":0.56026365348399254},{"$f":"SUM($G102:AB102)","v":0.56026365348399254},{"$f":"SUM($G102:AC102)","v":0.56026365348399254},{"$f":"SUM($G102:AD102)","v":1},{"$f":"SUM($G102:AE102)","v":1},{"$f":"SUM($G102:AF102)","v":1},{"$f":"SUM($G102:AG102)","v":1},{"$f":"SUM($G102:AH102)","v":1},{"$f":"SUM($G102:AI102)","v":1},{"$f":"SUM($G102:AJ102)","v":1},{"$f":"SUM($G102:AK102)","v":1},{"$f":"SUM($G102:AL102)","v":1},{"$f":"SUM($G102:AM102)","v":1},{"$f":"SUM($G102:AN102)","v":1}]
[104,"Vinterbyg","Maskinomkostninger ",null,null,{"$f":"SUM(F95:F101)","v":4147},{"$f":"($F95*G95+$F96*G96+$F97*G97+$F98*G98+$F99*G99+$F100*G100+$F101*G101)/$F104","v":0},{"$f":"($F95*H95+$F96*H96+$F97*H97+$F98*H98+$F99*H99+$F100*H100+$F101*H101)/$F104","v":8.7412587412587409E-2},0.18386785628164939,0,3.3759344104171689E-2,0,0,0,0,0,0,0,0,0,0,2.4113817217265493E-2,1.6879672052085844E-2,1.6879672052085844E-2,3.3759344104171689E-2,3.3759344104171689E-2,0,0,0,0.56956836267181099,0,0,0,0,0,0,0,0,0,0]
[105,"Vinterbyg","Maskinomkostninger summeret",null,null,null,{"$f":"SUM($G104:G104)","v":0},{"$f":"SUM($G104:H104)","v":8.7412587412587409E-2},{"$f":"SUM($G104:I104)","v":0.27128044369423682},{"$f":"SUM($G104:J104)","v":0.27128044369423682},{"$f":"SUM($G104:K104)","v":0.30503978779840851},{"$f":"SUM($G104:L104)","v":0.30503978779840851},{"$f":"SUM($G104:M104)","v":0.30503978779840851},{"$f":"SUM($G104:N104)","v":0.30503978779840851},{"$f":"SUM($G104:O104)","v":0.30503978779840851},{"$f":"SUM($G104:P104)","v":0.30503978779840851},{"$f":"SUM($G104:Q104)","v":0.30503978779840851},{"$f":"SUM($G104:R104)","v":0.30503978779840851},{"$f":"SUM($G104:S104)","v":0.30503978779840851},{"$f":"SUM($G104:T104)","v":0.30503978779840851},{"$f":"SUM($G104:U104)","v":0.30503978779840851},{"$f":"SUM($G104:V104)","v":0.32915360501567403},{"$f":"SUM($G104:W104)","v":0.34603327706775988},{"$f":"SUM($G104:X104)","v":0.36291294911984573},{"$f":"SUM($G104:Y104)","v":0.39667229322401742},{"$f":"SUM($G104:Z104)","v":0.43043163732818912},{"$f":"SUM($G104:AA104)","v":0.43043163732818912},{"$f":"SUM($G104:AB104)","v":0.43043163732818912},{"$f":"SUM($G104:AC104)","v":0.43043163732818912},{"$f":"SUM($G104:AD104)","v":1},{"$f":"SUM($G104:AE104)","v":1},{"$f":"SUM($G104:AF104)","v":1},{"$f":"SUM($G104:AG104)","v":1},{"$f":"SUM($G104:AH104)","v":1},{"$f":"SUM($G104:AI104)","v":1},{"$f":"SUM($G104:AJ104)","v":1},{"$f":"SUM($G104:AK104)","v":1},{"$f":"SUM($G104:AL104)","v":1},{"$f":"SUM($G104:AM104)","v":1},{"$f":"SUM($G104:AN104)","v":1}]
[106,"Vinterbyg","Maskinomkostninger excl. Etablering excl. Presning",null,null,{"$f":"SUM(F98:F100)","v":2061},{"$f":"($F98*G98+$F99*G99+$F100*G100)/$F106","v":0},{"$f":"($F98*H98+$F99*H99+$F100*H100)/$F106","v":0},0,0,6.792819019893255E-2,0,0,0,0,0,0,0,0,0,0,4.8520135856380396E-2,3.3964095099466275E-2,3.3964095099466275E-2,6.792819019893255E-2,6.792819019893255E-2,0,0,0,0.67976710334788937,0,0,0,0,0,0,0,0,0,0]
[107,"Vinterbyg","Maskinomkostninger summeret excl. Etablering excl. Presning",null,null,null,{"$f":"SUM($G106:G106)","v":0},{"$f":"SUM($G106:H106)","v":0},{"$f":"SUM($G106:I106)","v":0},{"$f":"SUM($G106:J106)","v":0},{"$f":"SUM($G106:K106)","v":6.792819019893255E-2},{"$f":"SUM($G106:L106)","v":6.792819019893255E-2},{"$f":"SUM($G106:M106)","v":6.792819019893255E-2},{"$f":"SUM($G106:N106)","v":6.792819019893255E-2},{"$f":"SUM($G106:O106)","v":6.792819019893255E-2},{"$f":"SUM($G106:P106)","v":6.792819019893255E-2},{"$f":"SUM($G106:Q106)","v":6.792819019893255E-2},{"$f":"SUM($G106:R106)","v":6.792819019893255E-2},{"$f":"SUM($G106:S106)","v":6.792819019893255E-2},{"$f":"SUM($G106:T106)","v":6.792819019893255E-2},{"$f":"SUM($G106:U106)","v":6.792819019893255E-2},{"$f":"SUM($G106:V106)","v":0.11644832605531294},{"$f":"SUM($G106:W106)","v":0.15041242115477921},{"$f":"SUM($G106:X106)","v":0.18437651625424548},{"$f":"SUM($G106:Y106)","v":0.25230470645317804},{"$f":"SUM($G106:Z106)","v":0.32023289665211058},{"$f":"SUM($G106:AA106)","v":0.32023289665211058},{"$f":"SUM($G106:AB106)","v":0.32023289665211058},{"$f":"SUM($G106:AC106)","v":0.32023289665211058},{"$f":"SUM($G106:AD106)","v":1},{"$f":"SUM($G106:AE106)","v":1},{"$f":"SUM($G106:AF106)","v":1},{"$f":"SUM($G106:AG106)","v":1},{"$f":"SUM($G106:AH106)","v":1},{"$f":"SUM($G106:AI106)","v":1},{"$f":"SUM($G106:AJ106)","v":1},{"$f":"SUM($G106:AK106)","v":1},{"$f":"SUM($G106:AL106)","v":1},{"$f":"SUM($G106:AM106)","v":1},{"$f":"SUM($G106:AN106)","v":1}]
[108,"Vinterbyg","Maskinomkostninger excl. Etablering",null,null,{"$f":"SUM(F98:F101)","v":3022},{"$f":"($F98*G98+$F99*G99+$F100*G100+$F101*G101)/$F108","v":0},{"$f":"($F98*H98+$F99*H99+$F100*H100+$F101*H101)/$F108","v":0},0,0,4.6326935804103242E-2,0,0,0,0,0,0,0,0,0,0,3.3090668431502317E-2,2.3163467902051621E-2,2.3163467902051621E-2,4.6326935804103242E-2,4.6326935804103242E-2,0,0,0,0.78160158835208471,0,0,0,0,0,0,0,0,0,0]
[109,"Vinterbyg","Maskinomkostninger summeret excl. Etablering",null,null,null,{"$f":"SUM($G108:G108)","v":0},{"$f":"SUM($G108:H108)","v":0},{"$f":"SUM($G108:I108)","v":0},{"$f":"SUM($G108:J108)","v":0},{"$f":"SUM($G108:K108)","v":4.6326935804103242E-2},{"$f":"SUM($G108:L108)","v":4.6326935804103242E-2},{"$f":"SUM($G108:M108)","v":4.6326935804103242E-2},{"$f":"SUM($G108:N108)","v":4.6326935804103242E-2},{"$f":"SUM($G108:O108)","v":4.6326935804103242E-2},{"$f":"SUM($G108:P108)","v":4.6326935804103242E-2},{"$f":"SUM($G108:Q108)","v":4.6326935804103242E-2},{"$f":"SUM($G108:R108)","v":4.6326935804103242E-2},{"$f":"SUM($G108:S108)","v":4.6326935804103242E-2},{"$f":"SUM($G108:T108)","v":4.6326935804103242E-2},{"$f":"SUM($G108:U108)","v":4.6326935804103242E-2},{"$f":"SUM($G108:V108)","v":7.9417604235605566E-2},{"$f":"SUM($G108:W108)","v":0.10258107213765719},{"$f":"SUM($G108:X108)","v":0.12574454003970881},{"$f":"SUM($G108:Y108)","v":0.17207147584381205},{"$f":"SUM($G108:Z108)","v":0.21839841164791529},{"$f":"SUM($G108:AA108)","v":0.21839841164791529},{"$f":"SUM($G108:AB108)","v":0.21839841164791529},{"$f":"SUM($G108:AC108)","v":0.21839841164791529},{"$f":"SUM($G108:AD108)","v":1},{"$f":"SUM($G108:AE108)","v":1},{"$f":"SUM($G108:AF108)","v":1},{"$f":"SUM($G108:AG108)","v":1},{"$f":"SUM($G108:AH108)","v":1},{"$f":"SUM($G108:AI108)","v":1},{"$f":"SUM($G108:AJ108)","v":1},{"$f":"SUM($G108:AK108)","v":1},{"$f":"SUM($G108:AL108)","v":1},{"$f":"SUM($G108:AM108)","v":1},{"$f":"SUM($G108:AN108)","v":1}]
[110,"Vinterbyg","Udsæd",null,null,null,{"$f":"SUM($G97:G97)","v":0},{"$f":"SUM($G97:H97)","v":0},{"$f":"SUM($G97:I97)","v":1},{"$f":"SUM($G97:J97)","v":1},{"$f":"SUM($G97:K97)","v":1},{"$f":"SUM($G97:L97)","v":1},{"$f":"SUM($G97:M97)","v":1},{"$f":"SUM($G97:N97)","v":1},{"$f":"SUM($G97:O97)","v":1},{"$f":"SUM($G97:P97)","v":1},{"$f":"SUM($G97:Q97)","v":1},{"$f":"SUM($G97:R97)","v":1},{"$f":"SUM($G97:S97)","v":1},{"$f":"SUM($G97:T97)","v":1},{"$f":"SUM($G97:U97)","v":1},{"$f":"SUM($G97:V97)","v":1},{"$f":"SUM($G97:W97)","v":1},{"$f":"SUM($G97:X97)","v":1},{"$f":"SUM($G97:Y97)","v":1},{"$f":"SUM($G97:Z97)","v":1},{"$f":"SUM($G97:AA97)","v":1},{"$f":"SUM($G97:AB97)","v":1},{"$f":"SUM($G97:AC97)","v":1},{"$f":"SUM($G97:AD97)","v":1},{"$f":"SUM($G97:AE97)","v":1},{"$f":"SUM($G97:AF97)","v":1},{"$f":"SUM($G97:AG97)","v":1},{"$f":"SUM($G97:AH97)","v":1},{"$f":"SUM($G97:AI97)","v":1},{"$f":"SUM($G97:AJ97)","v":1},{"$f":"SUM($G97:AK97)","v":1},{"$f":"SUM($G97:AL97)","v":1},{"$f":"SUM($G97:AM97)","v":1},{"$f":"SUM($G97:AN97)","v":1}]
[111,"Vinterbyg","Gødning",null,null,null,{"$f":"SUM($G98:G98)","v":0},{"$f":"SUM($G98:H98)","v":0},{"$f":"SUM($G98:I98)","v":0},{"$f":"SUM($G98:J98)","v":0},{"$f":"SUM($G98:K98)","v":0},{"$f":"SUM($G98:L98)","v":0},{"$f":"SUM($G98:M98)","v":0},{"$f":"SUM($G98:N98)","v":0},{"$f":"SUM($G98:O98)","v":0},{"$f":"SUM($G98:P98)","v":0},{"$f":"SUM($G98:Q98)","v":0},{"$f":"SUM($G98:R98)","v":0},{"$f":"SUM($G98:S98)","v":0},{"$f":"SUM($G98:T98)","v":0},{"$f":"SUM($G98:U98)","v":0},{"$f":"SUM($G98:V98)","v":1},{"$f":"SUM($G98:W98)","v":1},{"$f":"SUM($G98:X98)","v":1},{"$f":"SUM($G98:Y98)","v":1},{"$f":"SUM($G98:Z98)","v":1},{"$f":"SUM($G98:AA98)","v":1},{"$f":"SUM($G98:AB98)","v":1},{"$f":"SUM($G98:AC98)","v":1},{"$f":"SUM($G98:AD98)","v":1},{"$f":"SUM($G98:AE98)","v":1},{"$f":"SUM($G98:AF98)","v":1},{"$f":"SUM($G98:AG98)","v":1},{"$f":"SUM($G98:AH98)","v":1},{"$f":"SUM($G98:AI98)","v":1},{"$f":"SUM($G98:AJ98)","v":1},{"$f":"SUM($G98:AK98)","v":1},{"$f":"SUM($G98:AL98)","v":1},{"$f":"SUM($G98:AM98)","v":1},{"$f":"SUM($G98:AN98)","v":1}]
[112,"Vinterbyg","Planteværn",null,null,null,{"$f":"SUM($G99:G99)","v":0},{"$f":"SUM($G99:H99)","v":0},{"$f":"SUM($G99:I99)","v":0},{"$f":"SUM($G99:J99)","v":0},{"$f":"SUM($G99:K99)","v":0.25},{"$f":"SUM($G99:L99)","v":0.25},{"$f":"SUM($G99:M99)","v":0.25},{"$f":"SUM($G99:N99)","v":0.25},{"$f":"SUM($G99:O99)","v":0.25},{"$f":"SUM($G99:P99)","v":0.25},{"$f":"SUM($G99:Q99)","v":0.25},{"$f":"SUM($G99:R99)","v":0.25},{"$f":"SUM($G99:S99)","v":0.25},{"$f":"SUM($G99:T99)","v":0.25},{"$f":"SUM($G99:U99)","v":0.25},{"$f":"SUM($G99:V99)","v":0.25},{"$f":"SUM($G99:W99)","v":0.375},{"$f":"SUM($G99:X99)","v":0.5},{"$f":"SUM($G99:Y99)","v":0.75},{"$f":"SUM($G99:Z99)","v":1},{"$f":"SUM($G99:AA99)","v":1},{"$f":"SUM($G99:AB99)","v":1},{"$f":"SUM($G99:AC99)","v":1},{"$f":"SUM($G99:AD99)","v":1},{"$f":"SUM($G99:AE99)","v":1},{"$f":"SUM($G99:AF99)","v":1},{"$f":"SUM($G99:AG99)","v":1},{"$f":"SUM($G99:AH99)","v":1},{"$f":"SUM($G99:AI99)","v":1},{"$f":"SUM($G99:AJ99)","v":1},{"$f":"SUM($G99:AK99)","v":1},{"$f":"SUM($G99:AL99)","v":1},{"$f":"SUM($G99:AM99)","v":1},{"$f":"SUM($G99:AN99)","v":1}]
[113,"Vinterbyg","Diverse stykomkostninger",null,null,null,{"$f":"SUM($G100:G100)","v":0},{"$f":"SUM($G100:H100)","v":0},{"$f":"SUM($G100:I100)","v":0},{"$f":"SUM($G100:J100)","v":0},{"$f":"SUM($G100:K100)","v":0},{"$f":"SUM($G100:L100)","v":0},{"$f":"SUM($G100:M100)","v":0},{"$f":"SUM($G100:N100)","v":0},{"$f":"SUM($G100:O100)","v":0},{"$f":"SUM($G100:P100)","v":0},{"$f":"SUM($G100:Q100)","v":0},{"$f":"SUM($G100:R100)","v":0},{"$f":"SUM($G100:S100)","v":0},{"$f":"SUM($G100:T100)","v":0},{"$f":"SUM($G100:U100)","v":0},{"$f":"SUM($G100:V100)","v":0},{"$f":"SUM($G100:W100)","v":0},{"$f":"SUM($G100:X100)","v":0},{"$f":"SUM($G100:Y100)","v":0},{"$f":"SUM($G100:Z100)","v":0},{"$f":"SUM($G100:AA100)","v":0},{"$f":"SUM($G100:AB100)","v":0},{"$f":"SUM($G100:AC100)","v":0},{"$f":"SUM($G100:AD100)","v":1},{"$f":"SUM($G100:AE100)","v":1},{"$f":"SUM($G100:AF100)","v":1},{"$f":"SUM($G100:AG100)","v":1},{"$f":"SUM($G100:AH100)","v":1},{"$f":"SUM($G100:AI100)","v":1},{"$f":"SUM($G100:AJ100)","v":1},{"$f":"SUM($G100:AK100)","v":1},{"$f":"SUM($G100:AL100)","v":1},{"$f":"SUM($G100:AM100)","v":1},{"$f":"SUM($G100:AN100)","v":1}]
[114,"Vinterbyg","Bruttoudbytte (høsttid)",null,null,null,{"$f":"SUM($G101:G101)","v":0},{"$f":"SUM($G101:H101)","v":0},{"$f":"SUM($G101:I101)","v":0},{"$f":"SUM($G101:J101)","v":0},{"$f":"SUM($G101:K101)","v":0},{"$f":"SUM($G101:L101)","v":0},{"$f":"SUM($G101:M101)","v":0},{"$f":"SUM($G101:N101)","v":0},{"$f":"SUM($G101:O101)","v":0},{"$f":"SUM($G101:P101)","v":0},{"$f":"SUM($G101:Q101)","v":0},{"$f":"SUM($G101:R101)","v":0},{"$f":"SUM($G101:S101)","v":0},{"$f":"SUM($G101:T101)","v":0},{"$f":"SUM($G101:U101)","v":0},{"$f":"SUM($G101:V101)","v":0},{"$f":"SUM($G101:W101)","v":0},{"$f":"SUM($G101:X101)","v":0},{"$f":"SUM($G101:Y101)","v":0},{"$f":"SUM($G101:Z101)","v":0},{"$f":"SUM($G101:AA101)","v":0},{"$f":"SUM($G101:AB101)","v":0},{"$f":"SUM($G101:AC101)","v":0},{"$f":"SUM($G101:AD101)","v":1},{"$f":"SUM($G101:AE101)","v":1},{"$f":"SUM($G101:AF101)","v":1},{"$f":"SUM($G101:AG101)","v":1},{"$f":"SUM($G101:AH101)","v":1},{"$f":"SUM($G101:AI101)","v":1},{"$f":"SUM($G101:AJ101)","v":1},{"$f":"SUM($G101:AK101)","v":1},{"$f":"SUM($G101:AL101)","v":1},{"$f":"SUM($G101:AM101)","v":1},{"$f":"SUM($G101:AN101)","v":1}]
[115,"Vinterhvede","Pløjning",1,null,725,null,0.25,0.5,0.25]
[116,"Vinterhvede","Jorbearb. Før såning",1,null,null,null,0.25,0.5,0.25]
[117,"Vinterhvede","Afgrødeetabl. (såning, lægning o.l.)",1,null,400,null,null,0.5,0.5]
[118,"Vinterhvede","Gødskning (handelsgødning)",2,null,200,null,null,null,null,null,null,null,null,null,null,null,null,null,null,null,{"$f":"1/D118","v":0.5},null,{"$f":"1/D118","v":0.5}]
[119,"Vinterhvede","Planteværn",5,null,700,null,null,null,null,0.2,null,null,null,null,null,null,null,null,null,null,null,{"$f":"0.5/D119","v":0.1},{"$f":"0.5/D119","v":0.1},{"$f":"0.5/D119","v":0.1},{"$f":"0.5/D119","v":0.1},{"$f":"1/D119","v":0.2},{"$f":"1/D119","v":0.2}]
[120,"Vinterhvede","Høst og hjemkørsel",1,null,{"$f":"1093+497","v":1590},null,null,null,null,null,null,null,null,null,null,null,null,null,null,null,null,null,null,null,null,null,null,null,null,1]
[121,"Vinterhvede","Presning og hjemkørsel",1,null,{"$f":"864+293","v":1157},null,null,null,null,null,null,null,null,null,null,null,null,null,null,null,null,null,null,null,null,null,null,null,null,1]
[122,"Vinterhvede","Maskinomkostninger excl. Presning",null,null,{"$f":"SUM(F115:F120)","v":3615},{"$f":"($F115*G115+$F116*G116+$F117*G117+$F118*G118+$F119*G119+$F120*G120)/$F122","v":0},{"$f":"($F115*H115+$F116*H116+$F117*H117+$F118*H118+$F119*H119+$F120*H120)/$F122","v":5.0138312586445369E-2},0.15560165975103735,0.10546334716459198,3.8727524204702629E-2,0,0,0,0,0,0,0,0,0,0,2.7662517289073305E-2,1.9363762102351315E-2,4.7026279391424619E-2,1.9363762102351315E-2,1.9363762102351315E-2,3.8727524204702629E-2,3.8727524204702629E-2,0,0,0.43983402489626555,0,0,0,0,0,0,0,0,0]
[123,"Vinterhvede","Maskinomkostninger summeret excl. Presning",null,null,null,{"$f":"SUM($G122:G122)","v":0},{"$f":"SUM($G122:H122)","v":5.0138312586445369E-2},{"$f":"SUM($G122:I122)","v":0.2057399723374827},{"$f":"SUM($G122:J122)","v":0.31120331950207469},{"$f":"SUM($G122:K122)","v":0.34993084370677729},{"$f":"SUM($G122:L122)","v":0.34993084370677729},{"$f":"SUM($G122:M122)","v":0.34993084370677729},{"$f":"SUM($G122:N122)","v":0.34993084370677729},{"$f":"SUM($G122:O122)","v":0.34993084370677729},{"$f":"SUM($G122:P122)","v":0.34993084370677729},{"$f":"SUM($G122:Q122)","v":0.34993084370677729},{"$f":"SUM($G122:R122)","v":0.34993084370677729},{"$f":"SUM($G122:S122)","v":0.34993084370677729},{"$f":"SUM($G122:T122)","v":0.34993084370677729},{"$f":"SUM($G122:U122)","v":0.34993084370677729},{"$f":"SUM($G122:V122)","v":0.37759336099585061},{"$f":"SUM($G122:W122)","v":0.39695712309820191},{"$f":"SUM($G122:X122)","v":0.44398340248962653},{"$f":"SUM($G122:Y122)","v":0.46334716459197783},{"$f":"SUM($G122:Z122)","v":0.48271092669432913},{"$f":"SUM($G122:AA122)","v":0.52143845089903174},{"$f":"SUM($G122:AB122)","v":0.56016597510373434},{"$f":"SUM($G122:AC122)","v":0.56016597510373434},{"$f":"SUM($G122:AD122)","v":0.56016597510373434},{"$f":"SUM($G122:AE122)","v":0.99999999999999989},{"$f":"SUM($G122:AF122)","v":0.99999999999999989},{"$f":"SUM($G122:AG122)","v":0.99999999999999989},{"$f":"SUM($G122:AH122)","v":0.99999999999999989},{"$f":"SUM($G122:AI122)","v":0.99999999999999989},{"$f":"SUM($G122:AJ122)","v":0.99999999999999989},{"$f":"SUM($G122:AK122)","v":0.99999999999999989},{"$f":"SUM($G122:AL122)","v":0.99999999999999989},{"$f":"SUM($G122:AM122)","v":0.99999999999999989},{"$f":"SUM($G122:AN122)","v":0.99999999999999989}]
[124,"Vinterhvede","Maskinomkostninger ",null,null,{"$f":"SUM(F115:F121)","v":4772},{"$f":"($F115*G115+$F116*G116+$F117*G117+$F118*G118+$F119*G119+$F120*G120+$F121*G121)/$F124","v":0},{"$f":"($F115*H115+$F116*H116+$F117*H117+$F118*H118+$F119*H119+$F120*H120+$F121*H121)/$F124","v":3.7981978206202853E-2},0.11787510477787091,7.9893126571668069E-2,2.9337803855825649E-2,0,0,0,0,0,0,0,0,0,0,2.0955574182732608E-2,1.4668901927912825E-2,3.5624476110645432E-2,1.4668901927912825E-2,1.4668901927912825E-2,2.9337803855825649E-2,2.9337803855825649E-2,0,0,0.5756496227996647,0,0,0,0,0,0,0,0,0]
[125,"Vinterhvede","Maskinomkostninger summeret",null,null,null,{"$f":"SUM($G124:G124)","v":0},{"$f":"SUM($G124:H124)","v":3.7981978206202853E-2},{"$f":"SUM($G124:I124)","v":0.15585708298407377},{"$f":"SUM($G124:J124)","v":0.23575020955574183},{"$f":"SUM($G124:K124)","v":0.26508801341156746},{"$f":"SUM($G124:L124)","v":0.26508801341156746},{"$f":"SUM($G124:M124)","v":0.26508801341156746},{"$f":"SUM($G124:N124)","v":0.26508801341156746},{"$f":"SUM($G124:O124)","v":0.26508801341156746},{"$f":"SUM($G124:P124)","v":0.26508801341156746},{"$f":"SUM($G124:Q124)","v":0.26508801341156746},{"$f":"SUM($G124:R124)","v":0.26508801341156746},{"$f":"SUM($G124:S124)","v":0.26508801341156746},{"$f":"SUM($G124:T124)","v":0.26508801341156746},{"$f":"SUM($G124:U124)","v":0.26508801341156746},{"$f":"SUM($G124:V124)","v":0.28604358759430004},{"$f":"SUM($G124:W124)","v":0.30071248952221286},{"$f":"SUM($G124:X124)","v":0.33633696563285831},{"$f":"SUM($G124:Y124)","v":0.35100586756077112},{"$f":"SUM($G124:Z124)","v":0.36567476948868394},{"$f":"SUM($G124:AA124)","v":0.39501257334450957},{"$f":"SUM($G124:AB124)","v":0.42435037720033519},{"$f":"SUM($G124:AC124)","v":0.42435037720033519},{"$f":"SUM($G124:AD124)","v":0.42435037720033519},{"$f":"SUM($G124:AE124)","v":0.99999999999999989},{"$f":"SUM($G124:AF124)","v":0.99999999999999989},{"$f":"SUM($G124:AG124)","v":0.99999999999999989},{"$f":"SUM($G124:AH124)","v":0.99999999999999989},{"$f":"SUM($G124:AI124)","v":0.99999999999999989},{"$f":"SUM($G124:AJ124)","v":0.99999999999999989},{"$f":"SUM($G124:AK124)","v":0.99999999999999989},{"$f":"SUM($G124:AL124)","v":0.99999999999999989},{"$f":"SUM($G124:AM124)","v":0.99999999999999989},{"$f":"SUM($G124:AN124)","v":0.99999999999999989}]
[126,"Vinterhvede","Maskinomkostninger excl. Etablering excl. Presning",null,null,{"$f":"SUM(F118:F120)","v":2490},{"$f":"($F118*G118+$F119*G119+$F120*G120)/$F126","v":0},{"$f":"($F118*H118+$F119*H119+$F120*H120)/$F126","v":0},0,0,5.6224899598393573E-2,0,0,0,0,0,0,0,0,0,0,4.0160642570281124E-2,2.8112449799196786E-2,6.8273092369477914E-2,2.8112449799196786E-2,2.8112449799196786E-2,5.6224899598393573E-2,5.6224899598393573E-2,0,0,0.63855421686746983,0,0,0,0,0,0,0,0,0]
[127,"Vinterhvede","Maskinomkostninger summeret excl. Etablering excl. Presning",null,null,null,{"$f":"SUM($G126:G126)","v":0},{"$f":"SUM($G126:H126)","v":0},{"$f":"SUM($G126:I126)","v":0},{"$f":"SUM($G126:J126)","v":0},{"$f":"SUM($G126:K126)","v":5.6224899598393573E-2},{"$f":"SUM($G126:L126)","v":5.6224899598393573E-2},{"$f":"SUM($G126:M126)","v":5.6224899598393573E-2},{"$f":"SUM($G126:N126)","v":5.6224899598393573E-2},{"$f":"SUM($G126:O126)","v":5.6224899598393573E-2},{"$f":"SUM($G126:P126)","v":5.6224899598393573E-2},{"$f":"SUM($G126:Q126)","v":5.6224899598393573E-2},{"$f":"SUM($G126:R126)","v":5.6224899598393573E-2},{"$f":"SUM($G126:S126)","v":5.6224899598393573E-2},{"$f":"SUM($G126:T126)","v":5.6224899598393573E-2},{"$f":"SUM($G126:U126)","v":5.6224899598393573E-2},{"$f":"SUM($G126:V126)","v":9.6385542168674704E-2},{"$f":"SUM($G126:W126)","v":0.12449799196787149},{"$f":"SUM($G126:X126)","v":0.19277108433734941},{"$f":"SUM($G126:Y126)","v":0.22088353413654618},{"$f":"SUM($G126:Z126)","v":0.24899598393574296},{"$f":"SUM($G126:AA126)","v":0.30522088353413651},{"$f":"SUM($G126:AB126)","v":0.36144578313253006},{"$f":"SUM($G126:AC126)","v":0.36144578313253006},{"$f":"SUM($G126:AD126)","v":0.36144578313253006},{"$f":"SUM($G126:AE126)","v":0.99999999999999989},{"$f":"SUM($G126:AF126)","v":0.99999999999999989},{"$f":"SUM($G126:AG126)","v":0.99999999999999989},{"$f":"SUM($G126:AH126)","v":0.99999999999999989},{"$f":"SUM($G126:AI126)","v":0.99999999999999989},{"$f":"SUM($G126:AJ126)","v":0.99999999999999989},{"$f":"SUM($G126:AK126)","v":0.99999999999999989},{"$f":"SUM($G126:AL126)","v":0.99999999999999989},{"$f":"SUM($G126:AM126)","v":0.99999999999999989},{"$f":"SUM($G126:AN126)","v":0.99999999999999989}]
[128,"Vinterhvede","Maskinomkostninger excl. Etablering",null,null,{"$f":"SUM(F118:F121)","v":3647},{"$f":"($F118*G118+$F119*G119+$F120*G120+$F121*G121)/$F128","v":0},{"$f":"($F118*H118+$F119*H119+$F120*H120+$F121*H121)/$F128","v":0},0,0,3.8387715930902108E-2,0,0,0,0,0,0,0,0,0,0,2.7419797093501508E-2,1.9193857965451054E-2,4.6613655058952562E-2,1.9193857965451054E-2,1.9193857965451054E-2,3.8387715930902108E-2,3.8387715930902108E-2,0,0,0.75322182615848643,0,0,0,0,0,0,0,0,0]
[129,"Vinterhvede","Maskinomkostninger summeret excl. Etablering",null,null,null,{"$f":"SUM($G128:G128)","v":0},{"$f":"SUM($G128:H128)","v":0},{"$f":"SUM($G128:I128)","v":0},{"$f":"SUM($G128:J128)","v":0},{"$f":"SUM($G128:K128)","v":3.8387715930902108E-2},{"$f":"SUM($G128:L128)","v":3.8387715930902108E-2},{"$f":"SUM($G128:M128)","v":3.8387715930902108E-2},{"$f":"SUM($G128:N128)","v":3.8387715930902108E-2},{"$f":"SUM($G128:O128)","v":3.8387715930902108E-2},{"$f":"SUM($G128:P128)","v":3.8387715930902108E-2},{"$f":"SUM($G128:Q128)","v":3.8387715930902108E-2},{"$f":"SUM($G128:R128)","v":3.8387715930902108E-2},{"$f":"SUM($G128:S128)","v":3.8387715930902108E-2},{"$f":"SUM($G128:T128)","v":3.8387715930902108E-2},{"$f":"SUM($G128:U128)","v":3.8387715930902108E-2},{"$f":"SUM($G128:V128)","v":6.5807513024403616E-2},{"$f":"SUM($G128:W128)","v":8.5001370989854663E-2},{"$f":"SUM($G128:X128)","v":0.13161502604880723},{"$f":"SUM($G128:Y128)","v":0.15080888401425829},{"$f":"SUM($G128:Z128)","v":0.17000274197970935},{"$f":"SUM($G128:AA128)","v":0.20839045791061145},{"$f":"SUM($G128:AB128)","v":0.24677817384151357},{"$f":"SUM($G128:AC128)","v":0.24677817384151357},{"$f":"SUM($G128:AD128)","v":0.24677817384151357},{"$f":"SUM($G128:AE128)","v":1},{"$f":"SUM($G128:AF128)","v":1},{"$f":"SUM($G128:AG128)","v":1},{"$f":"SUM($G128:AH128)","v":1},{"$f":"SUM($G128:AI128)","v":1},{"$f":"SUM($G128:AJ128)","v":1},{"$f":"SUM($G128:AK128)","v":1},{"$f":"SUM($G128:AL128)","v":1},{"$f":"SUM($G128:AM128)","v":1},{"$f":"SUM($G128:AN128)","v":1}]
[130,"Vinterhvede","Udsæd",null,null,null,{"$f":"SUM($G117:G117)","v":0},{"$f":"SUM($G117:H117)","v":0},{"$f":"SUM($G117:I117)","v":0.5},{"$f":"SUM($G117:J117)","v":1},{"$f":"SUM($G117:K117)","v":1},{"$f":"SUM($G117:L117)","v":1},{"$f":"SUM($G117:M117)","v":1},{"$f":"SUM($G117:N117)","v":1},{"$f":"SUM($G117:O117)","v":1},{"$f":"SUM($G117:P117)","v":1},{"$f":"SUM($G117:Q117)","v":1},{"$f":"SUM($G117:R117)","v":1},{"$f":"SUM($G117:S117)","v":1},{"$f":"SUM($G117:T117)","v":1},{"$f":"SUM($G117:U117)","v":1},{"$f":"SUM($G117:V117)","v":1},{"$f":"SUM($G117:W117)","v":1},{"$f":"SUM($G117:X117)","v":1},{"$f":"SUM($G117:Y117)","v":1},{"$f":"SUM($G117:Z117)","v":1},{"$f":"SUM($G117:AA117)","v":1},{"$f":"SUM($G117:AB117)","v":1},{"$f":"SUM($G117:AC117)","v":1},{"$f":"SUM($G117:AD117)","v":1},{"$f":"SUM($G117:AE117)","v":1},{"$f":"SUM($G117:AF117)","v":1},{"$f":"SUM($G117:AG117)","v":1},{"$f":"SUM($G117:AH117)","v":1},{"$f":"SUM($G117:AI117)","v":1},{"$f":"SUM($G117:AJ117)","v":1},{"$f":"SUM($G117:AK117)","v":1},{"$f":"SUM($G117:AL117)","v":1},{"$f":"SUM($G117:AM117)","v":1},{"$f":"SUM($G117:AN117)","v":1}]
[131,"Vinterhvede","Gødning",null,null,null,{"$f":"SUM($G118:G118)","v":0},{"$f":"SUM($G118:H118)","v":0},{"$f":"SUM($G118:I118)","v":0},{"$f":"SUM($G118:J118)","v":0},{"$f":"SUM($G118:K118)","v":0},{"$f":"SUM($G118:L118)","v":0},{"$f":"SUM($G118:M118)","v":0},{"$f":"SUM($G118:N118)","v":0},{"$f":"SUM($G118:O118)","v":0},{"$f":"SUM($G118:P118)","v":0},{"$f":"SUM($G118:Q118)","v":0},{"$f":"SUM($G118:R118)","v":0},{"$f":"SUM($G118:S118)","v":0},{"$f":"SUM($G118:T118)","v":0},{"$f":"SUM($G118:U118)","v":0},{"$f":"SUM($G118:V118)","v":0.5},{"$f":"SUM($G118:W118)","v":0.5},{"$f":"SUM($G118:X118)","v":1},{"$f":"SUM($G118:Y118)","v":1},{"$f":"SUM($G118:Z118)","v":1},{"$f":"SUM($G118:AA118)","v":1},{"$f":"SUM($G118:AB118)","v":1},{"$f":"SUM($G118:AC118)","v":1},{"$f":"SUM($G118:AD118)","v":1},{"$f":"SUM($G118:AE118)","v":1},{"$f":"SUM($G118:AF118)","v":1},{"$f":"SUM($G118:AG118)","v":1},{"$f":"SUM($G118:AH118)","v":1},{"$f":"SUM($G118:AI118)","v":1},{"$f":"SUM($G118:AJ118)","v":1},{"$f":"SUM($G118:AK118)","v":1},{"$f":"SUM($G118:AL118)","v":1},{"$f":"SUM($G118:AM118)","v":1},{"$f":"SUM($G118:AN118)","v":1}]
[132,"Vinterhvede","Planteværn",null,null,null,{"$f":"SUM($G119:G119)","v":0},{"$f":"SUM($G119:H119)","v":0},{"$f":"SUM($G119:I119)","v":0},{"$f":"SUM($G119:J119)","v":0},{"$f":"SUM($G119:K119)","v":0.2},{"$f":"SUM($G119:L119)","v":0.2},{"$f":"SUM($G119:M119)","v":0.2},{"$f":"SUM($G119:N119)","v":0.2},{"$f":"SUM($G119:O119)","v":0.2},{"$f":"SUM($G119:P119)","v":0.2},{"$f":"SUM($G119:Q119)","v":0.2},{"$f":"SUM($G119:R119)","v":0.2},{"$f":"SUM($G119:S119)","v":0.2},{"$f":"SUM($G119:T119)","v":0.2},{"$f":"SUM($G119:U119)","v":0.2},{"$f":"SUM($G119:V119)","v":0.2},{"$f":"SUM($G119:W119)","v":0.30000000000000004},{"$f":"SUM($G119:X119)","v":0.4},{"$f":"SUM($G119:Y119)","v":0.5},{"$f":"SUM($G119:Z119)","v":0.6},{"$f":"SUM($G119:AA119)","v":0.8},{"$f":"SUM($G119:AB119)","v":1},{"$f":"SUM($G119:AC119)","v":1},{"$f":"SUM($G119:AD119)","v":1},{"$f":"SUM($G119:AE119)","v":1},{"$f":"SUM($G119:AF119)","v":1},{"$f":"SUM($G119:AG119)","v":1},{"$f":"SUM($G119:AH119)","v":1},{"$f":"SUM($G119:AI119)","v":1},{"$f":"SUM($G119:AJ119)","v":1},{"$f":"SUM($G119:AK119)","v":1},{"$f":"SUM($G119:AL119)","v":1},{"$f":"SUM($G119:AM119)","v":1},{"$f":"SUM($G119:AN119)","v":1}]
[133,"Vinterhvede","Diverse stykomkostninger",null,null,null,{"$f":"SUM($G120:G120)","v":0},{"$f":"SUM($G120:H120)","v":0},{"$f":"SUM($G120:I120)","v":0},{"$f":"SUM($G120:J120)","v":0},{"$f":"SUM($G120:K120)","v":0},{"$f":"SUM($G120:L120)","v":0},{"$f":"SUM($G120:M120)","v":0},{"$f":"SUM($G120:N120)","v":0},{"$f":"SUM($G120:O120)","v":0},{"$f":"SUM($G120:P120)","v":0},{"$f":"SUM($G120:Q120)","v":0},{"$f":"SUM($G120:R120)","v":0},{"$f":"SUM($G120:S120)","v":0},{"$f":"SUM($G120:T120)","v":0},{"$f":"SUM($G120:U120)","v":0},{"$f":"SUM($G120:V120)","v":0},{"$f":"SUM($G120:W120)","v":0},{"$f":"SUM($G120:X120)","v":0},{"$f":"SUM($G120:Y120)","v":0},{"$f":"SUM($G120:Z120)","v":0},{"$f":"SUM($G120:AA120)","v":0},{"$f":"SUM($G120:AB120)","v":0},{"$f":"SUM($G120:AC120)","v":0},{"$f":"SUM($G120:AD120)","v":0},{"$f":"SUM($G120:AE120)","v":1},{"$f":"SUM($G120:AF120)","v":1},{"$f":"SUM($G120:AG120)","v":1},{"$f":"SUM($G120:AH120)","v":1},{"$f":"SUM($G120:AI120)","v":1},{"$f":"SUM($G120:AJ120)","v":1},{"$f":"SUM($G120:AK120)","v":1},{"$f":"SUM($G120:AL120)","v":1},{"$f":"SUM($G120:AM120)","v":1},{"$f":"SUM($G120:AN120)","v":1}]
[134,"Vinterhvede","Bruttoudbytte (høsttid)",null,null,null,{"$f":"SUM($G120:G120)","v":0},{"$f":"SUM($G120:H120)","v":0},{"$f":"SUM($G120:I120)","v":0},{"$f":"SUM($G120:J120)","v":0},{"$f":"SUM($G120:K120)","v":0},{"$f":"SUM($G120:L120)","v":0},{"$f":"SUM($G120:M120)","v":0},{"$f":"SUM($G120:N120)","v":0},{"$f":"SUM($G120:O120)","v":0},{"$f":"SUM($G120:P120)","v":0},{"$f":"SUM($G120:Q120)","v":0},{"$f":"SUM($G120:R120)","v":0},{"$f":"SUM($G120:S120)","v":0},{"$f":"SUM($G120:T120)","v":0},{"$f":"SUM($G120:U120)","v":0},{"$f":"SUM($G120:V120)","v":0},{"$f":"SUM($G120:W120)","v":0},{"$f":"SUM($G120:X120)","v":0},{"$f":"SUM($G120:Y120)","v":0},{"$f":"SUM($G120:Z120)","v":0},{"$f":"SUM($G120:AA120)","v":0},{"$f":"SUM($G120:AB120)","v":0},{"$f":"SUM($G120:AC120)","v":0},{"$f":"SUM($G120:AD120)","v":0},{"$f":"SUM($G120:AE120)","v":1},{"$f":"SUM($G120:AF120)","v":1},{"$f":"SUM($G120:AG120)","v":1},{"$f":"SUM($G120:AH120)","v":1},{"$f":"SUM($G120:AI120)","v":1},{"$f":"SUM($G120:AJ120)","v":1},{"$f":"SUM($G120:AK120)","v":1},{"$f":"SUM($G120:AL120)","v":1},{"$f":"SUM($G120:AM120)","v":1},{"$f":"SUM($G120:AN120)","v":1}]
[135,"Vårbyg","Pløjning",1,null,725,null,null,null,null,null,null,null,null,null,null,null,null,null,{"$f":"0.5/D135","v":0.5},{"$f":"0.5/D135","v":0.5}]
[136,"Vårbyg","Jorbearb. Før såning",1,null,null,null,null,null,null,null,null,null,null,null,null,null,null,null,null,null,{"$f":"0.5/D136","v":0.5},{"$f":"0.5/D136","v":0.5}]
[137,"Vårbyg","Afgrødeetabl. (såning, lægning o.l.)",1,null,400,null,null,null,null,null,null,null,null,null,null,null,null,null,null,null,{"$f":"0.5/D137","v":0.5},{"$f":"0.5/D137","v":0.5}]
[138,"Vårbyg","Gødskning (handelsgødning)",1,null,100,null,null,null,null,null,null,null,null,null,null,null,null,null,null,null,null,{"$f":"0.5/D138","v":0.5},{"$f":"0.5/D138","v":0.5}]
[139,"Vårbyg","Planteværn",3,null,420,null,null,null,null,null,null,null,null,null,null,null,null,null,null,null,null,{"$f":"0.5/D139","v":0.16666666666666666},{"$f":"0.5/D139","v":0.16666666666666666},{"$f":"0.5/D139","v":0.16666666666666666},{"$f":"0.5/D139","v":0.16666666666666666},{"$f":"1/D139","v":0.33333333333333331}]
[140,"Vårbyg","Høst og hjemkørsel",1,null,{"$f":"866+394","v":1260},null,null,null,null,null,null,null,null,null,null,null,null,null,null,null,null,null,null,null,null,null,null,null,null,1]
[141,"Vårbyg","Presning og hjemkørsel",1,null,{"$f":"630+244","v":874},null,null,null,null,null,null,null,null,null,null,null,null,null,null,null,null,null,null,null,null,null,null,null,null,1]
[142,"Vårbyg","Maskinomkostninger excl. Presning",null,null,{"$f":"SUM(F135:F140)","v":2905},{"$f":"($F135*G135+$F136*G136+$F137*G137+$F138*G138+$F139*G139+$F140*G140)/$F142","v":0},{"$f":"($F135*H135+$F136*H136+$F137*H137+$F138*H138+$F139*H139+$F140*H140)/$F142","v":0},0,0,0,0,0,0,0,0,0,0,0,0.12478485370051635,0.12478485370051635,6.8846815834767636E-2,0.11015490533562823,4.1308089500860588E-2,2.4096385542168676E-2,2.4096385542168676E-2,4.8192771084337352E-2,0,0,0,0.43373493975903615,0,0,0,0,0,0,0,0,0]
[143,"Vårbyg","Maskinomkostninger summeret excl. Presning",null,null,null,{"$f":"SUM($G142:G142)","v":0},{"$f":"SUM($G142:H142)","v":0},{"$f":"SUM($G142:I142)","v":0},{"$f":"SUM($G142:J142)","v":0},{"$f":"SUM($G142:K142)","v":0},{"$f":"SUM($G142:L142)","v":0},{"$f":"SUM($G142:M142)","v":0},{"$f":"SUM($G142:N142)","v":0},{"$f":"SUM($G142:O142)","v":0},{"$f":"SUM($G142:P142)","v":0},{"$f":"SUM($G142:Q142)","v":0},{"$f":"SUM($G142:R142)","v":0},{"$f":"SUM($G142:S142)","v":0},{"$f":"SUM($G142:T142)","v":0.12478485370051635},{"$f":"SUM($G142:U142)","v":0.24956970740103271},{"$f":"SUM($G142:V142)","v":0.31841652323580033},{"$f":"SUM($G142:W142)","v":0.42857142857142855},{"$f":"SUM($G142:X142)","v":0.46987951807228912},{"$f":"SUM($G142:Y142)","v":0.49397590361445781},{"$f":"SUM($G142:Z142)","v":0.51807228915662651},{"$f":"SUM($G142:AA142)","v":0.5662650602409639},{"$f":"SUM($G142:AB142)","v":0.5662650602409639},{"$f":"SUM($G142:AC142)","v":0.5662650602409639},{"$f":"SUM($G142:AD142)","v":0.5662650602409639},{"$f":"SUM($G142:AE142)","v":1},{"$f":"SUM($G142:AF142)","v":1},{"$f":"SUM($G142:AG142)","v":1},{"$f":"SUM($G142:AH142)","v":1},{"$f":"SUM($G142:AI142)","v":1},{"$f":"SUM($G142:AJ142)","v":1},{"$f":"SUM($G142:AK142)","v":1},{"$f":"SUM($G142:AL142)","v":1},{"$f":"SUM($G142:AM142)","v":1},{"$f":"SUM($G142:AN142)","v":1}]
[144,"Vårbyg","Maskinomkostninger ",null,null,{"$f":"SUM(F135:F141)","v":3779},{"$f":"($F135*G135+$F136*G136+$F137*G137+$F138*G138+$F139*G139+$F140*G140+$F141*G141)/$F144","v":0},{"$f":"($F135*H135+$F136*H136+$F137*H137+$F138*H138+$F139*H139+$F140*H140+$F141*H141)/$F144","v":0},0,0,0,0,0,0,0,0,0,0,0,9.5924847843344804E-2,9.5924847843344804E-2,5.2924053982535059E-2,8.4678486372056105E-2,3.175443238952104E-2,1.8523418893887273E-2,1.8523418893887273E-2,3.7046837787774546E-2,0,0,0,0.56469965599364913,0,0,0,0,0,0,0,0,0]
[145,"Vårbyg","Maskinomkostninger summeret",null,null,null,{"$f":"SUM($G144:G144)","v":0},{"$f":"SUM($G144:H144)","v":0},{"$f":"SUM($G144:I144)","v":0},{"$f":"SUM($G144:J144)","v":0},{"$f":"SUM($G144:K144)","v":0},{"$f":"SUM($G144:L144)","v":0},{"$f":"SUM($G144:M144)","v":0},{"$f":"SUM($G144:N144)","v":0},{"$f":"SUM($G144:O144)","v":0},{"$f":"SUM($G144:P144)","v":0},{"$f":"SUM($G144:Q144)","v":0},{"$f":"SUM($G144:R144)","v":0},{"$f":"SUM($G144:S144)","v":0},{"$f":"SUM($G144:T144)","v":9.5924847843344804E-2},{"$f":"SUM($G144:U144)","v":0.19184969568668961},{"$f":"SUM($G144:V144)","v":0.24477374966922466},{"$f":"SUM($G144:W144)","v":0.32945223604128077},{"$f":"SUM($G144:X144)","v":0.36120666843080179},{"$f":"SUM($G144:Y144)","v":0.37973008732468905},{"$f":"SUM($G144:Z144)","v":0.3982535062185763},{"$f":"SUM($G144:AA144)","v":0.43530034400635087},{"$f":"SUM($G144:AB144)","v":0.43530034400635087},{"$f":"SUM($G144:AC144)","v":0.43530034400635087},{"$f":"SUM($G144:AD144)","v":0.43530034400635087},{"$f":"SUM($G144:AE144)","v":1},{"$f":"SUM($G144:AF144)","v":1},{"$f":"SUM($G144:AG144)","v":1},{"$f":"SUM($G144:AH144)","v":1},{"$f":"SUM($G144:AI144)","v":1},{"$f":"SUM($G144:AJ144)","v":1},{"$f":"SUM($G144:AK144)","v":1},{"$f":"SUM($G144:AL144)","v":1},{"$f":"SUM($G144:AM144)","v":1},{"$f":"SUM($G144:AN144)","v":1}]
[146,"Vårbyg","Maskinomkostninger excl. Etablering excl. Presning",null,null,{"$f":"SUM(F138:F140)","v":1780},{"$f":"($F138*G138+$F139*G139+$F140*G140)/$F146","v":0},{"$f":"($F138*H138+$F139*H139+$F140*H140)/$F146","v":0},0,0,0,0,0,0,0,0,0,0,0,0,0,0,6.741573033707865E-2,6.741573033707865E-2,3.9325842696629212E-2,3.9325842696629212E-2,7.8651685393258425E-2,0,0,0,0.7078651685393258,0,0,0,0,0,0,0,0,0]
[147,"Vårbyg","Maskinomkostninger summeret excl. Etablering excl. Presning",null,null,null,{"$f":"SUM($G146:G146)","v":0},{"$f":"SUM($G146:H146)","v":0},{"$f":"SUM($G146:I146)","v":0},{"$f":"SUM($G146:J146)","v":0},{"$f":"SUM($G146:K146)","v":0},{"$f":"SUM($G146:L146)","v":0},{"$f":"SUM($G146:M146)","v":0},{"$f":"SUM($G146:N146)","v":0},{"$f":"SUM($G146:O146)","v":0},{"$f":"SUM($G146:P146)","v":0},{"$f":"SUM($G146:Q146)","v":0},{"$f":"SUM($G146:R146)","v":0},{"$f":"SUM($G146:S146)","v":0},{"$f":"SUM($G146:T146)","v":0},{"$f":"SUM($G146:U146)","v":0},{"$f":"SUM($G146:V146)","v":0},{"$f":"SUM($G146:W146)","v":6.741573033707865E-2},{"$f":"SUM($G146:X146)","v":0.1348314606741573},{"$f":"SUM($G146:Y146)","v":0.1741573033707865},{"$f":"SUM($G146:Z146)","v":0.2134831460674157},{"$f":"SUM($G146:AA146)","v":0.29213483146067409},{"$f":"SUM($G146:AB146)","v":0.29213483146067409},{"$f":"SUM($G146:AC146)","v":0.29213483146067409},{"$f":"SUM($G146:AD146)","v":0.29213483146067409},{"$f":"SUM($G146:AE146)","v":0.99999999999999989},{"$f":"SUM($G146:AF146)","v":0.99999999999999989},{"$f":"SUM($G146:AG146)","v":0.99999999999999989},{"$f":"SUM($G146:AH146)","v":0.99999999999999989},{"$f":"SUM($G146:AI146)","v":0.99999999999999989},{"$f":"SUM($G146:AJ146)","v":0.99999999999999989},{"$f":"SUM($G146:AK146)","v":0.99999999999999989},{"$f":"SUM($G146:AL146)","v":0.99999999999999989},{"$f":"SUM($G146:AM146)","v":0.99999999999999989},{"$f":"SUM($G146:AN146)","v":0.99999999999999989}]
[148,"Vårbyg","Maskinomkostninger excl. Etablering",null,null,{"$f":"SUM(F138:F141)","v":2654},{"$f":"($F138*G138+$F139*G139+$F140*G140+$F141*G141)/$F148","v":0},{"$f":"($F138*H138+$F139*H139+$F140*H140+$F141*H141)/$F148","v":0},0,0,0,0,0,0,0,0,0,0,0,0,0,0,4.5214770158251698E-2,4.5214770158251698E-2,2.637528259231349E-2,2.637528259231349E-2,5.275056518462698E-2,0,0,0,0.80406932931424269,0,0,0,0,0,0,0,0,0]
[149,"Vårbyg","Maskinomkostninger summeret excl. Etablering",null,null,null,{"$f":"SUM($G148:G148)","v":0},{"$f":"SUM($G148:H148)","v":0},{"$f":"SUM($G148:I148)","v":0},{"$f":"SUM($G148:J148)","v":0},{"$f":"SUM($G148:K148)","v":0},{"$f":"SUM($G148:L148)","v":0},{"$f":"SUM($G148:M148)","v":0},{"$f":"SUM($G148:N148)","v":0},{"$f":"SUM($G148:O148)","v":0},{"$f":"SUM($G148:P148)","v":0},{"$f":"SUM($G148:Q148)","v":0},{"$f":"SUM($G148:R148)","v":0},{"$f":"SUM($G148:S148)","v":0},{"$f":"SUM($G148:T148)","v":0},{"$f":"SUM($G148:U148)","v":0},{"$f":"SUM($G148:V148)","v":0},{"$f":"SUM($G148:W148)","v":4.5214770158251698E-2},{"$f":"SUM($G148:X148)","v":9.0429540316503396E-2},{"$f":"SUM($G148:Y148)","v":0.11680482290881689},{"$f":"SUM($G148:Z148)","v":0.14318010550113036},{"$f":"SUM($G148:AA148)","v":0.19593067068575734},{"$f":"SUM($G148:AB148)","v":0.19593067068575734},{"$f":"SUM($G148:AC148)","v":0.19593067068575734},{"$f":"SUM($G148:AD148)","v":0.19593067068575734},{"$f":"SUM($G148:AE148)","v":1},{"$f":"SUM($G148:AF148)","v":1},{"$f":"SUM($G148:AG148)","v":1},{"$f":"SUM($G148:AH148)","v":1},{"$f":"SUM($G148:AI148)","v":1},{"$f":"SUM($G148:AJ148)","v":1},{"$f":"SUM($G148:AK148)","v":1},{"$f":"SUM($G148:AL148)","v":1},{"$f":"SUM($G148:AM148)","v":1},{"$f":"SUM($G148:AN148)","v":1}]
[150,"Vårbyg","Udsæd",null,null,null,{"$f":"SUM($G137:G137)","v":0},{"$f":"SUM($G137:H137)","v":0},{"$f":"SUM($G137:I137)","v":0},{"$f":"SUM($G137:J137)","v":0},{"$f":"SUM($G137:K137)","v":0},{"$f":"SUM($G137:L137)","v":0},{"$f":"SUM($G137:M137)","v":0},{"$f":"SUM($G137:N137)","v":0},{"$f":"SUM($G137:O137)","v":0},{"$f":"SUM($G137:P137)","v":0},{"$f":"SUM($G137:Q137)","v":0},{"$f":"SUM($G137:R137)","v":0},{"$f":"SUM($G137:S137)","v":0},{"$f":"SUM($G137:T137)","v":0},{"$f":"SUM($G137:U137)","v":0},{"$f":"SUM($G137:V137)","v":0.5},{"$f":"SUM($G137:W137)","v":1},{"$f":"SUM($G137:X137)","v":1},{"$f":"SUM($G137:Y137)","v":1},{"$f":"SUM($G137:Z137)","v":1},{"$f":"SUM($G137:AA137)","v":1},{"$f":"SUM($G137:AB137)","v":1},{"$f":"SUM($G137:AC137)","v":1},{"$f":"SUM($G137:AD137)","v":1},{"$f":"SUM($G137:AE137)","v":1},{"$f":"SUM($G137:AF137)","v":1},{"$f":"SUM($G137:AG137)","v":1},{"$f":"SUM($G137:AH137)","v":1},{"$f":"SUM($G137:AI137)","v":1},{"$f":"SUM($G137:AJ137)","v":1},{"$f":"SUM($G137:AK137)","v":1},{"$f":"SUM($G137:AL137)","v":1},{"$f":"SUM($G137:AM137)","v":1},{"$f":"SUM($G137:AN137)","v":1}]
[151,"Vårbyg","Gødning",null,null,null,{"$f":"SUM($G138:G138)","v":0},{"$f":"SUM($G138:H138)","v":0},{"$f":"SUM($G138:I138)","v":0},{"$f":"SUM($G138:J138)","v":0},{"$f":"SUM($G138:K138)","v":0},{"$f":"SUM($G138:L138)","v":0},{"$f":"SUM($G138:M138)","v":0},{"$f":"SUM($G138:N138)","v":0},{"$f":"SUM($G138:O138)","v":0},{"$f":"SUM($G138:P138)","v":0},{"$f":"SUM($G138:Q138)","v":0},{"$f":"SUM($G138:R138)","v":0},{"$f":"SUM($G138:S138)","v":0},{"$f":"SUM($G138:T138)","v":0},{"$f":"SUM($G138:U138)","v":0},{"$f":"SUM($G138:V138)","v":0},{"$f":"SUM($G138:W138)","v":0.5},{"$f":"SUM($G138:X138)","v":1},{"$f":"SUM($G138:Y138)","v":1},{"$f":"SUM($G138:Z138)","v":1},{"$f":"SUM($G138:AA138)","v":1},{"$f":"SUM($G138:AB138)","v":1},{"$f":"SUM($G138:AC138)","v":1},{"$f":"SUM($G138:AD138)","v":1},{"$f":"SUM($G138:AE138)","v":1},{"$f":"SUM($G138:AF138)","v":1},{"$f":"SUM($G138:AG138)","v":1},{"$f":"SUM($G138:AH138)","v":1},{"$f":"SUM($G138:AI138)","v":1},{"$f":"SUM($G138:AJ138)","v":1},{"$f":"SUM($G138:AK138)","v":1},{"$f":"SUM($G138:AL138)","v":1},{"$f":"SUM($G138:AM138)","v":1},{"$f":"SUM($G138:AN138)","v":1}]
[152,"Vårbyg","Planteværn",null,null,null,{"$f":"SUM($G139:G139)","v":0},{"$f":"SUM($G139:H139)","v":0},{"$f":"SUM($G139:I139)","v":0},{"$f":"SUM($G139:J139)","v":0},{"$f":"SUM($G139:K139)","v":0},{"$f":"SUM($G139:L139)","v":0},{"$f":"SUM($G139:M139)","v":0},{"$f":"SUM($G139:N139)","v":0},{"$f":"SUM($G139:O139)","v":0},{"$f":"SUM($G139:P139)","v":0},{"$f":"SUM($G139:Q139)","v":0},{"$f":"SUM($G139:R139)","v":0},{"$f":"SUM($G139:S139)","v":0},{"$f":"SUM($G139:T139)","v":0},{"$f":"SUM($G139:U139)","v":0},{"$f":"SUM($G139:V139)","v":0},{"$f":"SUM($G139:W139)","v":0.16666666666666666},{"$f":"SUM($G139:X139)","v":0.33333333333333331},{"$f":"SUM($G139:Y139)","v":0.5},{"$f":"SUM($G139:Z139)","v":0.66666666666666663},{"$f":"SUM($G139:AA139)","v":1},{"$f":"SUM($G139:AB139)","v":1},{"$f":"SUM($G139:AC139)","v":1},{"$f":"SUM($G139:AD139)","v":1},{"$f":"SUM($G139:AE139)","v":1},{"$f":"SUM($G139:AF139)","v":1},{"$f":"SUM($G139:AG139)","v":1},{"$f":"SUM($G139:AH139)","v":1},{"$f":"SUM($G139:AI139)","v":1},{"$f":"SUM($G139:AJ139)","v":1},{"$f":"SUM($G139:AK139)","v":1},{"$f":"SUM($G139:AL139)","v":1},{"$f":"SUM($G139:AM139)","v":1},{"$f":"SUM($G139:AN139)","v":1}]
[153,"Vårbyg","Diverse stykomkostninger",null,null,null,{"$f":"SUM($G140:G140)","v":0},{"$f":"SUM($G140:H140)","v":0},{"$f":"SUM($G140:I140)","v":0},{"$f":"SUM($G140:J140)","v":0},{"$f":"SUM($G140:K140)","v":0},{"$f":"SUM($G140:L140)","v":0},{"$f":"SUM($G140:M140)","v":0},{"$f":"SUM($G140:N140)","v":0},{"$f":"SUM($G140:O140)","v":0},{"$f":"SUM($G140:P140)","v":0},{"$f":"SUM($G140:Q140)","v":0},{"$f":"SUM($G140:R140)","v":0},{"$f":"SUM($G140:S140)","v":0},{"$f":"SUM($G140:T140)","v":0},{"$f":"SUM($G140:U140)","v":0},{"$f":"SUM($G140:V140)","v":0},{"$f":"SUM($G140:W140)","v":0},{"$f":"SUM($G140:X140)","v":0},{"$f":"SUM($G140:Y140)","v":0},{"$f":"SUM($G140:Z140)","v":0},{"$f":"SUM($G140:AA140)","v":0},{"$f":"SUM($G140:AB140)","v":0},{"$f":"SUM($G140:AC140)","v":0},{"$f":"SUM($G140:AD140)","v":0},{"$f":"SUM($G140:AE140)","v":1},{"$f":"SUM($G140:AF140)","v":1},{"$f":"SUM($G140:AG140)","v":1},{"$f":"SUM($G140:AH140)","v":1},{"$f":"SUM($G140:AI140)","v":1},{"$f":"SUM($G140:AJ140)","v":1},{"$f":"SUM($G140:AK140)","v":1},{"$f":"SUM($G140:AL140)","v":1},{"$f":"SUM($G140:AM140)","v":1},{"$f":"SUM($G140:AN140)","v":1}]
[154,"Vårbyg","Bruttoudbytte (høsttid)",null,null,null,{"$f":"SUM($G140:G140)","v":0},{"$f":"SUM($G140:H140)","v":0},{"$f":"SUM($G140:I140)","v":0},{"$f":"SUM($G140:J140)","v":0},{"$f":"SUM($G140:K140)","v":0},{"$f":"SUM($G140:L140)","v":0},{"$f":"SUM($G140:M140)","v":0},{"$f":"SUM($G140:N140)","v":0},{"$f":"SUM($G140:O140)","v":0},{"$f":"SUM($G140:P140)","v":0},{"$f":"SUM($G140:Q140)","v":0},{"$f":"SUM($G140:R140)","v":0},{"$f":"SUM($G140:S140)","v":0},{"$f":"SUM($G140:T140)","v":0},{"$f":"SUM($G140:U140)","v":0},{"$f":"SUM($G140:V140)","v":0},{"$f":"SUM($G140:W140)","v":0},{"$f":"SUM($G140:X140)","v":0},{"$f":"SUM($G140:Y140)","v":0},{"$f":"SUM($G140:Z140)","v":0},{"$f":"SUM($G140:AA140)","v":0},{"$f":"SUM($G140:AB140)","v":0},{"$f":"SUM($G140:AC140)","v":0},{"$f":"SUM($G140:AD140)","v":0},{"$f":"SUM($G140:AE140)","v":1},{"$f":"SUM($G140:AF140)","v":1},{"$f":"SUM($G140:AG140)","v":1},{"$f":"SUM($G140:AH140)","v":1},{"$f":"SUM($G140:AI140)","v":1},{"$f":"SUM($G140:AJ140)","v":1},{"$f":"SUM($G140:AK140)","v":1},{"$f":"SUM($G140:AL140)","v":1},{"$f":"SUM($G140:AM140)","v":1},{"$f":"SUM($G140:AN140)","v":1}]

{"sheet":"Ark5","index":5,"n_rows":188,"n_cols":8,"rows_kept":188,"cut":false,"hidden":false,"merged":[]}
[null,null,null,"Antal dage med oversvømmelse inden afgrøden skal sås om",10,10,5,5]
[null,null,null,"Antal dage med oversvømmelse","Vinterhvede","Vinterraps","Vinterrug","Vinterbyg"]
[null,null,null,1,{"$f":"IF($D3<=E$1,+$D3/E$1,1)","v":0.1},{"$f":"IF($D3<=F$1,+$D3/F$1,1)","v":0.1},{"$f":"IF($D3<=G$1,+$D3/G$1,1)","v":0.2},{"$f":"IF($D3<=H$1,+$D3/H$1,1)","v":0.2}]
[null,null,null,2,{"$f":"IF($D4<=E$1,+$D4/E$1,1)","v":0.2},0.2,0.4,0.4]
[null,null,null,3,0.3,0.3,0.6,0.6]
[null,null,null,4,0.4,0.4,0.8,0.8]
[null,null,null,5,0.5,0.5,1,1]
[null,null,null,6,0.6,0.6,1,1]
[null,null,null,7,0.7,0.7,1,1]
[null,null,null,8,0.8,0.8,1,1]
[null,null,null,9,0.9,0.9,1,1]
[null,null,null,10,1,1,1,1]
[null,null,null,11,1,1,1,1]
[null,null,null,12,1,1,1,1]
[null,null,null,13,1,1,1,1]
[null,null,null,14,1,1,1,1]
[null,null,null,15,1,1,1,1]
[null,null,null,16,1,1,1,1]
[null,null,null,17,1,1,1,1]
[null,null,null,18,1,1,1,1]
[null,null,null,19,1,1,1,1]
[null,null,null,20,1,1,1,1]
[null,null,null,21,1,1,1,1]
[null,null,null,22,{"$f":"IF($D24<=E$1,+$D24/E$1,1)","v":1},1,1,1]
[null,null,null,23,1,1,1,1]
[null,null,null,24,1,1,1,1]
[null,null,null,25,1,1,1,1]
[null,null,null,26,1,1,1,1]
[null,null,null,27,1,1,1,1]
[null,null,null,28,1,1,1,1]
[null,null,null,29,1,1,1,1]
[null,null,null,30,1,1,1,1]
[null,null,null,31,1,1,1,1]
[null,null,null,32,1,1,1,1]
[null,null,null,33,1,1,1,1]
[null,null,null,34,1,1,1,1]
[null,null,null,35,1,1,1,1]
[null,null,null,36,1,1,1,1]
[null,null,null,37,1,1,1,1]
[null,null,null,38,1,1,1,1]
[null,null,null,39,1,1,1,1]
[null,null,null,40,1,1,1,1]
[null,null,null,41,1,1,1,1]
[null,null,null,42,1,1,1,1]
[null,null,null,43,1,1,1,1]
[null,null,null,44,1,1,1,1]
[null,null,null,45,1,1,1,1]
[null,null,null,46,1,1,1,1]
[null,null,null,47,1,1,1,1]
[null,null,null,48,1,1,1,1]
[null,null,null,49,1,1,1,1]
[null,null,null,50,1,1,1,1]
[null,null,null,51,1,1,1,1]
[null,null,null,52,1,1,1,1]
[null,null,null,53,1,1,1,1]
[null,null,null,54,1,1,1,1]
[null,null,null,55,1,1,1,1]
[null,null,null,56,1,1,1,1]
[null,null,null,57,1,1,1,1]
[null,null,null,58,1,1,1,1]
[null,null,null,59,1,1,1,1]
[null,null,null,60,1,1,1,1]
[null,null,null,61,1,1,1,1]
[null,null,null,62,1,1,1,1]
[null,null,null,63,1,1,1,1]
[null,null,null,64,1,1,1,1]
[null,null,null,65,1,1,1,1]
[null,null,null,66,1,1,1,1]
[null,null,null,67,1,1,1,1]
[null,null,null,68,1,1,1,1]
[null,null,null,69,1,1,1,1]
[null,null,null,70,1,1,1,1]
[null,null,null,71,1,1,1,1]
[null,null,null,72,1,1,1,1]
[null,null,null,73,1,1,1,1]
[null,null,null,74,1,1,1,1]
[null,null,null,75,1,1,1,1]
[null,null,null,76,1,1,1,1]
[null,null,null,77,1,1,1,1]
[null,null,null,78,1,1,1,1]
[null,null,null,79,1,1,1,1]
[null,null,null,80,1,1,1,1]
[null,null,null,81,1,1,1,1]
[null,null,null,82,1,1,1,1]
[null,null,null,83,1,1,1,1]
[null,null,null,84,1,1,1,1]
[null,null,null,85,1,1,1,{"$f":"IF($D87<=H$1,+$D87/H$1,1)","v":1}]
[null,null,null,86,1,1,1,1]
[null,null,null,87,1,1,1,1]
[null,null,null,88,1,1,1,1]
[null,null,null,89,1,1,1,1]
[null,null,null,90,1,1,1,1]
[null,null,null,91,1,1,1,1]
[null,null,null,92,1,1,1,1]
[null,null,null,93,1,1,1,1]
[null,null,null,94,1,1,1,1]
[null,null,null,95,1,1,1,1]
[null,null,null,96,1,1,1,1]
[null,null,null,97,1,1,1,1]
[null,null,null,98,1,1,1,1]
[null,null,null,99,1,1,1,1]
[null,null,null,100,1,1,1,1]
[null,null,null,101,1,1,1,1]
[null,null,null,102,1,1,1,1]
[null,null,null,103,1,1,1,1]
[null,null,null,104,1,1,1,1]
[null,null,null,105,1,1,1,1]
[null,null,null,106,1,1,1,1]
[null,null,null,107,1,1,1,1]
[null,null,null,108,1,1,1,1]
[null,null,null,109,1,1,1,1]
[null,null,null,110,1,1,1,1]
[null,null,null,111,1,1,1,1]
[null,null,null,112,1,1,1,1]
[null,null,null,113,1,1,1,1]
[null,null,null,114,1,1,1,1]
[null,null,null,115,1,1,1,1]
[null,null,null,116,1,1,1,1]
[null,null,null,117,1,1,1,1]
[null,null,null,118,1,1,1,1]
[null,null,null,119,1,1,1,1]
[null,null,null,120,1,1,1,1]
[null,null,null,121,1,1,1,1]
[null,null,null,122,1,1,1,1]
[null,null,null,123,1,1,1,1]
[null,null,null,124,1,1,1,1]
[null,null,null,125,1,1,1,1]
[null,null,null,126,1,1,1,1]
[null,null,null,127,1,1,1,1]
[null,null,null,128,1,1,1,1]
[null,null,null,129,1,1,1,1]
[null,null,null,130,1,1,1,1]
[null,null,null,131,1,1,1,1]
[null,null,null,132,1,1,1,1]
[null,null,null,133,1,1,1,1]
[null,null,null,134,1,1,1,1]
[null,null,null,135,1,1,1,1]
[null,null,null,136,1,1,1,1]
[null,null,null,137,1,1,1,1]
[null,null,null,138,1,1,1,1]
[null,null,null,139,1,1,1,1]
[null,null,null,140,1,1,1,1]
[null,null,null,141,1,1,1,1]
[null,null,null,142,1,1,1,1]
[null,null,null,143,1,1,1,1]
[null,null,null,144,1,1,1,1]
[null,null,null,145,1,1,1,1]
[null,null,null,146,1,1,1,1]
[null,null,null,147,1,1,1,1]
[null,null,null,148,1,1,1,1]
[null,null,null,149,{"$f":"IF($D151<=E$1,+$D151/E$1,1)","v":1},1,1,1]
[null,null,null,150,1,1,1,1]
[null,null,null,151]
[null,null,null,152]
[null,null,null,153]
[null,null,null,154]
[null,null,null,155]
[null,null,null,156]
[null,null,null,157]
[null,null,null,158]
[null,null,null,159]
[null,null,null,160]
[null,null,null,161]
[null,null,null,162]
[null,null,null,163]
[null,null,null,164]
[null,null,null,165]
[null,null,null,166]
[null,null,null,167]
[null,null,null,168]
[null,null,null,169]
[null,null,null,170]
[null,null,null,171]
[null,null,null,172]
[null,null,null,173]
[null,null,null,174]
[null,null,null,175]
[null,null,null,176]
[null,null,null,177]
[null,null,null,178]
[null,null,null,179]
[null,null,null,180]
[null,null,null,181]
[null,null,null,182]
[null,null,null,183]
[null,null,null,184]
[null,null,null,185]
[null,null,null,186]

{"sheet":"Ark7","index":6,"n_rows":335,"n_cols":4,"rows_kept":335,"cut":false,"hidden":false,"merged":[]}
["2023-08-01",null,1,"januar"]
["2023-08-02",null,2,"februar"]
["2023-08-03",null,3,"marts"]
["2023-08-04",null,4,"april"]
["2023-08-05",null,5,"maj"]
["2023-08-06",null,6,"juni"]
["2023-08-07",null,7,"juli"]
["2023-08-08",null,8,"august"]
["2023-08-09",null,9,"september"]
["2023-08-10",null,10,"oktober"]
["2023-08-11",null,11,"november"]
["2023-08-12",null,12,"december"]
["2023-08-13"]
["2023-08-14"]
["2023-08-15"]
["2023-08-16"]
["2023-08-17"]
["2023-08-18"]
["2023-08-19"]
["2023-08-20"]
["2023-08-21"]
["2023-08-22"]
["2023-08-23"]
["2023-08-24"]
["2023-08-25"]
["2023-08-26"]
["2023-08-27"]
["2023-08-28"]
["2023-08-29"]
["2023-08-30"]
["2023-08-31"]
["2023-09-01"]
["2023-09-02"]
["2023-09-03"]
["2023-09-04"]
["2023-09-05"]
["2023-09-06"]
["2023-09-07"]
["2023-09-08"]
["2023-09-09"]
["2023-09-10"]
["2023-09-11"]
["2023-09-12"]
["2023-09-13"]
["2023-09-14"]
["2023-09-15"]
["2023-09-16"]
["2023-09-17"]
["2023-09-18"]
["2023-09-19"]
["2023-09-20"]
["2023-09-21"]
["2023-09-22"]
["2023-09-23"]
["2023-09-24"]
["2023-09-25"]
["2023-09-26"]
["2023-09-27"]
["2023-09-28"]
["2023-09-29"]
["2023-09-30"]
["2023-10-01"]
["2023-10-02"]
["2023-10-03"]
["2023-10-04"]
["2023-10-05"]
["2023-10-06"]
["2023-10-07"]
["2023-10-08"]
["2023-10-09"]
["2023-10-10"]
["2023-10-11"]
["2023-10-12"]
["2023-10-13"]
["2023-10-14"]
["2023-10-15"]
["2023-10-16"]
["2023-10-17"]
["2023-10-18"]
["2023-10-19"]
["2023-10-20"]
["2023-10-21"]
["2023-10-22"]
["2023-10-23"]
["2023-10-24"]
["2023-10-25"]
["2023-10-26"]
["2023-10-27"]
["2023-10-28"]
["2023-10-29"]
["2023-10-30"]
["2023-10-31"]
["2023-11-01"]
["2023-11-02"]
["2023-11-03"]
["2023-11-04"]
["2023-11-05"]
["2023-11-06"]
["2023-11-07"]
["2023-11-08"]
["2023-11-09"]
["2023-11-10"]
["2023-11-11"]
["2023-11-12"]
["2023-11-13"]
["2023-11-14"]
["2023-11-15"]
["2023-11-16"]
["2023-11-17"]
["2023-11-18"]
["2023-11-19"]
["2023-11-20"]
["2023-11-21"]
["2023-11-22"]
["2023-11-23"]
["2023-11-24"]
["2023-11-25"]
["2023-11-26"]
["2023-11-27"]
["2023-11-28"]
["2023-11-29"]
["2023-11-30"]
["2023-12-01"]
["2023-12-02"]
["2023-12-03"]
["2023-12-04"]
["2023-12-05"]
["2023-12-06"]
["2023-12-07"]
["2023-12-08"]
["2023-12-09"]
["2023-12-10"]
["2023-12-11"]
["2023-12-12"]
["2023-12-13"]
["2023-12-14"]
["2023-12-15"]
["2023-12-16"]
["2023-12-17"]
["2023-12-18"]
["2023-12-19"]
["2023-12-20"]
["2023-12-21"]
["2023-12-22"]
["2023-12-23"]
["2023-12-24"]
["2023-12-25"]
["2023-12-26"]
["2023-12-27"]
["2023-12-28"]
["2023-12-29"]
["2023-12-30"]
["2023-12-31"]
["2024-01-01"]
["2024-01-02"]
["2024-01-03"]
["2024-01-04"]
["2024-01-05"]
["2024-01-06"]
["2024-01-07"]
["2024-01-08"]
["2024-01-09"]
["2024-01-10"]
["2024-01-11"]
["2024-01-12"]
["2024-01-13"]
["2024-01-14"]
["2024-01-15"]
["2024-01-16"]
["2024-01-17"]
["2024-01-18"]
["2024-01-19"]
["2024-01-20"]
["2024-01-21"]
["2024-01-22"]
["2024-01-23"]
["2024-01-24"]
["2024-01-25"]
["2024-01-26"]
["2024-01-27"]
["2024-01-28"]
["2024-01-29"]
["2024-01-30"]
["2024-01-31"]
["2024-02-01"]
["2024-02-02"]
["2024-02-03"]
["2024-02-04"]
["2024-02-05"]
["2024-02-06"]
["2024-02-07"]
["2024-02-08"]
["2024-02-09"]
["2024-02-10"]
["2024-02-11"]
["2024-02-12"]
["2024-02-13"]
["2024-02-14"]
["2024-02-15"]
["2024-02-16"]
["2024-02-17"]
["2024-02-18"]
["2024-02-19"]
["2024-02-20"]
["2024-02-21"]
["2024-02-22"]
["2024-02-23"]
["2024-02-24"]
["2024-02-25"]
["2024-02-26"]
["2024-02-27"]
["2024-02-28"]
["2024-02-29"]
["2024-03-01"]
["2024-03-02"]
["2024-03-03"]
["2024-03-04"]
["2024-03-05"]
["2024-03-06"]
["2024-03-07"]
["2024-03-08"]
["2024-03-09"]
["2024-03-10"]
["2024-03-11"]
["2024-03-12"]
["2024-03-13"]
["2024-03-14"]
["2024-03-15"]
["2024-03-16"]
["2024-03-17"]
["2024-03-18"]
["2024-03-19"]
["2024-03-20"]
["2024-03-21"]
["2024-03-22"]
["2024-03-23"]
["2024-03-24"]
["2024-03-25"]
["2024-03-26"]
["2024-03-27"]
["2024-03-28"]
["2024-03-29"]
["2024-03-30"]
["2024-03-31"]
["2024-04-01"]
["2024-04-02"]
["2024-04-03"]
["2024-04-04"]
["2024-04-05"]
["2024-04-06"]
["2024-04-07"]
["2024-04-08"]
["2024-04-09"]
["2024-04-10"]
["2024-04-11"]
["2024-04-12"]
["2024-04-13"]
["2024-04-14"]
["2024-04-15"]
["2024-04-16"]
["2024-04-17"]
["2024-04-18"]
["2024-04-19"]
["2024-04-20"]
["2024-04-21"]
["2024-04-22"]
["2024-04-23"]
["2024-04-24"]
["2024-04-25"]
["2024-04-26"]
["2024-04-27"]
["2024-04-28"]
["2024-04-29"]
["2024-04-30"]
["2024-05-01"]
["2024-05-02"]
["2024-05-03"]
["2024-05-04"]
["2024-05-05"]
["2024-05-06"]
["2024-05-07"]
["2024-05-08"]
["2024-05-09"]
["2024-05-10"]
["2024-05-11"]
["2024-05-12"]
["2024-05-13"]
["2024-05-14"]
["2024-05-15"]
["2024-05-16"]
["2024-05-17"]
["2024-05-18"]
["2024-05-19"]
["2024-05-20"]
["2024-05-21"]
["2024-05-22"]
["2024-05-23"]
["2024-05-24"]
["2024-05-25"]
["2024-05-26"]
["2024-05-27"]
["2024-05-28"]
["2024-05-29"]
["2024-05-30"]
["2024-05-31"]
["2024-06-01"]
["2024-06-02"]
["2024-06-03"]
["2024-06-04"]
["2024-06-05"]
["2024-06-06"]
["2024-06-07"]
["2024-06-08"]
["2024-06-09"]
["2024-06-10"]
["2024-06-11"]
["2024-06-12"]
["2024-06-13"]
["2024-06-14"]
["2024-06-15"]
["2024-06-16"]
["2024-06-17"]
["2024-06-18"]
["2024-06-19"]
["2024-06-20"]
["2024-06-21"]
["2024-06-22"]
["2024-06-23"]
["2024-06-24"]
["2024-06-25"]
["2024-06-26"]
["2024-06-27"]
["2024-06-28"]
["2024-06-29"]
["2024-06-30"]

{"sheet":"Ark4","index":7,"n_rows":0,"n_cols":0,"rows_kept":0,"cut":false,"hidden":true,"merged":[]}